Workbook
Name end_date_graph: #REF!
Name end_date_HES: #REF!
Name end_date_pt_char: #REF!
Name start_date_graph: #REF!
Name start_date_pt_char: #REF!
Name TableTrusts: [2]Lists!$K$3:$K$123
Name TableTrusts: Lists!$K$3:$K$123

Sheet Cover sheet
D2: breastcanceraudits@rcseng.ac.uk
D3: https://www.natcan.org.uk/audits/primary-breast/
D4: @naopri-natcan.bsky.social
C8: Programme | D8: National Cancer Audit Collaborating Centre (NATCAN)
C9: Workstream | D9: National Audit of Primary Breast Cancer (NAoPri)
C10: Output title | D10: NAoPri State of the Nation Data tables
C11: Geographical coverage | D11: England and Wales
C12: Patient cohort* | D12: People diagnosed with primary breast cancer in England and Wales between 1st January 2021 and 31st December 2023
C13: Publication date | D13: 46275
C14: Publication type | D14: State of the Nation report
C15: Intended audience | D15: NHS trusts and NHS health boards providing breast cancer care; Multidisciplinary team (MDT)-nominated data lead, responsible for data entry and data quality
C16: Prepared by | D16: NAoPri team
C17: *Please see further information within the ‘Introduction’ tab.

Sheet Introduction
D2: breastcanceraudits@rcseng.ac.uk
D3: https://www.natcan.org.uk/audits/primary-breast/
D4: @naopri-natcan.bsky.social
C8: The purpose of the National Audit of Primary Breast Cancer (NAoPri) is to evaluate the patterns of care and outcomes for people diagnosed with primary breast cancer in England and Wales, and to support services to improve the quality of care for these people.
C10: NAoPri is part of the National Cancer Audit Collaborating Centre (NATCAN), the home of the ten national cancer audits in England and Wales. This national centre of excellence was established to strengthen cancer services by evaluating the process of diagnosis and treatment, and patient outcomes in multiple cancer sites.
C12: This is the third state of the nation published for the NAoPri. Data available to the audit for this quarterly report were based on patient-level records from the England cancer registry and from the NHS Wales Performance and Improvment Team ("Gold standard" data).
C14: For people treated in England, NATCAN receives the data from the National Cancer Registration and Analysis Service (NCRAS), part of the National Disease Registration Service (NDRS) within NHS England (digital.nhs.uk). NDRS collects patient-level data from all NHS organisations on people with cancer using a range of national data-feeds. This includes the Cancer Registration datasets and the Cancer Outcomes and Services Dataset (COSD). COSD data are submitted to the NDRS on a monthly basis via Multidisciplinary Team (MDT) electronic data collection systems. Clinical sign-off of data submitted to NDRS is not mandated in England. The information held in the Cancer Registration dataset is compiled from a number of sources. For people treated in Wales, NATCAN receives the data from the NHS Wales Performance & Improvement Team in Public Health Wales. They provide patient-level data from the Cancer Network Information System Cymru (CaNISC) electronic patient record system and from the Cancer Dataset Form (CDF).
C16: The NAoPri cohort is all people diagnosed with breast cancer from 1st January 2021 to 31st December 2023 with stage recorded as 0-3, or missing, and no metastatic breast cancer recorded in HESAPC data within six months of diagnosis.
B18: Table of contents
C19: Cover sheet
C20: Introduction
C21: =HYPERLINK("#Explanations!A1","Explanations") -> Explanations
C22: =HYPERLINK("#Acknowledgments!A1","Acknowledgments") -> Acknowledgments
C23: View_Completeness | D23: Data viewer for data completeness
C24: View_Indicators | D24: Data viewer for indicators
C25: View_Patient_Characteristics | D25: Data viewer for patient characteristics
C26: Data_completeness | D26: Data completeness data table | F26: See View_ Completeness
C27: Indicator 1: TDA | D27: Percentage of people who underwent triple diagnostic assessment (TDA) in a single hospital visit. | F27: The information found in these tables can be accessed at the Unit/ Alliance level from the View_ Indicators worksheet.
C28: Indicator 2: CNS | D28: Percentage of people who had contact with a Clinical Nurse Specialist (CNS) recorded after diagnosis.
C29: Indicator 3: Surgery | D29: Percentage of people who had i) breast-conserving surgery or ii) mastectomy within 12 months of diagnosis.
C30: Indicator 4: NACT | D30: Percentage of people who received neo-adjuvant chemotherapy.
C31: Indicator 5: RTX | D31: Percentage of people who received adjuvant radiotherapy following i) breast-conserving surgery and ii) mastectomy.
C32: Indicator 6: SACT | D32: Percentage of people who received any chemotherapy.
C33: Indicator 7: Immed Recon | D33: Percentage of women who had an immediate reconstruction following a mastectomy.
C34: Indicator 8: Reoperations | D34: Percentage of people who had re-operation with 12 months of their initial breast conserving surgery.
C35: Indicator 10: Survival | D35: Three year breast cancer specific survival.

Sheet Explanations
D2: breastcanceraudits@rcseng.ac.uk
D3: https://www.natcan.org.uk/audits/primary-breast/
D4: @naopri-natcan.bsky.social
B9: User Guide
C11: This cell is located on each of the "View_Completeness", "View_Indicators" and "Patient Characteristics" worksheets and contains a dropdown menu where the user can select an NHS organisation or indicator
B14: NDRS Data Improvement Leads
C15: For individuals at NHS trusts, the local Data Improvement Lead at NDRS for your geographical region will be able to help you find out information about the Cancer Outcomes and Services Dataset (COSD) submissions for your NHS trust.
C16: Please refer to our FAQ #23 for current NDRS regional contacts - https://www.natcan.org.uk/faqs/#trust-and-he: How do I check the completeness of my cancer data submissions to NDRS?
C17: Please find the list of NAoPri key COSD data items here -https://www.natcan.org.uk/library/naopri-key-data-items/
B19: Acronym | C19: Description
B20: CaNISC | C20: Cancer Network Information System Cymru (Wales)
B21: CDF | C21: Cancer Dataset Forms (Wales)
B22: COSD | C22: Cancer Outcomes and Services Dataset
B23: HESAPC | C23: Hospital Episode Statistics Admitted Patient Care data
B24: IMD | C24: Index of Multiple Deprivation
B25: NHS | C25: National Health Service
B26: NAoPri | C26: National Audit of Primary Breast Cancer
B27: NR | C27: Not reported (data missing)
B28: PEDW | C28: Patient Episode Database for Wales
B29: PS | C29: WHO Performance Status
B30: SCARF | C30: Secondary Care Administrative Records Frailty Index
B33: NAoPri cohort
C34: The NAoPri cohort is all people diagnosed with breast cancer with stage recorded as 0-3, or missing, and no metastatic breast cancer recorded in HESAPC (England) or PEDW (Wales) data within six months of diagnosis.
B36: Cohort exclusions
C37: People are excluded from NAoPri if: place of diagnosis is a non-NHS organisation, the NHS organisation diagnosed less than 30 people with breast cancer annually (primary and metastatic breast cancer combined) or the NHS-organisation is a tertiary treatment centre. Summary level national figures do include people with no place of diagnosis. However, people are excluded from indicators if no place of diagnosis is recorded as it is not clear where they would be placed.
B39: Methods
C40: Please see the State of the Nation Methodology document.

Sheet Acknowledgments
D2: breastcanceraudits@rcseng.ac.uk
D3: https://www.natcan.org.uk/audits/primary-breast/
D4: @naopri-natcan.bsky.social
C9: This report was prepared by members of the NAoPri project team: • Kieran Horgan, Surgical Lead • David Dodwell, Clinical Oncology Lead • Mark Verrill, Medical Oncology Lead Team members in the Clinical Effectiveness Unit, RCS England: • Sarah Blacker, NAoPri Clinical Research Fellow • Jemma Boyle, NAoPri Senior Clinical Research Fellow • Liyang Wang, NAoPri Clinical Research Fellow • Christine Delon, NAoPri Data Scientist • Diana Withrow, NAoPri Methodologist • David Cromwell, NAoPri Senior Methodologist • Robert Douce, NAoPri Project Manager
C11: Citation for this document: National Audit of Primary Breast Cancer: State of the Nation Data Table September 2026. London: Royal College of Surgeons of England, 2026. © 2026 Healthcare Quality Improvement Partnership (HQIP) Copyright All rights reserved. No part of this publication may be reproduced in any form (including photocopying or storing it in any medium by electronic means and whether or not transiently or incidentally to some other use of this publication) without the written permission of the copyright owner. Applications for the copyright owner’s written permission to reproduce any part of this publication should be addressed to the publisher.
C13: The Royal College of Surgeons of England is an independent professional body committed to enabling surgeons to achieve and maintain the highest standards of surgical practice and patient care. As part of this it supports Audit and the evaluation of clinical effectiveness for surgery. Registered Charity no: 212808
C15: The Association of Breast Surgery is a registered charity dedicated to advancing the practice of breast surgery and the management of breast conditions for the benefit of the public. It is a multi-professional membership association which promotes training, education, clinical trials and guideline composition and adoption. For further information, please refer to the website www.associationofbreastsurgery.org.uk. Registered charity no: 1135699 The UK Breast Cancer Group (UKBCG) is a forum for Clinical and Medical Oncologists. The UKBCG acts as a stakeholder to NICE, NHS England and other organisations; and undertakes key pieces of work, at times in collaboration with other bodies, with the overriding endpoint of improving patient care. The Group’s objectives include advancing the education of clinical and medical oncologists in the subject of breast cancer, concerning its identification, diagnosis and treatment; promoting research for the public benefit in all aspects of breast cancer and publishing the results; and assisting in the treatment and care of persons suffering from breast cancer, or in need of rehabilitation, by the provision of education for healthcare professionals. Further information on the work of the UKBCG is communicated via this website on a regular basis https://ukbcg.org/. Registered charity no: 1177296
C17: The National Cancer Audit Collaborating Centre (NATCAN) is commissioned by the Healthcare Quality Improvement Partnership (HQIP) as part of the National Clinical Audit and Patient Outcomes Programme (NCAPOP). NATCAN delivers national cancer audits in non-Hodgkin lymphoma, bowel, breast-primary, breast-metastatic, oesophago-gastric, ovarian, kidney, lung, pancreatic and prostate cancers. HQIP is led by a consortium of the Academy of Medical Royal Colleges, and the Royal College of Nursing. Its aim is to promote quality improvement in patient outcomes, and in particular, to increase the impact that clinical audit, outcome review programmes and registries have on healthcare quality in England and Wales. HQIP holds the contract to commission, manage and develop the National Clinical Audit and Patient Outcomes Programme (NCAPOP), comprising around 40 projects covering care provided to people with a wide range of medical, surgical and mental health conditions. The programme is funded by NHS England, the Welsh Government and, with some individual projects, other devolved administrations and crown dependencies. https://www.hqip.org.uk/national-programmes
C19: Cancer Registration This work uses data that has been provided by patients and collected by the NHS as part of their care and support, including data that is collated, maintained and quality assured by the National Disease Registration Service (NDRS), which is part of NHS England, and the NHS Wales Performance and Improvement Team in Public Health Wales.

Sheet View_Completeness
D1: NAoPri 2026 State of the Nation Annual Report | U1: Material to hide in columns right of here
D2: Data Viewer : data completeness
AB5: England and Wales | AC5: K04000001 | AG5: Offset All trusts | AH5: 1
AB6: England | AC6: E92000001 | AG6: Offset Alliance | AH6: 4
AB7: Wales | AC7: W92000004
B8: Please select a NHS ORGANISATION from the dropdown box below: | F8: Organisation Code
C9: Airedale NHS Foundation Trust | F9: =V10 -> RCF | V9: Trust code | W9: Alliance code | X9: National Code | Y9: National Name | AF9: Rand scatter | AG9: trust_code | AH9: X-value | AI9: Y-value | AJ9: Alliance | AK9: Trust | AL9: Alliance Avg | AM9: =$Z$16 -> England and Wales | AN9: Row
V10: =INDEX(Lists!$A$2:$F$123,MATCH(View_Completeness!$C$9,Lists!$A$2:$A$123,0),2) -> RCF | W10: =INDEX(Lists!$A$2:$F$123,MATCH(View_Completeness!$C$9,Lists!$A$2:$A$123,0),4) -> E56000030 | X10: =INDEX(Lists!$A$2:$F$123,MATCH(View_Completeness!$C$9,Lists!$A$2:$A$123,0),6) -> E92000001 | Y10: =INDEX(Lists!$A$2:$F$123,MATCH(View_Completeness!$C$9,Lists!$A$2:$A$123,0),5) -> England | AF10: 0.71089869 | AG10: 7A1 | AH10: =AH$5+AF10 -> 1.7108987 | AI10: {=IF(ISNA($W$14),NA(), INDEX(Data_completeness!$A$15:$T$158,AN10,AC$44))} -> 0.70474 | AM10: =IF(ISERROR($W$14),NA(),VLOOKUP(AA$16,Data_completeness!$E$15:$T$158,$AC$44-4,FALSE)) -> 0.71183 | AN10: =MATCH(View_Completeness!AG10,Data_completeness!$E$15:$E$158,0) -> 5
C11: =IF(LEFT($V$10,1)="7","This NHS breast unit is in Wales",V11) -> This selected NHS breast unit is within the | D11: =IF(LEFT($V$10,1)="7","",W11) -> West Yorkshire and Harrogate Cancer Alliance | V11: This selected NHS breast unit is within the | W11: =INDEX(Lists!$A$2:$F$123,MATCH(View_Completeness!$C$9,Lists!$A$2:$A$123,0),3)&" Cancer Alliance" -> West Yorkshire and Harrogate Cancer Alliance | AF11: 0.62061212 | AG11: 7A2 | AH11: =AH$5+AF11 -> 1.6206121 | AI11: {=IF(ISNA($W$14),NA(), INDEX(Data_completeness!$A$15:$T$158,AN11,AC$44))} -> 0.79588 | AM11: =IF(ISERROR($W$14),NA(),VLOOKUP(AA$16,Data_completeness!$E$15:$T$158,$AC$44-4,FALSE)) -> 0.71183 | AN11: =MATCH(View_Completeness!AG11,Data_completeness!$E$15:$E$158,0) -> 7
W12: =IF(Y10="Wales",Y10,"the "&W11) -> the West Yorkshire and Harrogate Cancer Alliance | AF12: 0.84638145 | AG12: 7A3 | AH12: =AH$5+AF12 -> 1.8463815 | AI12: {=IF(ISNA($W$14),NA(), INDEX(Data_completeness!$A$15:$T$158,AN12,AC$44))} -> 0.82905 | AM12: =IF(ISERROR($W$14),NA(),VLOOKUP(AA$16,Data_completeness!$E$15:$T$158,$AC$44-4,FALSE)) -> 0.71183 | AN12: =MATCH(View_Completeness!AG12,Data_completeness!$E$15:$E$158,0) -> 8
B13: Please select a DATA QUALITY metric from the dropdown box for further exploration | G13: Target for data completeness: | W13: Short-metric name | AF13: 0.2305287 | AG13: 7A4 | AH13: =AH$5+AF13 -> 1.2305287 | AI13: {=IF(ISNA($W$14),NA(), INDEX(Data_completeness!$A$15:$T$158,AN13,AC$44))} -> 0.60814 | AM13: =IF(ISERROR($W$14),NA(),VLOOKUP(AA$16,Data_completeness!$E$15:$T$158,$AC$44-4,FALSE)) -> 0.71183 | AN13: =MATCH(View_Completeness!AG13,Data_completeness!$E$15:$E$158,0) -> 9
C14: Data completeness for ER status, HER2 status and stage | G14: 0.9 | H14: (90% recommended) | W14: =INDEX(Lists!$A$132:$F$142,MATCH(View_Completeness!$C$14,Lists!$A$132:$A$142,0),5) -> ER status, HER2 status and stage all complete | X14: =IF(ISNA(W14),NA(),X10) -> E92000001 | AF14: 0.88010617 | AG14: 7A5 | AH14: =AH$5+AF14 -> 1.8801062 | AI14: {=IF(ISNA($W$14),NA(), INDEX(Data_completeness!$A$15:$T$158,AN14,AC$44))} -> 0.83001 | AM14: =IF(ISERROR($W$14),NA(),VLOOKUP(AA$16,Data_completeness!$E$15:$T$158,$AC$44-4,FALSE)) -> 0.71183 | AN14: =MATCH(View_Completeness!AG14,Data_completeness!$E$15:$E$158,0) -> 6
B15: Data quality metrics are reported as proportion of records with complete values | Z15: Indicator coverage | AA15: Denom Code | AF15: 0.65120325 | AG15: 7A6 | AH15: =AH$5+AF15 -> 1.6512032 | AI15: {=IF(ISNA($W$14),NA(), INDEX(Data_completeness!$A$15:$T$158,AN15,AC$44))} -> 0.43135 | AM15: =IF(ISERROR($W$14),NA(),VLOOKUP(AA$16,Data_completeness!$E$15:$T$158,$AC$44-4,FALSE)) -> 0.71183 | AN15: =MATCH(View_Completeness!AG15,Data_completeness!$E$15:$E$158,0) -> 4
Z16: =INDEX(Lists!$A$131:$I$141,MATCH(View_Completeness!$C$14,Lists!$A$131:$A$141,0),9) -> England and Wales | AA16: =VLOOKUP(Z16,$AB$5:$AC$7,2,FALSE) -> K04000001 | AF16: 0.1481481 | AG16: RJR | AH16: =AH$5+AF16 -> 1.1481481 | AI16: {=IF(ISNA($W$14),NA(), INDEX(Data_completeness!$A$15:$T$158,AN16,AC$44))} -> 0.27504 | AM16: =IF(ISERROR($W$14),NA(),VLOOKUP(AA$16,Data_completeness!$E$15:$T$158,$AC$44-4,FALSE)) -> 0.71183 | AN16: =MATCH(View_Completeness!AG16,Data_completeness!$E$15:$E$158,0) -> 11
C17: Data items on which data completeness target is met: | D17: =COUNTIF(D$25:D$26,">"&$G$14)+COUNTIF(D$28:D$31,">"&$G$14)+COUNTIF(D$34:D$35,">"&$G$14) -> 5 | E17: out of 8 (excludes TDA and PR status) | AF17: 0.16025546 | AG17: RJN | AH17: =AH$5+AF17 -> 1.1602555 | AI17: {=IF(ISNA($W$14),NA(), INDEX(Data_completeness!$A$15:$T$158,AN17,AC$44))} -> 0.70293 | AM17: =IF(ISERROR($W$14),NA(),VLOOKUP(AA$16,Data_completeness!$E$15:$T$158,$AC$44-4,FALSE)) -> 0.71183 | AN17: =MATCH(View_Completeness!AG17,Data_completeness!$E$15:$E$158,0) -> 12
AF18: 0.59372232 | AG18: REM | AH18: =AH$5+AF18 -> 1.5937223 | AI18: {=IF(ISNA($W$14),NA(), INDEX(Data_completeness!$A$15:$T$158,AN18,AC$44))} -> 0.79789 | AM18: =IF(ISERROR($W$14),NA(),VLOOKUP(AA$16,Data_completeness!$E$15:$T$158,$AC$44-4,FALSE)) -> 0.71183 | AN18: =MATCH(View_Completeness!AG18,Data_completeness!$E$15:$E$158,0) -> 13
B19: ="Table 1: Completeness of data for "&C9 -> Table 1: Completeness of data for Airedale NHS Foundation Trust | AF19: 0.35435889 | AG19: RBN | AH19: =AH$5+AF19 -> 1.3543589 | AI19: {=IF(ISNA($W$14),NA(), INDEX(Data_completeness!$A$15:$T$158,AN19,AC$44))} -> 0.83249 | AM19: =IF(ISERROR($W$14),NA(),VLOOKUP(AA$16,Data_completeness!$E$15:$T$158,$AC$44-4,FALSE)) -> 0.71183 | AN19: =MATCH(View_Completeness!AG19,Data_completeness!$E$15:$E$158,0) -> 14
D20: Breast Unit | E20: Alliance | F20: =Y10 -> England | V20: Col | W20: Breast Unit | X20: Alliance | Y20: Nation | AF20: 0.35517053 | AG20: RBT | AH20: =AH$5+AF20 -> 1.3551705 | AI20: {=IF(ISNA($W$14),NA(), INDEX(Data_completeness!$A$15:$T$158,AN20,AC$44))} -> 0.68056 | AM20: =IF(ISERROR($W$14),NA(),VLOOKUP(AA$16,Data_completeness!$E$15:$T$158,$AC$44-4,FALSE)) -> 0.71183 | AN20: =MATCH(View_Completeness!AG20,Data_completeness!$E$15:$E$158,0) -> 15
B21: No. of people with breast cancer | D21: =IF(ISERROR(W21),"N/A",W21) -> 510 | E21: =IF(ISERROR(X21),"N/A",X21) -> 5823 | F21: =IF(ISERROR(Y21),"N/A",Y21) -> 138032 | V21: 3 | W21: =IFERROR(VLOOKUP(V$10,Data_completeness!$E$15:$T$158,$V21,FALSE),"") -> 510 | X21: =IFERROR(VLOOKUP(W$10,Data_completeness!$E$14:$T$157,$V21,FALSE),"") -> 5823 | Y21: =VLOOKUP(X$10,Data_completeness!$E$14:$T$157,$V21,FALSE) -> 138032 | AF21: 0.28963133 | AG21: RWW | AH21: =AH$5+AF21 -> 1.2896313 | AI21: {=IF(ISNA($W$14),NA(), INDEX(Data_completeness!$A$15:$T$158,AN21,AC$44))} -> 0.76969 | AM21: =IF(ISERROR($W$14),NA(),VLOOKUP(AA$16,Data_completeness!$E$15:$T$158,$AC$44-4,FALSE)) -> 0.71183 | AN21: =MATCH(View_Completeness!AG21,Data_completeness!$E$15:$E$158,0) -> 17
C22: No. of people with non-invasive disease | D22: =IF(ISERROR(W22),"N/A",W22) -> 48 | E22: =IF(ISERROR(X22),"N/A",X22) -> 679 | F22: =IF(ISERROR(Y22),"N/A",Y22) -> 14816 | V22: 4 | W22: =IFERROR(VLOOKUP(V$10,Data_completeness!$E$15:$T$158,$V22,FALSE),"") -> 48 | X22: =IFERROR(VLOOKUP(W$10,Data_completeness!$E$14:$T$157,$V22,FALSE),"") -> 679 | Y22: =VLOOKUP(X$10,Data_completeness!$E$14:$T$157,$V22,FALSE) -> 14816 | AF22: 0.94985245 | AG22: RBL | AH22: =AH$5+AF22 -> 1.9498524 | AI22: {=IF(ISNA($W$14),NA(), INDEX(Data_completeness!$A$15:$T$158,AN22,AC$44))} -> 0.62668 | AM22: =IF(ISERROR($W$14),NA(),VLOOKUP(AA$16,Data_completeness!$E$15:$T$158,$AC$44-4,FALSE)) -> 0.71183 | AN22: =MATCH(View_Completeness!AG22,Data_completeness!$E$15:$E$158,0) -> 16
C23: No. of people with invasive disease | D23: =IF(ISERROR(W23),"N/A",W23) -> 462 | E23: =IF(ISERROR(X23),"N/A",X23) -> 5144 | F23: =IF(ISERROR(Y23),"N/A",Y23) -> 123216 | V23: 5 | W23: =IFERROR(VLOOKUP(V$10,Data_completeness!$E$15:$T$158,$V23,FALSE),"") -> 462 | X23: =IFERROR(VLOOKUP(W$10,Data_completeness!$E$14:$T$157,$V23,FALSE),"") -> 5144 | Y23: =VLOOKUP(X$10,Data_completeness!$E$14:$T$157,$V23,FALSE) -> 123216 | AF23: 0.75729141 | AG23: RFS | AH23: =AH$5+AF23 -> 1.7572914 | AI23: {=IF(ISNA($W$14),NA(), INDEX(Data_completeness!$A$15:$T$158,AN23,AC$44))} -> 0.74972 | AM23: =IF(ISERROR($W$14),NA(),VLOOKUP(AA$16,Data_completeness!$E$15:$T$158,$AC$44-4,FALSE)) -> 0.71183 | AN23: =MATCH(View_Completeness!AG23,Data_completeness!$E$15:$E$158,0) -> 19
B24: Data items covering all people diagnosed with breast cancer | U24: 6 not used this is n with no staging | X24: =IFERROR(VLOOKUP(W$10,Data_completeness!$E$14:$T$157,$V24,FALSE),"") | AF24: 0.54491887 | AG24: RNQ | AH24: =AH$5+AF24 -> 1.5449189 | AI24: {=IF(ISNA($W$14),NA(), INDEX(Data_completeness!$A$15:$T$158,AN24,AC$44))} -> 0.5 | AM24: =IF(ISERROR($W$14),NA(),VLOOKUP(AA$16,Data_completeness!$E$15:$T$158,$AC$44-4,FALSE)) -> 0.71183 | AN24: =MATCH(View_Completeness!AG24,Data_completeness!$E$15:$E$158,0) -> 20
C25: Clinical nurse specialist | D25: =IF(ISERROR(W25),"N/A",W25) -> 0.96078 | E25: =IF(ISERROR(X25),"N/A",X25) -> 0.9131 | F25: =IF(ISERROR(Y25),"N/A",Y25) -> 0.80484 | V25: 7 | W25: =IFERROR(VLOOKUP(V$10,Data_completeness!$E$15:$T$158,$V25,FALSE),"") -> 0.96078 | X25: =IFERROR(VLOOKUP(W$10,Data_completeness!$E$14:$T$157,$V25,FALSE),"") -> 0.9131 | Y25: =VLOOKUP(X$10,Data_completeness!$E$14:$T$157,$V25,FALSE) -> 0.80484 | AF25: 0.55204428 | AG25: RNS | AH25: =AH$5+AF25 -> 1.5520443 | AI25: {=IF(ISNA($W$14),NA(), INDEX(Data_completeness!$A$15:$T$158,AN25,AC$44))} -> 0.80449 | AM25: =IF(ISERROR($W$14),NA(),VLOOKUP(AA$16,Data_completeness!$E$15:$T$158,$AC$44-4,FALSE)) -> 0.71183 | AN25: =MATCH(View_Completeness!AG25,Data_completeness!$E$15:$E$158,0) -> 21
C26: Triple diagnostic assessment (TDA)* | D26: =IF(ISERROR(W26),"N/A",W26) -> 0 | E26: =IF(ISERROR(X26),"N/A",X26) -> 0 | F26: =IF(ISERROR(Y26),"N/A",Y26) -> 0 | V26: 8 | W26: =IFERROR(VLOOKUP(V$10,Data_completeness!$E$15:$T$158,$V26,FALSE),"") -> 0 | X26: =IFERROR(VLOOKUP(W$10,Data_completeness!$E$14:$T$157,$V26,FALSE),"") -> 0 | Y26: =VLOOKUP(X$10,Data_completeness!$E$14:$T$157,$V26,FALSE) -> 0 | AF26: 0.039867194 | AG26: RX1 | AH26: =AH$5+AF26 -> 1.0398672 | AI26: {=IF(ISNA($W$14),NA(), INDEX(Data_completeness!$A$15:$T$158,AN26,AC$44))} -> 0.71215 | AM26: =IF(ISERROR($W$14),NA(),VLOOKUP(AA$16,Data_completeness!$E$15:$T$158,$AC$44-4,FALSE)) -> 0.71183 | AN26: =MATCH(View_Completeness!AG26,Data_completeness!$E$15:$E$158,0) -> 22
C27: Tumour grade | D27: =IF(ISERROR(W27),"N/A",W27) -> 0.96471 | E27: =IF(ISERROR(X27),"N/A",X27) -> 0.94848 | F27: =IF(ISERROR(Y27),"N/A",Y27) -> 0.95808 | V27: 14 | W27: =IFERROR(VLOOKUP(V$10,Data_completeness!$E$15:$T$158,$V27,FALSE),"") -> 0.96471 | X27: =IFERROR(VLOOKUP(W$10,Data_completeness!$E$14:$T$157,$V27,FALSE),"") -> 0.94848 | Y27: =VLOOKUP(X$10,Data_completeness!$E$14:$T$157,$V27,FALSE) -> 0.95808 | AF27: 0.79728731 | AG27: RK5 | AH27: =AH$5+AF27 -> 1.7972873 | AI27: {=IF(ISNA($W$14),NA(), INDEX(Data_completeness!$A$15:$T$158,AN27,AC$44))} -> 0.86312 | AM27: =IF(ISERROR($W$14),NA(),VLOOKUP(AA$16,Data_completeness!$E$15:$T$158,$AC$44-4,FALSE)) -> 0.71183 | AN27: =MATCH(View_Completeness!AG27,Data_completeness!$E$15:$E$158,0) -> 23
C28: Overall stage | D28: =IF(ISERROR(W28),"N/A",W28) -> 0.98824 | E28: =IF(ISERROR(X28),"N/A",X28) -> 0.93131 | F28: =IF(ISERROR(Y28),"N/A",Y28) -> 0.92409 | V28: 12 | W28: =IFERROR(VLOOKUP(V$10,Data_completeness!$E$15:$T$158,$V28,FALSE),"") -> 0.98824 | X28: =IFERROR(VLOOKUP(W$10,Data_completeness!$E$14:$T$157,$V28,FALSE),"") -> 0.93131 | Y28: =VLOOKUP(X$10,Data_completeness!$E$14:$T$157,$V28,FALSE) -> 0.92409 | AF28: 0.18247419 | AG28: RWD | AH28: =AH$5+AF28 -> 1.1824742 | AI28: {=IF(ISNA($W$14),NA(), INDEX(Data_completeness!$A$15:$T$158,AN28,AC$44))} -> 0.85394 | AM28: =IF(ISERROR($W$14),NA(),VLOOKUP(AA$16,Data_completeness!$E$15:$T$158,$AC$44-4,FALSE)) -> 0.71183 | AN28: =MATCH(View_Completeness!AG28,Data_completeness!$E$15:$E$158,0) -> 26
C29: Oestrogen receptor (ER) Status | D29: =IF(ISERROR(W29),"N/A",W29) -> 0.92941 | E29: =IF(ISERROR(X29),"N/A",X29) -> 0.80749 | F29: =IF(ISERROR(Y29),"N/A",Y29) -> 0.85214 | V29: 9 | W29: =IFERROR(VLOOKUP(V$10,Data_completeness!$E$15:$T$158,$V29,FALSE),"") -> 0.92941 | X29: =IFERROR(VLOOKUP(W$10,Data_completeness!$E$14:$T$157,$V29,FALSE),"") -> 0.80749 | Y29: =VLOOKUP(X$10,Data_completeness!$E$14:$T$157,$V29,FALSE) -> 0.85214 | AF29: 0.99272966 | AG29: RTG | AH29: =AH$5+AF29 -> 1.9927297 | AI29: {=IF(ISNA($W$14),NA(), INDEX(Data_completeness!$A$15:$T$158,AN29,AC$44))} -> 0.69404 | AM29: =IF(ISERROR($W$14),NA(),VLOOKUP(AA$16,Data_completeness!$E$15:$T$158,$AC$44-4,FALSE)) -> 0.71183 | AN29: =MATCH(View_Completeness!AG29,Data_completeness!$E$15:$E$158,0) -> 24
C30: HER2 Status | D30: =IF(ISERROR(W30),"N/A",W30) -> 0.81961 | E30: =IF(ISERROR(X30),"N/A",X30) -> 0.73811 | F30: =IF(ISERROR(Y30),"N/A",Y30) -> 0.77156 | V30: 10 | W30: =IFERROR(VLOOKUP(V$10,Data_completeness!$E$15:$T$158,$V30,FALSE),"") -> 0.81961 | X30: =IFERROR(VLOOKUP(W$10,Data_completeness!$E$14:$T$157,$V30,FALSE),"") -> 0.73811 | Y30: =VLOOKUP(X$10,Data_completeness!$E$14:$T$157,$V30,FALSE) -> 0.77156 | AF30: 0.18578942 | AG30: RWE | AH30: =AH$5+AF30 -> 1.1857894 | AI30: {=IF(ISNA($W$14),NA(), INDEX(Data_completeness!$A$15:$T$158,AN30,AC$44))} -> 0.73998 | AM30: =IF(ISERROR($W$14),NA(),VLOOKUP(AA$16,Data_completeness!$E$15:$T$158,$AC$44-4,FALSE)) -> 0.71183 | AN30: =MATCH(View_Completeness!AG30,Data_completeness!$E$15:$E$158,0) -> 25
C31: Progesterone receptor (PR) status | D31: =IF(ISERROR(W31),"N/A",W31) -> 0.84706 | E31: =IF(ISERROR(X31),"N/A",X31) -> 0.75665 | F31: =IF(ISERROR(Y31),"N/A",Y31) -> 0.68824 | V31: 11 | W31: =IFERROR(VLOOKUP(V$10,Data_completeness!$E$15:$T$158,$V31,FALSE),"") -> 0.84706 | X31: =IFERROR(VLOOKUP(W$10,Data_completeness!$E$14:$T$157,$V31,FALSE),"") -> 0.75665 | Y31: =VLOOKUP(X$10,Data_completeness!$E$14:$T$157,$V31,FALSE) -> 0.68824 | AF31: 0.084623897 | AG31: RC9 | AH31: =AH$5+AF31 -> 1.0846239 | AI31: {=IF(ISNA($W$14),NA(), INDEX(Data_completeness!$A$15:$T$158,AN31,AC$44))} -> 0.81805 | AM31: =IF(ISERROR($W$14),NA(),VLOOKUP(AA$16,Data_completeness!$E$15:$T$158,$AC$44-4,FALSE)) -> 0.71183 | AN31: =MATCH(View_Completeness!AG31,Data_completeness!$E$15:$E$158,0) -> 28
C32: ER status, HER2 status and stage all complete | D32: =IF(ISERROR(W32),"N/A",W32) -> 0.81373 | E32: =IF(ISERROR(X32),"N/A",X32) -> 0.6713 | F32: =IF(ISERROR(Y32),"N/A",Y32) -> 0.71328 | V32: 13 | W32: =IFERROR(VLOOKUP(V$10,Data_completeness!$E$15:$T$158,$V32,FALSE),"") -> 0.81373 | X32: =IFERROR(VLOOKUP(W$10,Data_completeness!$E$14:$T$157,$V32,FALSE),"") -> 0.6713 | Y32: =VLOOKUP(X$10,Data_completeness!$E$14:$T$157,$V32,FALSE) -> 0.71328 | AF32: 0.0027406959 | AG32: RGT | AH32: =AH$5+AF32 -> 1.0027407 | AI32: {=IF(ISNA($W$14),NA(), INDEX(Data_completeness!$A$15:$T$158,AN32,AC$44))} -> 0.84064 | AM32: =IF(ISERROR($W$14),NA(),VLOOKUP(AA$16,Data_completeness!$E$15:$T$158,$AC$44-4,FALSE)) -> 0.71183 | AN32: =MATCH(View_Completeness!AG32,Data_completeness!$E$15:$E$158,0) -> 29
B33: Data items covering people with invasive disease | X33: =IFERROR(VLOOKUP(W$10,Data_completeness!$E$14:$T$157,$V33,FALSE),"") | AF33: 0.20066927 | AG33: RWH | AH33: =AH$5+AF33 -> 1.2006693 | AI33: {=IF(ISNA($W$14),NA(), INDEX(Data_completeness!$A$15:$T$158,AN33,AC$44))} -> 0.6405 | AM33: =IF(ISERROR($W$14),NA(),VLOOKUP(AA$16,Data_completeness!$E$15:$T$158,$AC$44-4,FALSE)) -> 0.71183 | AN33: =MATCH(View_Completeness!AG33,Data_completeness!$E$15:$E$158,0) -> 38
C34: T Stage | D34: =IF(ISERROR(W34),"N/A",W34) -> 0.98485 | E34: =IF(ISERROR(X34),"N/A",X34) -> 0.93351 | F34: =IF(ISERROR(Y34),"N/A",Y34) -> 0.90995 | V34: 15 | W34: =IFERROR(VLOOKUP(V$10,Data_completeness!$E$15:$T$158,$V34,FALSE),"") -> 0.98485 | X34: =IFERROR(VLOOKUP(W$10,Data_completeness!$E$14:$T$157,$V34,FALSE),"") -> 0.93351 | Y34: =VLOOKUP(X$10,Data_completeness!$E$14:$T$157,$V34,FALSE) -> 0.90995 | AF34: 0.60455333 | AG34: RDE | AH34: =AH$5+AF34 -> 1.6045533 | AI34: {=IF(ISNA($W$14),NA(), INDEX(Data_completeness!$A$15:$T$158,AN34,AC$44))} -> 0.82896 | AM34: =IF(ISERROR($W$14),NA(),VLOOKUP(AA$16,Data_completeness!$E$15:$T$158,$AC$44-4,FALSE)) -> 0.71183 | AN34: =MATCH(View_Completeness!AG34,Data_completeness!$E$15:$E$158,0) -> 30
C35: N Stage | D35: =IF(ISERROR(W35),"N/A",W35) -> 0.98918 | E35: =IF(ISERROR(X35),"N/A",X35) -> 0.92263 | F35: =IF(ISERROR(Y35),"N/A",Y35) -> 0.89858 | V35: 16 | W35: =IFERROR(VLOOKUP(V$10,Data_completeness!$E$15:$T$158,$V35,FALSE),"") -> 0.98918 | X35: =IFERROR(VLOOKUP(W$10,Data_completeness!$E$14:$T$157,$V35,FALSE),"") -> 0.92263 | Y35: =VLOOKUP(X$10,Data_completeness!$E$14:$T$157,$V35,FALSE) -> 0.89858 | AC35: (used for conditional formating) | AF35: 0.060307848 | AG35: RGP | AH35: =AH$5+AF35 -> 1.0603078 | AI35: {=IF(ISNA($W$14),NA(), INDEX(Data_completeness!$A$15:$T$158,AN35,AC$44))} -> 0.68586 | AM35: =IF(ISERROR($W$14),NA(),VLOOKUP(AA$16,Data_completeness!$E$15:$T$158,$AC$44-4,FALSE)) -> 0.71183 | AN35: =MATCH(View_Completeness!AG35,Data_completeness!$E$15:$E$158,0) -> 31
AF36: 0.62227784 | AG36: RAJ | AH36: =AH$5+AF36 -> 1.6222778 | AI36: {=IF(ISNA($W$14),NA(), INDEX(Data_completeness!$A$15:$T$158,AN36,AC$44))} -> 0.77234 | AM36: =IF(ISERROR($W$14),NA(),VLOOKUP(AA$16,Data_completeness!$E$15:$T$158,$AC$44-4,FALSE)) -> 0.71183 | AN36: =MATCH(View_Completeness!AG36,Data_completeness!$E$15:$E$158,0) -> 32
B37: KEY: | C37: HER2 status = human epidermal growth factor receptor 2 status | AF37: 0.24680091 | AG37: RD8 | AH37: =AH$5+AF37 -> 1.2468009 | AI37: {=IF(ISNA($W$14),NA(), INDEX(Data_completeness!$A$15:$T$158,AN37,AC$44))} -> 0.81486 | AM37: =IF(ISERROR($W$14),NA(),VLOOKUP(AA$16,Data_completeness!$E$15:$T$158,$AC$44-4,FALSE)) -> 0.71183 | AN37: =MATCH(View_Completeness!AG37,Data_completeness!$E$15:$E$158,0) -> 33
C38: * Denominator excludes women referred from breast screening | AF38: 0.97699632 | AG38: RM1 | AH38: =AH$5+AF38 -> 1.9769963 | AI38: {=IF(ISNA($W$14),NA(), INDEX(Data_completeness!$A$15:$T$158,AN38,AC$44))} -> 0.67399 | AM38: =IF(ISERROR($W$14),NA(),VLOOKUP(AA$16,Data_completeness!$E$15:$T$158,$AC$44-4,FALSE)) -> 0.71183 | AN38: =MATCH(View_Completeness!AG38,Data_completeness!$E$15:$E$158,0) -> 34
AF39: 0.98950262 | AG39: RGN | AH39: =AH$5+AF39 -> 1.9895026 | AI39: {=IF(ISNA($W$14),NA(), INDEX(Data_completeness!$A$15:$T$158,AN39,AC$44))} -> 0.77998 | AM39: =IF(ISERROR($W$14),NA(),VLOOKUP(AA$16,Data_completeness!$E$15:$T$158,$AC$44-4,FALSE)) -> 0.71183 | AN39: =MATCH(View_Completeness!AG39,Data_completeness!$E$15:$E$158,0) -> 35
B40: ="Table 2: Completeness of data for NHS breast units within "&W12 -> Table 2: Completeness of data for NHS breast units within the West Yorkshire and Harrogate Cancer Alliance | AD40: Target | AF40: 0.09196575 | AG40: RQW | AH40: =AH$5+AF40 -> 1.0919658 | AI40: {=IF(ISNA($W$14),NA(), INDEX(Data_completeness!$A$15:$T$158,AN40,AC$44))} -> 0.85123 | AM40: =IF(ISERROR($W$14),NA(),VLOOKUP(AA$16,Data_completeness!$E$15:$T$158,$AC$44-4,FALSE)) -> 0.71183 | AN40: =MATCH(View_Completeness!AG40,Data_completeness!$E$15:$E$158,0) -> 39
C41: ="on the metric: "&C14 -> on the metric: Data completeness for ER status, HER2 status and stage | AD41: =$G$14 -> 0.9 | AF41: 0.55983028 | AG41: RCX | AH41: =AH$5+AF41 -> 1.5598303 | AI41: {=IF(ISNA($W$14),NA(), INDEX(Data_completeness!$A$15:$T$158,AN41,AC$44))} -> 0.8796 | AM41: =IF(ISERROR($W$14),NA(),VLOOKUP(AA$16,Data_completeness!$E$15:$T$158,$AC$44-4,FALSE)) -> 0.71183 | AN41: =MATCH(View_Completeness!AG41,Data_completeness!$E$15:$E$158,0) -> 40
B42: Code | C42: NHS organisation | E42: Denominator (N) | F42: Proportion complete (%) | AF42: 0.63810854 | AG42: RWG | AH42: =AH$5+AF42 -> 1.6381085 | AI42: {=IF(ISNA($W$14),NA(), INDEX(Data_completeness!$A$15:$T$158,AN42,AC$44))} -> 0.85688 | AM42: =IF(ISERROR($W$14),NA(),VLOOKUP(AA$16,Data_completeness!$E$15:$T$158,$AC$44-4,FALSE)) -> 0.71183 | AN42: =MATCH(View_Completeness!AG42,Data_completeness!$E$15:$E$158,0) -> 36
F43: =IF(J22="N/A","","Target (%): "&$AD$41*100) -> Target (%): 90 | V43: Col | W43: Lookup | X43: Trust | Y43: Code | Z43: Denom value | AA43: Value | AB43: Denom col | AC43: Metric col | AD43: Row | AF43: 0.026226413 | AG43: RGR | AH43: =AH$5+AF43 -> 1.0262264 | AI43: {=IF(ISNA($W$14),NA(), INDEX(Data_completeness!$A$15:$T$158,AN43,AC$44))} -> 0.9 | AM43: =IF(ISERROR($W$14),NA(),VLOOKUP(AA$16,Data_completeness!$E$15:$T$158,$AC$44-4,FALSE)) -> 0.71183 | AN43: =MATCH(View_Completeness!AG43,Data_completeness!$E$15:$E$158,0) -> 37
B44: =IF(ISERROR(Y44),"",Y44) -> RCF | C44: =IF(ISERROR(X44),"",X44) -> Airedale NHS Foundation Trust | E44: =IF(ISERROR(Z44),"",Z44) -> 510 | F44: =IF(ISERROR(AA44),"",AA44) -> 0.81373 | V44: 1 | W44: =V44&"x"&RIGHT(W$10,3) -> 1x030 | X44: =IFERROR(INDEX(Lists!$A$2:$H$123,MATCH(View_Completeness!$W44,Lists!$G$2:$G$123,0),1),"") -> Airedale NHS Foundation Trust | Y44: =IFERROR(INDEX(Lists!$A$2:$H$123,MATCH(View_Completeness!$W44,Lists!$G$2:$G$123,0),2),"") -> RCF | Z44: {=IFERROR(INDEX(Data_completeness!$A$15:T$158,AD44,AB44),"")} -> 510 | AA44: {=IFERROR(INDEX(Data_completeness!$A$15:T$158,AD44,AC44),"")} -> 0.81373 | AB44: =VLOOKUP(View_Completeness!C$14,Lists!$A$131:$C$141,3,FALSE) -> 7 | AC44: =VLOOKUP(View_Completeness!C$14,Lists!$A$131:$B$141,2,FALSE) -> 17 | AD44: =IFERROR(MATCH(View_Completeness!Y44,Data_completeness!$E$15:$E$158,0),"") -> 139 | AF44: 0.10329913 | AG44: RMC | AH44: =AH$5+AF44 -> 1.1032991 | AI44: {=IF(ISNA($W$14),NA(), INDEX(Data_completeness!$A$15:$T$158,AN44,AC$44))} -> 0.9466 | AM44: =IF(ISERROR($W$14),NA(),VLOOKUP(AA$16,Data_completeness!$E$15:$T$158,$AC$44-4,FALSE)) -> 0.71183 | AN44: =MATCH(View_Completeness!AG44,Data_completeness!$E$15:$E$158,0) -> 42
B45: =IF(ISERROR(Y45),"",Y45) -> RAE | C45: =IF(ISERROR(X45),"",X45) -> Bradford Teaching Hospitals NHS Foundation Trust | E45: =IF(ISERROR(Z45),"",Z45) -> 840 | F45: =IF(ISERROR(AA45),"",AA45) -> 0.63095 | V45: 2 | W45: =V45&"x"&RIGHT(W$10,3) -> 2x030 | X45: =IFERROR(INDEX(Lists!$A$2:$H$123,MATCH(View_Completeness!$W45,Lists!$G$2:$G$123,0),1),"") -> Bradford Teaching Hospitals NHS Foundation Trust | Y45: =IFERROR(INDEX(Lists!$A$2:$H$123,MATCH(View_Completeness!$W45,Lists!$G$2:$G$123,0),2),"") -> RAE | Z45: {=IFERROR(INDEX(Data_completeness!$A$15:T$158,AD45,AB45),"")} -> 840 | AA45: {=IFERROR(INDEX(Data_completeness!$A$15:T$158,AD45,AC45),"")} -> 0.63095 | AB45: =VLOOKUP(View_Completeness!C$14,Lists!$A$131:$C$141,3,FALSE) -> 7 | AC45: =VLOOKUP(View_Completeness!C$14,Lists!$A$131:$B$141,2,FALSE) -> 17 | AD45: =IFERROR(MATCH(View_Completeness!Y45,Data_completeness!$E$15:$E$158,0),"") -> 140 | AF45: 0.09864622 | AG45: R0A | AH45: =AH$5+AF45 -> 1.0986462 | AI45: {=IF(ISNA($W$14),NA(), INDEX(Data_completeness!$A$15:$T$158,AN45,AC$44))} -> 0.56117 | AM45: =IF(ISERROR($W$14),NA(),VLOOKUP(AA$16,Data_completeness!$E$15:$T$158,$AC$44-4,FALSE)) -> 0.71183 | AN45: =MATCH(View_Completeness!AG45,Data_completeness!$E$15:$E$158,0) -> 43
B46: =IF(ISERROR(Y46),"",Y46) -> RWY | C46: =IF(ISERROR(X46),"",X46) -> Calderdale and Huddersfield NHS Foundation Trust | E46: =IF(ISERROR(Z46),"",Z46) -> 973 | F46: =IF(ISERROR(AA46),"",AA46) -> 0.81398 | V46: 3 | W46: =V46&"x"&RIGHT(W$10,3) -> 3x030 | X46: =IFERROR(INDEX(Lists!$A$2:$H$123,MATCH(View_Completeness!$W46,Lists!$G$2:$G$123,0),1),"") -> Calderdale and Huddersfield NHS Foundation Trust | Y46: =IFERROR(INDEX(Lists!$A$2:$H$123,MATCH(View_Completeness!$W46,Lists!$G$2:$G$123,0),2),"") -> RWY | Z46: {=IFERROR(INDEX(Data_completeness!$A$15:T$158,AD46,AB46),"")} -> 973 | AA46: {=IFERROR(INDEX(Data_completeness!$A$15:T$158,AD46,AC46),"")} -> 0.81398 | AB46: =VLOOKUP(View_Completeness!C$14,Lists!$A$131:$C$141,3,FALSE) -> 7 | AC46: =VLOOKUP(View_Completeness!C$14,Lists!$A$131:$B$141,2,FALSE) -> 17 | AD46: =IFERROR(MATCH(View_Completeness!Y46,Data_completeness!$E$15:$E$158,0),"") -> 141 | AF46: 0.94547771 | AG46: RM3 | AH46: =AH$5+AF46 -> 1.9454777 | AI46: {=IF(ISNA($W$14),NA(), INDEX(Data_completeness!$A$15:$T$158,AN46,AC$44))} -> 0.65608 | AM46: =IF(ISERROR($W$14),NA(),VLOOKUP(AA$16,Data_completeness!$E$15:$T$158,$AC$44-4,FALSE)) -> 0.71183 | AN46: =MATCH(View_Completeness!AG46,Data_completeness!$E$15:$E$158,0) -> 44
B47: =IF(ISERROR(Y47),"",Y47) -> RCD | C47: =IF(ISERROR(X47),"",X47) -> Harrogate and District NHS Foundation Trust | E47: =IF(ISERROR(Z47),"",Z47) -> 487 | F47: =IF(ISERROR(AA47),"",AA47) -> 0.80287 | V47: 4 | W47: =V47&"x"&RIGHT(W$10,3) -> 4x030 | X47: =IFERROR(INDEX(Lists!$A$2:$H$123,MATCH(View_Completeness!$W47,Lists!$G$2:$G$123,0),1),"") -> Harrogate and District NHS Foundation Trust | Y47: =IFERROR(INDEX(Lists!$A$2:$H$123,MATCH(View_Completeness!$W47,Lists!$G$2:$G$123,0),2),"") -> RCD | Z47: {=IFERROR(INDEX(Data_completeness!$A$15:T$158,AD47,AB47),"")} -> 487 | AA47: {=IFERROR(INDEX(Data_completeness!$A$15:T$158,AD47,AC47),"")} -> 0.80287 | AB47: =VLOOKUP(View_Completeness!C$14,Lists!$A$131:$C$141,3,FALSE) -> 7 | AC47: =VLOOKUP(View_Completeness!C$14,Lists!$A$131:$B$141,2,FALSE) -> 17 | AD47: =IFERROR(MATCH(View_Completeness!Y47,Data_completeness!$E$15:$E$158,0),"") -> 142 | AF47: 0.18324584 | AG47: RMP | AH47: =AH$5+AF47 -> 1.1832458 | AI47: {=IF(ISNA($W$14),NA(), INDEX(Data_completeness!$A$15:$T$158,AN47,AC$44))} -> 0.54637 | AM47: =IF(ISERROR($W$14),NA(),VLOOKUP(AA$16,Data_completeness!$E$15:$T$158,$AC$44-4,FALSE)) -> 0.71183 | AN47: =MATCH(View_Completeness!AG47,Data_completeness!$E$15:$E$158,0) -> 45
B48: =IF(ISERROR(Y48),"",Y48) -> RR8 | C48: =IF(ISERROR(X48),"",X48) -> Leeds Teaching Hospitals NHS Trust | E48: =IF(ISERROR(Z48),"",Z48) -> 1910 | F48: =IF(ISERROR(AA48),"",AA48) -> 0.50419 | V48: 5 | W48: =V48&"x"&RIGHT(W$10,3) -> 5x030 | X48: =IFERROR(INDEX(Lists!$A$2:$H$123,MATCH(View_Completeness!$W48,Lists!$G$2:$G$123,0),1),"") -> Leeds Teaching Hospitals NHS Trust | Y48: =IFERROR(INDEX(Lists!$A$2:$H$123,MATCH(View_Completeness!$W48,Lists!$G$2:$G$123,0),2),"") -> RR8 | Z48: {=IFERROR(INDEX(Data_completeness!$A$15:T$158,AD48,AB48),"")} -> 1910 | AA48: {=IFERROR(INDEX(Data_completeness!$A$15:T$158,AD48,AC48),"")} -> 0.50419 | AB48: =VLOOKUP(View_Completeness!C$14,Lists!$A$131:$C$141,3,FALSE) -> 7 | AC48: =VLOOKUP(View_Completeness!C$14,Lists!$A$131:$B$141,2,FALSE) -> 17 | AD48: =IFERROR(MATCH(View_Completeness!Y48,Data_completeness!$E$15:$E$158,0),"") -> 143 | AF48: 0.5984322 | AG48: RRF | AH48: =AH$5+AF48 -> 1.5984322 | AI48: {=IF(ISNA($W$14),NA(), INDEX(Data_completeness!$A$15:$T$158,AN48,AC$44))} -> 0.82224 | AM48: =IF(ISERROR($W$14),NA(),VLOOKUP(AA$16,Data_completeness!$E$15:$T$158,$AC$44-4,FALSE)) -> 0.71183 | AN48: =MATCH(View_Completeness!AG48,Data_completeness!$E$15:$E$158,0) -> 46
B49: =IF(ISERROR(Y49),"",Y49) -> RXF | C49: =IF(ISERROR(X49),"",X49) -> Mid Yorkshire Teaching NHS Trust | E49: =IF(ISERROR(Z49),"",Z49) -> 1103 | F49: =IF(ISERROR(AA49),"",AA49) -> 0.74161 | V49: 6 | W49: =V49&"x"&RIGHT(W$10,3) -> 6x030 | X49: =IFERROR(INDEX(Lists!$A$2:$H$123,MATCH(View_Completeness!$W49,Lists!$G$2:$G$123,0),1),"") -> Mid Yorkshire Teaching NHS Trust | Y49: =IFERROR(INDEX(Lists!$A$2:$H$123,MATCH(View_Completeness!$W49,Lists!$G$2:$G$123,0),2),"") -> RXF | Z49: {=IFERROR(INDEX(Data_completeness!$A$15:T$158,AD49,AB49),"")} -> 1103 | AA49: {=IFERROR(INDEX(Data_completeness!$A$15:T$158,AD49,AC49),"")} -> 0.74161 | AB49: =VLOOKUP(View_Completeness!C$14,Lists!$A$131:$C$141,3,FALSE) -> 7 | AC49: =VLOOKUP(View_Completeness!C$14,Lists!$A$131:$B$141,2,FALSE) -> 17 | AD49: =IFERROR(MATCH(View_Completeness!Y49,Data_completeness!$E$15:$E$158,0),"") -> 144 | AF49: 0.21516445 | AG49: RWA | AH49: =AH$5+AF49 -> 1.2151645 | AI49: {=IF(ISNA($W$14),NA(), INDEX(Data_completeness!$A$15:$T$158,AN49,AC$44))} -> 0.79197 | AM49: =IF(ISERROR($W$14),NA(),VLOOKUP(AA$16,Data_completeness!$E$15:$T$158,$AC$44-4,FALSE)) -> 0.71183 | AN49: =MATCH(View_Completeness!AG49,Data_completeness!$E$15:$E$158,0) -> 48
B50: =IF(ISERROR(Y50),"",Y50) | C50: =IF(ISERROR(X50),"",X50) | E50: =IF(ISERROR(Z50),"",Z50) | F50: =IF(ISERROR(AA50),"",AA50) | V50: 7 | W50: =V50&"x"&RIGHT(W$10,3) -> 7x030 | X50: =IFERROR(INDEX(Lists!$A$2:$H$123,MATCH(View_Completeness!$W50,Lists!$G$2:$G$123,0),1),"") | Y50: =IFERROR(INDEX(Lists!$A$2:$H$123,MATCH(View_Completeness!$W50,Lists!$G$2:$G$123,0),2),"") | Z50: {=IFERROR(INDEX(Data_completeness!$A$15:T$158,AD50,AB50),"")} | AA50: {=IFERROR(INDEX(Data_completeness!$A$15:T$158,AD50,AC50),"")} | AB50: =VLOOKUP(View_Completeness!C$14,Lists!$A$131:$C$141,3,FALSE) -> 7 | AC50: =VLOOKUP(View_Completeness!C$14,Lists!$A$131:$B$141,2,FALSE) -> 17 | AD50: =IFERROR(MATCH(View_Completeness!Y50,Data_completeness!$E$15:$E$158,0),"") | AF50: 0.81158762 | AG50: RJL | AH50: =AH$5+AF50 -> 1.8115876 | AI50: {=IF(ISNA($W$14),NA(), INDEX(Data_completeness!$A$15:$T$158,AN50,AC$44))} -> 0.83721 | AM50: =IF(ISERROR($W$14),NA(),VLOOKUP(AA$16,Data_completeness!$E$15:$T$158,$AC$44-4,FALSE)) -> 0.71183 | AN50: =MATCH(View_Completeness!AG50,Data_completeness!$E$15:$E$158,0) -> 49
B51: =IF(ISERROR(Y51),"",Y51) | C51: =IF(ISERROR(X51),"",X51) | E51: =IF(ISERROR(Z51),"",Z51) | F51: =IF(ISERROR(AA51),"",AA51) | V51: 8 | W51: =V51&"x"&RIGHT(W$10,3) -> 8x030 | X51: =IFERROR(INDEX(Lists!$A$2:$H$123,MATCH(View_Completeness!$W51,Lists!$G$2:$G$123,0),1),"") | Y51: =IFERROR(INDEX(Lists!$A$2:$H$123,MATCH(View_Completeness!$W51,Lists!$G$2:$G$123,0),2),"") | Z51: {=IFERROR(INDEX(Data_completeness!$A$15:T$158,AD51,AB51),"")} | AA51: {=IFERROR(INDEX(Data_completeness!$A$15:T$158,AD51,AC51),"")} | AB51: =VLOOKUP(View_Completeness!C$14,Lists!$A$131:$C$141,3,FALSE) -> 7 | AC51: =VLOOKUP(View_Completeness!C$14,Lists!$A$131:$B$141,2,FALSE) -> 17 | AD51: =IFERROR(MATCH(View_Completeness!Y51,Data_completeness!$E$15:$E$158,0),"") | AF51: 0.099861714 | AG51: RCB | AH51: =AH$5+AF51 -> 1.0998617 | AI51: {=IF(ISNA($W$14),NA(), INDEX(Data_completeness!$A$15:$T$158,AN51,AC$44))} -> 0.87207 | AM51: =IF(ISERROR($W$14),NA(),VLOOKUP(AA$16,Data_completeness!$E$15:$T$158,$AC$44-4,FALSE)) -> 0.71183 | AN51: =MATCH(View_Completeness!AG51,Data_completeness!$E$15:$E$158,0) -> 50
B52: =IF(ISERROR(Y52),"",Y52) | C52: =IF(ISERROR(X52),"",X52) | E52: =IF(ISERROR(Z52),"",Z52) | F52: =IF(ISERROR(AA52),"",AA52) | V52: 9 | W52: =V52&"x"&RIGHT(W$10,3) -> 9x030 | X52: =IFERROR(INDEX(Lists!$A$2:$H$123,MATCH(View_Completeness!$W52,Lists!$G$2:$G$123,0),1),"") | Y52: =IFERROR(INDEX(Lists!$A$2:$H$123,MATCH(View_Completeness!$W52,Lists!$G$2:$G$123,0),2),"") | Z52: {=IFERROR(INDEX(Data_completeness!$A$15:T$158,AD52,AB52),"")} | AA52: {=IFERROR(INDEX(Data_completeness!$A$15:T$158,AD52,AC52),"")} | AB52: =VLOOKUP(View_Completeness!C$14,Lists!$A$131:$C$141,3,FALSE) -> 7 | AC52: =VLOOKUP(View_Completeness!C$14,Lists!$A$131:$B$141,2,FALSE) -> 17 | AD52: =IFERROR(MATCH(View_Completeness!Y52,Data_completeness!$E$15:$E$158,0),"") | AF52: 0.28595832 | AG52: RN7 | AH52: =AH$5+AF52 -> 1.2859583 | AI52: {=IF(ISNA($W$14),NA(), INDEX(Data_completeness!$A$15:$T$158,AN52,AC$44))} -> 0.61864 | AM52: =IF(ISERROR($W$14),NA(),VLOOKUP(AA$16,Data_completeness!$E$15:$T$158,$AC$44-4,FALSE)) -> 0.71183 | AN52: =MATCH(View_Completeness!AG52,Data_completeness!$E$15:$E$158,0) -> 52
B53: =IF(ISERROR(Y53),"",Y53) | C53: =IF(ISERROR(X53),"",X53) | E53: =IF(ISERROR(Z53),"",Z53) | F53: =IF(ISERROR(AA53),"",AA53) | V53: 10 | W53: =V53&"x"&RIGHT(W$10,3) -> 10x030 | X53: =IFERROR(INDEX(Lists!$A$2:$H$123,MATCH(View_Completeness!$W53,Lists!$G$2:$G$123,0),1),"") | Y53: =IFERROR(INDEX(Lists!$A$2:$H$123,MATCH(View_Completeness!$W53,Lists!$G$2:$G$123,0),2),"") | Z53: {=IFERROR(INDEX(Data_completeness!$A$15:T$158,AD53,AB53),"")} | AA53: {=IFERROR(INDEX(Data_completeness!$A$15:T$158,AD53,AC53),"")} | AB53: =VLOOKUP(View_Completeness!C$14,Lists!$A$131:$C$141,3,FALSE) -> 7 | AC53: =VLOOKUP(View_Completeness!C$14,Lists!$A$131:$B$141,2,FALSE) -> 17 | AD53: =IFERROR(MATCH(View_Completeness!Y53,Data_completeness!$E$15:$E$158,0),"") | AF53: 0.015137611 | AG53: RVV | AH53: =AH$5+AF53 -> 1.0151376 | AI53: {=IF(ISNA($W$14),NA(), INDEX(Data_completeness!$A$15:$T$158,AN53,AC$44))} -> 0.84658 | AM53: =IF(ISERROR($W$14),NA(),VLOOKUP(AA$16,Data_completeness!$E$15:$T$158,$AC$44-4,FALSE)) -> 0.71183 | AN53: =MATCH(View_Completeness!AG53,Data_completeness!$E$15:$E$158,0) -> 53
B54: =IF(ISERROR(Y54),"",Y54) | C54: =IF(ISERROR(X54),"",X54) | E54: =IF(ISERROR(Z54),"",Z54) | F54: =IF(ISERROR(AA54),"",AA54) | V54: 11 | W54: =V54&"x"&RIGHT(W$10,3) -> 11x030 | X54: =IFERROR(INDEX(Lists!$A$2:$H$123,MATCH(View_Completeness!$W54,Lists!$G$2:$G$123,0),1),"") | Y54: =IFERROR(INDEX(Lists!$A$2:$H$123,MATCH(View_Completeness!$W54,Lists!$G$2:$G$123,0),2),"") | Z54: {=IFERROR(INDEX(Data_completeness!$A$15:T$158,AD54,AB54),"")} | AA54: {=IFERROR(INDEX(Data_completeness!$A$15:T$158,AD54,AC54),"")} | AB54: =VLOOKUP(View_Completeness!C$14,Lists!$A$131:$C$141,3,FALSE) -> 7 | AC54: =VLOOKUP(View_Completeness!C$14,Lists!$A$131:$B$141,2,FALSE) -> 17 | AD54: =IFERROR(MATCH(View_Completeness!Y54,Data_completeness!$E$15:$E$158,0),"") | AF54: 0.53656937 | AG54: RWF | AH54: =AH$5+AF54 -> 1.5365694 | AI54: {=IF(ISNA($W$14),NA(), INDEX(Data_completeness!$A$15:$T$158,AN54,AC$44))} -> 0.5194 | AM54: =IF(ISERROR($W$14),NA(),VLOOKUP(AA$16,Data_completeness!$E$15:$T$158,$AC$44-4,FALSE)) -> 0.71183 | AN54: =MATCH(View_Completeness!AG54,Data_completeness!$E$15:$E$158,0) -> 54
B55: =IF(ISERROR(Y55),"",Y55) | C55: =IF(ISERROR(X55),"",X55) | E55: =IF(ISERROR(Z55),"",Z55) | F55: =IF(ISERROR(AA55),"",AA55) | V55: 12 | W55: =V55&"x"&RIGHT(W$10,3) -> 12x030 | X55: =IFERROR(INDEX(Lists!$A$2:$H$123,MATCH(View_Completeness!$W55,Lists!$G$2:$G$123,0),1),"") | Y55: =IFERROR(INDEX(Lists!$A$2:$H$123,MATCH(View_Completeness!$W55,Lists!$G$2:$G$123,0),2),"") | Z55: {=IFERROR(INDEX(Data_completeness!$A$15:T$158,AD55,AB55),"")} | AA55: {=IFERROR(INDEX(Data_completeness!$A$15:T$158,AD55,AC55),"")} | AB55: =VLOOKUP(View_Completeness!C$14,Lists!$A$131:$C$141,3,FALSE) -> 7 | AC55: =VLOOKUP(View_Completeness!C$14,Lists!$A$131:$B$141,2,FALSE) -> 17 | AD55: =IFERROR(MATCH(View_Completeness!Y55,Data_completeness!$E$15:$E$158,0),"") | AF55: 0.19093131 | AG55: RPA | AH55: =AH$5+AF55 -> 1.1909313 | AI55: {=IF(ISNA($W$14),NA(), INDEX(Data_completeness!$A$15:$T$158,AN55,AC$44))} -> 0.55898 | AM55: =IF(ISERROR($W$14),NA(),VLOOKUP(AA$16,Data_completeness!$E$15:$T$158,$AC$44-4,FALSE)) -> 0.71183 | AN55: =MATCH(View_Completeness!AG55,Data_completeness!$E$15:$E$158,0) -> 55
B56: =IF(ISERROR(Y56),"",Y56) | C56: =IF(ISERROR(X56),"",X56) | E56: =IF(ISERROR(Z56),"",Z56) | F56: =IF(ISERROR(AA56),"",AA56) | V56: 13 | W56: =V56&"x"&RIGHT(W$10,3) -> 13x030 | X56: =IFERROR(INDEX(Lists!$A$2:$H$123,MATCH(View_Completeness!$W56,Lists!$G$2:$G$123,0),1),"") | Y56: =IFERROR(INDEX(Lists!$A$2:$H$123,MATCH(View_Completeness!$W56,Lists!$G$2:$G$123,0),2),"") | Z56: {=IFERROR(INDEX(Data_completeness!$A$15:T$158,AD56,AB56),"")} | AA56: {=IFERROR(INDEX(Data_completeness!$A$15:T$158,AD56,AC56),"")} | AB56: =VLOOKUP(View_Completeness!C$14,Lists!$A$131:$C$141,3,FALSE) -> 7 | AC56: =VLOOKUP(View_Completeness!C$14,Lists!$A$131:$B$141,2,FALSE) -> 17 | AD56: =IFERROR(MATCH(View_Completeness!Y56,Data_completeness!$E$15:$E$158,0),"") | AF56: 0.77105726 | AG56: RXL | AH56: =AH$5+AF56 -> 1.7710573 | AI56: {=IF(ISNA($W$14),NA(), INDEX(Data_completeness!$A$15:$T$158,AN56,AC$44))} -> 0.85414 | AM56: =IF(ISERROR($W$14),NA(),VLOOKUP(AA$16,Data_completeness!$E$15:$T$158,$AC$44-4,FALSE)) -> 0.71183 | AN56: =MATCH(View_Completeness!AG56,Data_completeness!$E$15:$E$158,0) -> 57
AF57: 0.27243592 | AG57: RXR | AH57: =AH$5+AF57 -> 1.2724359 | AI57: {=IF(ISNA($W$14),NA(), INDEX(Data_completeness!$A$15:$T$158,AN57,AC$44))} -> 0.84338 | AM57: =IF(ISERROR($W$14),NA(),VLOOKUP(AA$16,Data_completeness!$E$15:$T$158,$AC$44-4,FALSE)) -> 0.71183 | AN57: =MATCH(View_Completeness!AG57,Data_completeness!$E$15:$E$158,0) -> 58
B58: ="Figure: Completeness of data on the metric: "&C14 -> Figure: Completeness of data on the metric: Data completeness for ER status, HER2 status and stage | AF58: 0.42841046 | AG58: RXN | AH58: =AH$5+AF58 -> 1.4284105 | AI58: {=IF(ISNA($W$14),NA(), INDEX(Data_completeness!$A$15:$T$158,AN58,AC$44))} -> 0.84632 | AM58: =IF(ISERROR($W$14),NA(),VLOOKUP(AA$16,Data_completeness!$E$15:$T$158,$AC$44-4,FALSE)) -> 0.71183 | AN58: =MATCH(View_Completeness!AG58,Data_completeness!$E$15:$E$158,0) -> 59
AF59: 0.12812757 | AG59: RTX | AH59: =AH$5+AF59 -> 1.1281276 | AI59: {=IF(ISNA($W$14),NA(), INDEX(Data_completeness!$A$15:$T$158,AN59,AC$44))} -> 0.81144 | AM59: =IF(ISERROR($W$14),NA(),VLOOKUP(AA$16,Data_completeness!$E$15:$T$158,$AC$44-4,FALSE)) -> 0.71183 | AN59: =MATCH(View_Completeness!AG59,Data_completeness!$E$15:$E$158,0) -> 60
AF60: 0.24221597 | AG60: RAL | AH60: =AH$5+AF60 -> 1.242216 | AI60: {=IF(ISNA($W$14),NA(), INDEX(Data_completeness!$A$15:$T$158,AN60,AC$44))} -> 0.59124 | AM60: =IF(ISERROR($W$14),NA(),VLOOKUP(AA$16,Data_completeness!$E$15:$T$158,$AC$44-4,FALSE)) -> 0.71183 | AN60: =MATCH(View_Completeness!AG60,Data_completeness!$E$15:$E$158,0) -> 62
AF61: 0.46040222 | AG61: RRV | AH61: =AH$5+AF61 -> 1.4604022 | AI61: {=IF(ISNA($W$14),NA(), INDEX(Data_completeness!$A$15:$T$158,AN61,AC$44))} -> 0.50949 | AM61: =IF(ISERROR($W$14),NA(),VLOOKUP(AA$16,Data_completeness!$E$15:$T$158,$AC$44-4,FALSE)) -> 0.71183 | AN61: =MATCH(View_Completeness!AG61,Data_completeness!$E$15:$E$158,0) -> 63
AF62: 0.19525886 | AG62: RKE | AH62: =AH$5+AF62 -> 1.1952589 | AI62: {=IF(ISNA($W$14),NA(), INDEX(Data_completeness!$A$15:$T$158,AN62,AC$44))} -> 0.54206 | AM62: =IF(ISERROR($W$14),NA(),VLOOKUP(AA$16,Data_completeness!$E$15:$T$158,$AC$44-4,FALSE)) -> 0.71183 | AN62: =MATCH(View_Completeness!AG62,Data_completeness!$E$15:$E$158,0) -> 64
AF63: 0.26856531 | AG63: RF4 | AH63: =AH$5+AF63 -> 1.2685653 | AI63: {=IF(ISNA($W$14),NA(), INDEX(Data_completeness!$A$15:$T$158,AN63,AC$44))} -> 0.66541 | AM63: =IF(ISERROR($W$14),NA(),VLOOKUP(AA$16,Data_completeness!$E$15:$T$158,$AC$44-4,FALSE)) -> 0.71183 | AN63: =MATCH(View_Completeness!AG63,Data_completeness!$E$15:$E$158,0) -> 66
AF64: 0.16292528 | AG64: R1H | AH64: =AH$5+AF64 -> 1.1629253 | AI64: {=IF(ISNA($W$14),NA(), INDEX(Data_completeness!$A$15:$T$158,AN64,AC$44))} -> 0.6728 | AM64: =IF(ISERROR($W$14),NA(),VLOOKUP(AA$16,Data_completeness!$E$15:$T$158,$AC$44-4,FALSE)) -> 0.71183 | AN64: =MATCH(View_Completeness!AG64,Data_completeness!$E$15:$E$158,0) -> 67
AF65: 0.63026275 | AG65: RQX | AH65: =AH$5+AF65 -> 1.6302628 | AI65: {=IF(ISNA($W$14),NA(), INDEX(Data_completeness!$A$15:$T$158,AN65,AC$44))} -> 0.77315 | AM65: =IF(ISERROR($W$14),NA(),VLOOKUP(AA$16,Data_completeness!$E$15:$T$158,$AC$44-4,FALSE)) -> 0.71183 | AN65: =MATCH(View_Completeness!AG65,Data_completeness!$E$15:$E$158,0) -> 68
AF66: 0.82830878 | AG66: RXP | AH66: =AH$5+AF66 -> 1.8283088 | AI66: {=IF(ISNA($W$14),NA(), INDEX(Data_completeness!$A$15:$T$158,AN66,AC$44))} -> 0.72329 | AM66: =IF(ISERROR($W$14),NA(),VLOOKUP(AA$16,Data_completeness!$E$15:$T$158,$AC$44-4,FALSE)) -> 0.71183 | AN66: =MATCH(View_Completeness!AG66,Data_completeness!$E$15:$E$158,0) -> 70
AF67: 0.27640085 | AG67: RR7 | AH67: =AH$5+AF67 -> 1.2764009 | AI67: {=IF(ISNA($W$14),NA(), INDEX(Data_completeness!$A$15:$T$158,AN67,AC$44))} -> 0.71793 | AM67: =IF(ISERROR($W$14),NA(),VLOOKUP(AA$16,Data_completeness!$E$15:$T$158,$AC$44-4,FALSE)) -> 0.71183 | AN67: =MATCH(View_Completeness!AG67,Data_completeness!$E$15:$E$158,0) -> 71
AF68: 0.61105219 | AG68: RTD | AH68: =AH$5+AF68 -> 1.6110522 | AI68: {=IF(ISNA($W$14),NA(), INDEX(Data_completeness!$A$15:$T$158,AN68,AC$44))} -> 0.76923 | AM68: =IF(ISERROR($W$14),NA(),VLOOKUP(AA$16,Data_completeness!$E$15:$T$158,$AC$44-4,FALSE)) -> 0.71183 | AN68: =MATCH(View_Completeness!AG68,Data_completeness!$E$15:$E$158,0) -> 76
AF69: 0.49114941 | AG69: RNN | AH69: =AH$5+AF69 -> 1.4911494 | AI69: {=IF(ISNA($W$14),NA(), INDEX(Data_completeness!$A$15:$T$158,AN69,AC$44))} -> 0.75736 | AM69: =IF(ISERROR($W$14),NA(),VLOOKUP(AA$16,Data_completeness!$E$15:$T$158,$AC$44-4,FALSE)) -> 0.71183 | AN69: =MATCH(View_Completeness!AG69,Data_completeness!$E$15:$E$158,0) -> 72
AF70: 0.71777713 | AG70: RVW | AH70: =AH$5+AF70 -> 1.7177771 | AI70: {=IF(ISNA($W$14),NA(), INDEX(Data_completeness!$A$15:$T$158,AN70,AC$44))} -> 0.79007 | AM70: =IF(ISERROR($W$14),NA(),VLOOKUP(AA$16,Data_completeness!$E$15:$T$158,$AC$44-4,FALSE)) -> 0.71183 | AN70: =MATCH(View_Completeness!AG70,Data_completeness!$E$15:$E$158,0) -> 73
... AF130: 0.70096196 | AG130: RXF | AH130: =AH$5+AF130 -> 1.700962 | AI130: {=IF(ISNA($W$14),NA(), INDEX(Data_completeness!$A$15:$T$158,AN130,AC$44))} -> 0.74161 | AM130: =IF(ISERROR($W$14),NA(),VLOOKUP(AA$16,Data_completeness!$E$15:$T$158,$AC$44-4,FALSE)) -> 0.71183 | AN130: =MATCH(View_Completeness!AG130,Data_completeness!$E$15:$E$158,0) -> 144
AG131: Gap
AG132: Start | AH132: =AH$6-(3+COUNT(AJ$134:AJ$146))/20 -> 3.55 | AL132: {=IF(ISNA($W$14),NA(),INDEX(Data_completeness!$A$15:$T$158,$AN132,$AC$44))} -> 0.6713 | AN132: =MATCH(View_Completeness!$W$10,Data_completeness!$E$15:$E$158,0) -> 138
AG133: End | AH133: =AH$6+(3+COUNT(AJ$134:AJ$146))/20 -> 4.45 | AL133: {=IF(ISNA($W$14),NA(),INDEX(Data_completeness!$A$15:$T$158,$AN133,$AC$44))} -> 0.6713 | AN133: =MATCH(View_Completeness!$W$10,Data_completeness!$E$15:$E$158,0) -> 138
AG134: =Y44 -> RCF | AH134: =AH$6 -> 4 | AJ134: =IF(OR(ISERROR(AA44), AA44= ""),NA(),AA44) -> 0.81373 | AL134: {=IF(ISNA($W$14),NA(),INDEX(Data_completeness!$A$15:$T$158,$AN134,$AC$44))} -> 0.6713 | AN134: =MATCH(View_Completeness!$W$10,Data_completeness!$E$15:$E$158,0) -> 138
AG135: =Y45 -> RAE | AH135: =AH$6+0.1 -> 4.1 | AJ135: =IF(OR(ISERROR(AA45), AA45= ""),NA(),AA45) -> 0.63095 | AL135: {=IF(ISNA($W$14),NA(),INDEX(Data_completeness!$A$15:$T$158,$AN135,$AC$44))} -> 0.6713 | AN135: =MATCH(View_Completeness!$W$10,Data_completeness!$E$15:$E$158,0) -> 138
AG136: =Y46 -> RWY | AH136: =AH$6-0.1 -> 3.9 | AJ136: =IF(OR(ISERROR(AA46), AA46= ""),NA(),AA46) -> 0.81398 | AL136: {=IF(ISNA($W$14),NA(),INDEX(Data_completeness!$A$15:$T$158,$AN136,$AC$44))} -> 0.6713 | AN136: =MATCH(View_Completeness!$W$10,Data_completeness!$E$15:$E$158,0) -> 138
AG137: =Y47 -> RCD | AH137: =AH$6+0.2 -> 4.2 | AJ137: =IF(OR(ISERROR(AA47), AA47= ""),NA(),AA47) -> 0.80287 | AL137: {=IF(ISNA($W$14),NA(),INDEX(Data_completeness!$A$15:$T$158,$AN137,$AC$44))} -> 0.6713 | AN137: =MATCH(View_Completeness!$W$10,Data_completeness!$E$15:$E$158,0) -> 138
AG138: =Y48 -> RR8 | AH138: =AH$6-0.2 -> 3.8 | AJ138: =IF(OR(ISERROR(AA48), AA48= ""),NA(),AA48) -> 0.50419 | AL138: {=IF(ISNA($W$14),NA(),INDEX(Data_completeness!$A$15:$T$158,$AN138,$AC$44))} -> 0.6713 | AN138: =MATCH(View_Completeness!$W$10,Data_completeness!$E$15:$E$158,0) -> 138
AG139: =Y49 -> RXF | AH139: =AH$6+0.3 -> 4.3 | AJ139: =IF(OR(ISERROR(AA49), AA49= ""),NA(),AA49) -> 0.74161 | AL139: {=IF(ISNA($W$14),NA(),INDEX(Data_completeness!$A$15:$T$158,$AN139,$AC$44))} -> 0.6713 | AN139: =MATCH(View_Completeness!$W$10,Data_completeness!$E$15:$E$158,0) -> 138
AG140: =Y50 | AH140: =AH$6-0.3 -> 3.7 | AJ140: =IF(OR(ISERROR(AA50), AA50= ""),NA(),AA50) -> #N/A | AL140: {=IF(ISNA($W$14),NA(),INDEX(Data_completeness!$A$15:$T$158,$AN140,$AC$44))} -> 0.6713 | AN140: =MATCH(View_Completeness!$W$10,Data_completeness!$E$15:$E$158,0) -> 138
AG141: =Y51 | AH141: =AH$6+0.4 -> 4.4 | AJ141: =IF(OR(ISERROR(AA51), AA51= ""),NA(),AA51) -> #N/A | AL141: {=IF(ISNA($W$14),NA(),INDEX(Data_completeness!$A$15:$T$158,$AN141,$AC$44))} -> 0.6713 | AN141: =MATCH(View_Completeness!$W$10,Data_completeness!$E$15:$E$158,0) -> 138
AG142: =Y52 | AH142: =AH$6-0.4 -> 3.6 | AJ142: =IF(OR(ISERROR(AA52), AA52= ""),NA(),AA52) -> #N/A | AL142: {=IF(ISNA($W$14),NA(),INDEX(Data_completeness!$A$15:$T$158,$AN142,$AC$44))} -> 0.6713 | AN142: =MATCH(View_Completeness!$W$10,Data_completeness!$E$15:$E$158,0) -> 138
AG143: =Y53 | AH143: =AH$6+0.5 -> 4.5 | AJ143: =IF(OR(ISERROR(AA53), AA53= ""),NA(),AA53) -> #N/A | AL143: {=IF(ISNA($W$14),NA(),INDEX(Data_completeness!$A$15:$T$158,$AN143,$AC$44))} -> 0.6713 | AN143: =MATCH(View_Completeness!$W$10,Data_completeness!$E$15:$E$158,0) -> 138
AG144: =Y54 | AH144: =AH$6-0.5 -> 3.5 | AJ144: =IF(OR(ISERROR(AA54), AA54= ""),NA(),AA54) -> #N/A | AL144: {=IF(ISNA($W$14),NA(),INDEX(Data_completeness!$A$15:$T$158,$AN144,$AC$44))} -> 0.6713 | AN144: =MATCH(View_Completeness!$W$10,Data_completeness!$E$15:$E$158,0) -> 138
AG145: =Y55 | AH145: =AH$6+0.6 -> 4.6 | AJ145: =IF(OR(ISERROR(AA55), AA55= ""),NA(),AA55) -> #N/A | AL145: {=IF(ISNA($W$14),NA(),INDEX(Data_completeness!$A$15:$T$158,$AN145,$AC$44))} -> 0.6713 | AN145: =MATCH(View_Completeness!$W$10,Data_completeness!$E$15:$E$158,0) -> 138
AG146: =Y56 | AH146: =AH$6-0.6 -> 3.4 | AJ146: =IF(OR(ISERROR(AA56), AA56= ""),NA(),AA56) -> #N/A | AL146: {=IF(ISNA($W$14),NA(),INDEX(Data_completeness!$A$15:$T$158,$AN146,$AC$44))} -> 0.6713 | AN146: =MATCH(View_Completeness!$W$10,Data_completeness!$E$15:$E$158,0) -> 138
AG147: =F9 -> RCF | AH147: =VLOOKUP(AG$147,View_Completeness!$AG$134:$AI$146,2,FALSE) -> 4 | AJ147: =IF(OR(ISERROR(AA57), AA57= ""),NA(),AA57) -> #N/A | AK147: =IF(ISNA($W$14),NA(),VLOOKUP(AG$147, $AG$134:$AJ$146,4,0)) -> 0.81373 | AN147: =MATCH(View_Completeness!$W$10,Data_completeness!$E$15:$E$158,0) -> 138

Sheet View_Indicators
D1: NAoPri 2026 State of the Nation Annual Report | U1: Material to hide in columns right of here
D2: Data Viewer : Performance indicators
AB5: England and Wales | AC5: K04000001 | AG5: Offset All trusts | AH5: 1
AB6: England | AC6: E92000001 | AG6: Offset Alliance | AH6: 4
AB7: Wales | AC7: W92000004 | AP7: notes, if risk adjusted = NA and colum is '5', show N/A
B8: Please select a NHS ORGANISATION from the dropdown box below: | F8: Organisation Code | AP8: notes, if indicator = Survival and colum is '4', show N/A
C9: Airedale NHS Foundation Trust | F9: =V10 -> RCF | V9: Trust code | W9: Alliance code | X9: National Code | Y9: National Name | AF9: Rand scatter | AG9: trust_code | AH9: X-value | AI9: All NHS Breast Units | AJ9: Units within Region | AK9: Selected Breast Unit | AL9: Alliance Average | AM9: =$Z$16 -> England and Wales | AN9: Row | AO9: Y-value (initial) | AP9: Y-value(casmix)
V10: =INDEX(Lists!$A$2:$F$123,MATCH(View_Indicators!$C$9,Lists!$A$2:$A$123,0),2) -> RCF | W10: =INDEX(Lists!$A$2:$F$123,MATCH(View_Indicators!$C$9,Lists!$A$2:$A$123,0),4) -> E56000030 | X10: =INDEX(Lists!$A$2:$F$123,MATCH(View_Indicators!$C$9,Lists!$A$2:$A$123,0),6) -> E92000001 | Y10: =INDEX(Lists!$A$2:$F$123,MATCH(View_Indicators!$C$9,Lists!$A$2:$A$123,0),5) -> England | AF10: 0.71089869 | AG10: 7A1 | AH10: 1.7108987 | AI10: =IF(ISNA(AP10),#N/A,IF(ISNUMBER(AP10),AP10,#N/A)) -> 0.60066 | AM10: =IF(AND($X$16=5,$Y$16="N/A"),#N/A,VLOOKUP($AA$16,INDIRECT($W$16&"!$E$12:$H$155"),4,FALSE)) -> 0.83675 | AO10: =VLOOKUP($AG10,INDIRECT($W$16&"!$E$12:$I$155"),$X$16,FALSE) -> 0.60066 | AP10: =IF(OR(AND($X$16=5,$Y$16="N/A"), AND($W$16= "Ind10_Survival", $X$16=4)),#N/A,AO10) -> 0.60066
C11: This selected NHS breast unit is within | D11: =$W$12 -> the West Yorkshire and Harrogate Cancer Alliance | V11: This selected NHS breast unit is within | W11: =INDEX(Lists!$A$2:$F$123,MATCH(View_Indicators!C9,Lists!$A$2:$A$123,0),3)&" Cancer Alliance" -> West Yorkshire and Harrogate Cancer Alliance | AF11: 0.62061212 | AG11: 7A2 | AH11: 1.6206121 | AI11: =IF(ISNA(AP11),#N/A,IF(ISNUMBER(AP11),AP11,#N/A)) -> 0.46747 | AM11: =IF(AND($X$16=5,$Y$16="N/A"),#N/A,VLOOKUP($AA$16,INDIRECT($W$16&"!$E$12:$H$155"),4,FALSE)) -> 0.83675 | AO11: =VLOOKUP($AG11,INDIRECT($W$16&"!$E$12:$I$155"),$X$16,FALSE) -> 0.46747 | AP11: =IF(OR(AND($X$16=5,$Y$16="N/A"), AND($W$16= "Ind10_Survival", $X$16=4)),#N/A,AO11) -> 0.46747
W12: =IF(Y10="Wales",Y10,"the "&W11) -> the West Yorkshire and Harrogate Cancer Alliance | AF12: 0.84638145 | AG12: 7A3 | AH12: 1.8463815 | AI12: =IF(ISNA(AP12),#N/A,IF(ISNUMBER(AP12),AP12,#N/A)) -> 0.63451 | AM12: =IF(AND($X$16=5,$Y$16="N/A"),#N/A,VLOOKUP($AA$16,INDIRECT($W$16&"!$E$12:$H$155"),4,FALSE)) -> 0.83675 | AO12: =VLOOKUP($AG12,INDIRECT($W$16&"!$E$12:$I$155"),$X$16,FALSE) -> 0.63451 | AP12: =IF(OR(AND($X$16=5,$Y$16="N/A"), AND($W$16= "Ind10_Survival", $X$16=4)),#N/A,AO12) -> 0.63451
B13: Please select a Indicator metric from the dropdown box for further exploration | G13: Figures available for | W13: Short-metric name | AF13: 0.2305287 | AG13: 7A4 | AH13: 1.2305287 | AI13: =IF(ISNA(AP13),#N/A,IF(ISNUMBER(AP13),AP13,#N/A)) -> 0.33638 | AM13: =IF(AND($X$16=5,$Y$16="N/A"),#N/A,VLOOKUP($AA$16,INDIRECT($W$16&"!$E$12:$H$155"),4,FALSE)) -> 0.83675 | AO13: =VLOOKUP($AG13,INDIRECT($W$16&"!$E$12:$I$155"),$X$16,FALSE) -> 0.33638 | AP13: =IF(OR(AND($X$16=5,$Y$16="N/A"), AND($W$16= "Ind10_Survival", $X$16=4)),#N/A,AO13) -> 0.33638
C14: People who received adjuvant radiotherapy following breast surgery | G14: =IF(ISTEXT(Y14),Y14,"No indicator selected") -> England and Wales | W14: =INDEX(Lists!$A$152:$F$161,MATCH(View_Indicators!$C$14,Lists!$A$152:$A$161,0),5) -> Adjuv RX | X14: =IF(ISNA(W14),NA(),X10) -> E92000001 | Y14: =INDEX(Lists!$A$152:$J$161,MATCH(View_Indicators!$C$14,Lists!$A$152:$A$161,0),10) -> England and Wales | AF14: 0.88010617 | AG14: 7A5 | AH14: 1.8801062 | AI14: =IF(ISNA(AP14),#N/A,IF(ISNUMBER(AP14),AP14,#N/A)) -> 0.44934 | AM14: =IF(AND($X$16=5,$Y$16="N/A"),#N/A,VLOOKUP($AA$16,INDIRECT($W$16&"!$E$12:$H$155"),4,FALSE)) -> 0.83675 | AO14: =VLOOKUP($AG14,INDIRECT($W$16&"!$E$12:$I$155"),$X$16,FALSE) -> 0.44934 | AP14: =IF(OR(AND($X$16=5,$Y$16="N/A"), AND($W$16= "Ind10_Survival", $X$16=4)),#N/A,AO14) -> 0.44934
B15: Please select which type of indicator value the graph should display | W15: Sheet Name | X15: Type of indicator value | Y15: Risk adjust | Z15: Indicator coverage | AA15: Denom Code | AF15: 0.65120325 | AG15: 7A6 | AH15: 1.6512032 | AI15: =IF(ISNA(AP15),#N/A,IF(ISNUMBER(AP15),AP15,#N/A)) -> 0.34621 | AM15: =IF(AND($X$16=5,$Y$16="N/A"),#N/A,VLOOKUP($AA$16,INDIRECT($W$16&"!$E$12:$H$155"),4,FALSE)) -> 0.83675 | AO15: =VLOOKUP($AG15,INDIRECT($W$16&"!$E$12:$I$155"),$X$16,FALSE) -> 0.34621 | AP15: =IF(OR(AND($X$16=5,$Y$16="N/A"), AND($W$16= "Ind10_Survival", $X$16=4)),#N/A,AO15) -> 0.34621
C16: Adjusted for case-mix | G16: Target | H16: N/A | W16: =INDEX(Lists!$A$152:$F$161,MATCH(View_Indicators!$C$14,Lists!$A$152:$A$161,0),6) -> Ind5_RTX | X16: =VLOOKUP(View_Indicators!C$16,Lists!$A$166:$B$168,2,FALSE) -> 5 | Y16: =INDEX(Lists!$A$152:$K$161,MATCH(View_Indicators!$C$14,Lists!$A$152:$A$161,0),9) -> Age, ER status, T-stage, N-stage, Grade, Charlson co-morbidity score, SCARF index, Diagnosis year | Z16: =INDEX(Lists!$A$152:$K$161,MATCH(View_Indicators!$C$14,Lists!$A$152:$A$161,0),10) -> England and Wales | AA16: =VLOOKUP(Z16,$AB$5:$AC$7,2,FALSE) -> K04000001 | AF16: 0.1481481 | AG16: RJR | AH16: 1.1481481 | AI16: =IF(ISNA(AP16),#N/A,IF(ISNUMBER(AP16),AP16,#N/A)) -> 0.8956 | AM16: =IF(AND($X$16=5,$Y$16="N/A"),#N/A,VLOOKUP($AA$16,INDIRECT($W$16&"!$E$12:$H$155"),4,FALSE)) -> 0.83675 | AO16: =VLOOKUP($AG16,INDIRECT($W$16&"!$E$12:$I$155"),$X$16,FALSE) -> 0.8956 | AP16: =IF(OR(AND($X$16=5,$Y$16="N/A"), AND($W$16= "Ind10_Survival", $X$16=4)),#N/A,AO16) -> 0.8956
W17: table Name | X17: Short indicator name | Y17: Denominator | AF17: 0.16025546 | AG17: RJN | AH17: 1.1602555 | AI17: =IF(ISNA(AP17),#N/A,IF(ISNUMBER(AP17),AP17,#N/A)) -> 0.84662 | AM17: =IF(AND($X$16=5,$Y$16="N/A"),#N/A,VLOOKUP($AA$16,INDIRECT($W$16&"!$E$12:$H$155"),4,FALSE)) -> 0.83675 | AO17: =VLOOKUP($AG17,INDIRECT($W$16&"!$E$12:$I$155"),$X$16,FALSE) -> 0.84662 | AP17: =IF(OR(AND($X$16=5,$Y$16="N/A"), AND($W$16= "Ind10_Survival", $X$16=4)),#N/A,AO17) -> 0.84662
W18: =INDEX(Lists!$A$152:$F$161,MATCH(View_Indicators!$C$14,Lists!$A$152:$A$161,0),3) -> Women who had adjuvant radiotherapy following breast surgery | X18: =INDEX(Lists!$A$152:$F$161,MATCH(View_Indicators!$C$14,Lists!$A$152:$A$161,0),4) -> Adjuv RX | Y18: =INDEX(Lists!$A$152:$K$161,MATCH(View_Indicators!$C$14,Lists!$A$152:$A$161,0),8) -> Number of women with early breast cancer (stage 0-3A or "unknown") who had surgery (<12 mths after DX) | AF18: 0.59372232 | AG18: REM | AH18: 1.5937223 | AI18: =IF(ISNA(AP18),#N/A,IF(ISNUMBER(AP18),AP18,#N/A)) -> 0.87729 | AM18: =IF(AND($X$16=5,$Y$16="N/A"),#N/A,VLOOKUP($AA$16,INDIRECT($W$16&"!$E$12:$H$155"),4,FALSE)) -> 0.83675 | AO18: =VLOOKUP($AG18,INDIRECT($W$16&"!$E$12:$I$155"),$X$16,FALSE) -> 0.87729 | AP18: =IF(OR(AND($X$16=5,$Y$16="N/A"), AND($W$16= "Ind10_Survival", $X$16=4)),#N/A,AO18) -> 0.87729
B19: ="Table 1: Performance indicator values for "&C9 -> Table 1: Performance indicator values for Airedale NHS Foundation Trust | AF19: 0.35435889 | AG19: RBN | AH19: 1.3543589 | AI19: =IF(ISNA(AP19),#N/A,IF(ISNUMBER(AP19),AP19,#N/A)) -> 0.86911 | AM19: =IF(AND($X$16=5,$Y$16="N/A"),#N/A,VLOOKUP($AA$16,INDIRECT($W$16&"!$E$12:$H$155"),4,FALSE)) -> 0.83675 | AO19: =VLOOKUP($AG19,INDIRECT($W$16&"!$E$12:$I$155"),$X$16,FALSE) -> 0.86911 | AP19: =IF(OR(AND($X$16=5,$Y$16="N/A"), AND($W$16= "Ind10_Survival", $X$16=4)),#N/A,AO19) -> 0.86911
B20: Label | C20: Performance indicator name | D20: People in denominator | E20: Unadjusted | F20: Adjusted | G20: =$Y$10 -> England | Y20: Patients in denominator | Z20: Unadjusted | AA20: Adjusted | AB20: Nation | AF20: 0.35517053 | AG20: RBT | AH20: 1.3551705 | AI20: =IF(ISNA(AP20),#N/A,IF(ISNUMBER(AP20),AP20,#N/A)) -> 0.82834 | AM20: =IF(AND($X$16=5,$Y$16="N/A"),#N/A,VLOOKUP($AA$16,INDIRECT($W$16&"!$E$12:$H$155"),4,FALSE)) -> 0.83675 | AO20: =VLOOKUP($AG20,INDIRECT($W$16&"!$E$12:$I$155"),$X$16,FALSE) -> 0.82834 | AP20: =IF(OR(AND($X$16=5,$Y$16="N/A"), AND($W$16= "Ind10_Survival", $X$16=4)),#N/A,AO20) -> 0.82834
B21: TDA | C21: Triple Diagnostic Assessment in a single visit | D21: =IF(ISERROR(Y21),"N/A",Y21) -> 381 | E21: =IF(ISERROR(Z21),"N/A",Z21) -> 0.71391 | F21: =IF(ISERROR(AA21),"N/A",AA21) -> n/a | G21: =IF(ISERROR(AB21),"N/A",AB21) -> 0.6806 | X21: TDA | Y21: =VLOOKUP($V$10,Ind1_TDA!$E$13:$H$156,3,FALSE) -> 381 | Z21: =VLOOKUP($V$10,Ind1_TDA!$E$13:$H$156,4,FALSE) -> 0.71391 | AA21: n/a | AB21: =VLOOKUP($X$10,Ind1_TDA!$E$13:$H$156,4,FALSE) -> 0.6806 | AF21: 0.28963133 | AG21: RWW | AH21: 1.2896313 | AI21: =IF(ISNA(AP21),#N/A,IF(ISNUMBER(AP21),AP21,#N/A)) -> 0.88343 | AM21: =IF(AND($X$16=5,$Y$16="N/A"),#N/A,VLOOKUP($AA$16,INDIRECT($W$16&"!$E$12:$H$155"),4,FALSE)) -> 0.83675 | AO21: =VLOOKUP($AG21,INDIRECT($W$16&"!$E$12:$I$155"),$X$16,FALSE) -> 0.88343 | AP21: =IF(OR(AND($X$16=5,$Y$16="N/A"), AND($W$16= "Ind10_Survival", $X$16=4)),#N/A,AO21) -> 0.88343
B22: CNS | C22: Contact with a Clinical Nurse Specialist after diagnosis | D22: =IF(ISERROR(Y22),"N/A",Y22) -> 510 | E22: =IF(ISERROR(Z22),"N/A",Z22) -> 0.92941 | F22: =IF(ISERROR(AA22),"N/A",AA22) -> n/a | G22: =IF(ISERROR(AB22),"N/A",AB22) -> 0.75957 | X22: CNS | Y22: =VLOOKUP($V$10,Ind2_CNS!$E$13:$H$156,3,FALSE) -> 510 | Z22: =VLOOKUP($V$10,Ind2_CNS!$E$13:$H$156,4,FALSE) -> 0.92941 | AA22: n/a | AB22: =VLOOKUP($X$10,Ind2_CNS!$E$13:$H$156,4,FALSE) -> 0.75957 | AF22: 0.94985245 | AG22: RBL | AH22: 1.9498524 | AI22: =IF(ISNA(AP22),#N/A,IF(ISNUMBER(AP22),AP22,#N/A)) -> 0.93059 | AM22: =IF(AND($X$16=5,$Y$16="N/A"),#N/A,VLOOKUP($AA$16,INDIRECT($W$16&"!$E$12:$H$155"),4,FALSE)) -> 0.83675 | AO22: =VLOOKUP($AG22,INDIRECT($W$16&"!$E$12:$I$155"),$X$16,FALSE) -> 0.93059 | AP22: =IF(OR(AND($X$16=5,$Y$16="N/A"), AND($W$16= "Ind10_Survival", $X$16=4)),#N/A,AO22) -> 0.93059
B23: Surgery | C23: People who had breast surgery | D23: =IF(ISERROR(Y23),"N/A",Y23) -> 443 | E23: =IF(ISERROR(Z23),"N/A",Z23) -> 0.74944 | F23: =IF(ISERROR(AA23),"N/A",AA23) -> 0.74594 | G23: =IF(ISERROR(AB23),"N/A",AB23) -> 0.74204 | X23: Surgery | Y23: =VLOOKUP($V$10,Ind3_Surgery!$E$13:$I$156,3,FALSE) -> 443 | Z23: =VLOOKUP($V$10,Ind3_Surgery!$E$13:$I$156,4,FALSE) -> 0.74944 | AA23: =VLOOKUP($V$10,Ind3_Surgery!$E$13:$I$156,5,FALSE) -> 0.74594 | AB23: =VLOOKUP($X$10,Ind3_Surgery!$E$13:$I$156,4,FALSE) -> 0.74204 | AF23: 0.75729141 | AG23: RFS | AH23: 1.7572914 | AI23: =IF(ISNA(AP23),#N/A,IF(ISNUMBER(AP23),AP23,#N/A)) -> 0.93702 | AM23: =IF(AND($X$16=5,$Y$16="N/A"),#N/A,VLOOKUP($AA$16,INDIRECT($W$16&"!$E$12:$H$155"),4,FALSE)) -> 0.83675 | AO23: =VLOOKUP($AG23,INDIRECT($W$16&"!$E$12:$I$155"),$X$16,FALSE) -> 0.93702 | AP23: =IF(OR(AND($X$16=5,$Y$16="N/A"), AND($W$16= "Ind10_Survival", $X$16=4)),#N/A,AO23) -> 0.93702
B24: Neoadj CX | C24: People who had neo-adjuvant chemotherapy | D24: =IF(ISERROR(Y24),"N/A",Y24) -> 46 | E24: =IF(ISERROR(Z24),"N/A",Z24) -> 0.86957 | F24: =IF(ISERROR(AA24),"N/A",AA24) -> 0.90884 | G24: =IF(ISERROR(AB24),"N/A",AB24) -> 0.70545 | X24: Neoadj CX | Y24: =VLOOKUP($V$10,'Ind4_NACT Appendix U70'!$E$14:$I$157,3,FALSE) -> 46 | Z24: =VLOOKUP($V$10,'Ind4_NACT Appendix U70'!$E$14:$I$157,4,FALSE) -> 0.86957 | AA24: =VLOOKUP($V$10,'Ind4_NACT Appendix U70'!$E$14:$I$157,5,FALSE) -> 0.90884 | AB24: =VLOOKUP($X$10,'Ind4_NACT Appendix U70'!$E$14:$I$157,4,FALSE) -> 0.70545 | AF24: 0.54491887 | AG24: RNQ | AH24: 1.5449189 | AI24: =IF(ISNA(AP24),#N/A,IF(ISNUMBER(AP24),AP24,#N/A)) -> 0.86927 | AM24: =IF(AND($X$16=5,$Y$16="N/A"),#N/A,VLOOKUP($AA$16,INDIRECT($W$16&"!$E$12:$H$155"),4,FALSE)) -> 0.83675 | AO24: =VLOOKUP($AG24,INDIRECT($W$16&"!$E$12:$I$155"),$X$16,FALSE) -> 0.86927 | AP24: =IF(OR(AND($X$16=5,$Y$16="N/A"), AND($W$16= "Ind10_Survival", $X$16=4)),#N/A,AO24) -> 0.86927
B25: Adjuv RX | C25: People who had adjuvant radiotherapy following breast surgery | D25: =IF(ISERROR(Y25),"N/A",Y25) -> 293 | E25: =IF(ISERROR(Z25),"N/A",Z25) -> 0.83276 | F25: =IF(ISERROR(AA25),"N/A",AA25) -> 0.83625 | G25: =IF(ISERROR(AB25),"N/A",AB25) -> 0.85628 | X25: Adjuv RX | Y25: =VLOOKUP($V$10,Ind5_RTX!$E$14:$L$157,3,FALSE) -> 293 | Z25: =VLOOKUP($V$10,Ind5_RTX!$E$14:$L$157,4,FALSE) -> 0.83276 | AA25: =VLOOKUP($V$10,Ind5_RTX!$E$14:$L$157,5,FALSE) -> 0.83625 | AB25: =VLOOKUP($X$10,Ind5_RTX!$E$14:$L$157,4,FALSE) -> 0.85628 | AF25: 0.55204428 | AG25: RNS | AH25: 1.5520443 | AI25: =IF(ISNA(AP25),#N/A,IF(ISNUMBER(AP25),AP25,#N/A)) -> 0.88552 | AM25: =IF(AND($X$16=5,$Y$16="N/A"),#N/A,VLOOKUP($AA$16,INDIRECT($W$16&"!$E$12:$H$155"),4,FALSE)) -> 0.83675 | AO25: =VLOOKUP($AG25,INDIRECT($W$16&"!$E$12:$I$155"),$X$16,FALSE) -> 0.88552 | AP25: =IF(OR(AND($X$16=5,$Y$16="N/A"), AND($W$16= "Ind10_Survival", $X$16=4)),#N/A,AO25) -> 0.88552
B26: Any CX | C26: People who received any chemotherapy | D26: =IF(ISERROR(Y26),"N/A",Y26) -> 401 | E26: =IF(ISERROR(Z26),"N/A",Z26) -> 0.38155 | F26: =IF(ISERROR(AA26),"N/A",AA26) -> 0.38648 | G26: =IF(ISERROR(AB26),"N/A",AB26) -> 0.33533 | X26: Any CX | Y26: =VLOOKUP($V$10,Ind6_SACT!$E$13:$I$156,3,FALSE) -> 401 | Z26: =VLOOKUP($V$10,Ind6_SACT!$E$13:$I$156,4,FALSE) -> 0.38155 | AA26: =VLOOKUP($V$10,Ind6_SACT!$E$13:$I$156,5,FALSE) -> 0.38648 | AB26: =VLOOKUP($X$10,Ind6_SACT!$E$13:$I$156,4,FALSE) -> 0.33533 | AF26: 0.039867194 | AG26: RX1 | AH26: 1.0398672 | AI26: =IF(ISNA(AP26),#N/A,IF(ISNUMBER(AP26),AP26,#N/A)) -> 0.87034 | AM26: =IF(AND($X$16=5,$Y$16="N/A"),#N/A,VLOOKUP($AA$16,INDIRECT($W$16&"!$E$12:$H$155"),4,FALSE)) -> 0.83675 | AO26: =VLOOKUP($AG26,INDIRECT($W$16&"!$E$12:$I$155"),$X$16,FALSE) -> 0.87034 | AP26: =IF(OR(AND($X$16=5,$Y$16="N/A"), AND($W$16= "Ind10_Survival", $X$16=4)),#N/A,AO26) -> 0.87034
B27: M-IR | C27: Women who had IR after mastectomy | D27: =IF(ISERROR(Y27),"N/A",Y27) -> 135 | E27: =IF(ISERROR(Z27),"N/A",Z27) -> 0.24444 | F27: =IF(ISERROR(AA27),"N/A",AA27) -> 0.3011 | G27: =IF(ISERROR(AB27),"N/A",AB27) -> 0.26744 | X27: M-IR | Y27: =VLOOKUP($V$10,Ind7_Immed_Recon!$E$13:$I$156,3,FALSE) -> 135 | Z27: =VLOOKUP($V$10,Ind7_Immed_Recon!$E$13:$I$156,4,FALSE) -> 0.24444 | AA27: =VLOOKUP($V$10,Ind7_Immed_Recon!$E$13:$I$156,5,FALSE) -> 0.3011 | AB27: =VLOOKUP($X$10,Ind7_Immed_Recon!$E$13:$I$156,4,FALSE) -> 0.26744 | AF27: 0.79728731 | AG27: RK5 | AH27: 1.7972873 | AI27: =IF(ISNA(AP27),#N/A,IF(ISNUMBER(AP27),AP27,#N/A)) -> 0.87613 | AM27: =IF(AND($X$16=5,$Y$16="N/A"),#N/A,VLOOKUP($AA$16,INDIRECT($W$16&"!$E$12:$H$155"),4,FALSE)) -> 0.83675 | AO27: =VLOOKUP($AG27,INDIRECT($W$16&"!$E$12:$I$155"),$X$16,FALSE) -> 0.87613 | AP27: =IF(OR(AND($X$16=5,$Y$16="N/A"), AND($W$16= "Ind10_Survival", $X$16=4)),#N/A,AO27) -> 0.87613
B28: ReOperation | C28: People who had re-operation | D28: =IF(ISERROR(Y28),"N/A",Y28) -> 337 | E28: =IF(ISERROR(Z28),"N/A",Z28) -> 0.26706231 | F28: =IF(ISERROR(AA28),"N/A",AA28) -> 0.27599072 | G28: =IF(ISERROR(AB28),"N/A",AB28) -> 0.16246 | X28: ReOperation | Y28: =VLOOKUP($V$10,Ind8_ReOp!$E$13:$I$156,3,FALSE) -> 337 | Z28: =VLOOKUP($V$10,Ind8_ReOp!$E$13:$I$156,4,FALSE) -> 0.26706231 | AA28: =VLOOKUP($V$10,Ind8_ReOp!$E$13:$I$156,5,FALSE) -> 0.27599072 | AB28: =VLOOKUP($X$10,Ind8_ReOp!$E$13:$I$156,4,FALSE) -> 0.16246 | AF28: 0.18247419 | AG28: RWD | AH28: 1.1824742 | AI28: =IF(ISNA(AP28),#N/A,IF(ISNUMBER(AP28),AP28,#N/A)) -> 0.8747 | AM28: =IF(AND($X$16=5,$Y$16="N/A"),#N/A,VLOOKUP($AA$16,INDIRECT($W$16&"!$E$12:$H$155"),4,FALSE)) -> 0.83675 | AO28: =VLOOKUP($AG28,INDIRECT($W$16&"!$E$12:$I$155"),$X$16,FALSE) -> 0.8747 | AP28: =IF(OR(AND($X$16=5,$Y$16="N/A"), AND($W$16= "Ind10_Survival", $X$16=4)),#N/A,AO28) -> 0.8747
B29: 3YrSurv | C29: Breast cancer specific three year survival | D29: =IF(ISERROR(Y29),"N/A",Y29) -> 286 | E29: =IF(ISERROR(Z29),"N/A",Z29) -> n/a | F29: =IF(ISERROR(AA29),"N/A",AA29) -> 0.9656505 | G29: =IF(ISERROR(AB29),"N/A",AB29) -> 0.97645944 | X29: 3YrSurv | Y29: =VLOOKUP($V$10,Ind10_Survival!$E$13:$I$156,3,FALSE) -> 286 | Z29: n/a | AA29: =VLOOKUP($V$10,Ind10_Survival!$E$13:$I$156,5,FALSE) -> 0.9656505 | AB29: =VLOOKUP($X$10,Ind10_Survival!$E$13:$I$156,4,FALSE) -> 0.97645944 | AF29: 0.99272966 | AG29: RTG | AH29: 1.9927297 | AI29: =IF(ISNA(AP29),#N/A,IF(ISNUMBER(AP29),AP29,#N/A)) -> 0.90008 | AM29: =IF(AND($X$16=5,$Y$16="N/A"),#N/A,VLOOKUP($AA$16,INDIRECT($W$16&"!$E$12:$H$155"),4,FALSE)) -> 0.83675 | AO29: =VLOOKUP($AG29,INDIRECT($W$16&"!$E$12:$I$155"),$X$16,FALSE) -> 0.90008 | AP29: =IF(OR(AND($X$16=5,$Y$16="N/A"), AND($W$16= "Ind10_Survival", $X$16=4)),#N/A,AO29) -> 0.90008
B30: Label | C30: Denominators of indicators | AF30: 0.18578942 | AG30: RWE | AH30: 1.1857894 | AI30: =IF(ISNA(AP30),#N/A,IF(ISNUMBER(AP30),AP30,#N/A)) -> 0.83446 | AM30: =IF(AND($X$16=5,$Y$16="N/A"),#N/A,VLOOKUP($AA$16,INDIRECT($W$16&"!$E$12:$H$155"),4,FALSE)) -> 0.83675 | AO30: =VLOOKUP($AG30,INDIRECT($W$16&"!$E$12:$I$155"),$X$16,FALSE) -> 0.83446 | AP30: =IF(OR(AND($X$16=5,$Y$16="N/A"), AND($W$16= "Ind10_Survival", $X$16=4)),#N/A,AO30) -> 0.83446
B31: TDA | C31: =INDEX(Lists!$A$152:$H$161,MATCH(View_Indicators!$B31,Lists!$D$152:$D$161,0),8) -> Number of people with breast cancer (stage 0-3 or "unknown", excl. screening) | AF31: 0.084623897 | AG31: RC9 | AH31: 1.0846239 | AI31: =IF(ISNA(AP31),#N/A,IF(ISNUMBER(AP31),AP31,#N/A)) -> 0.85282 | AM31: =IF(AND($X$16=5,$Y$16="N/A"),#N/A,VLOOKUP($AA$16,INDIRECT($W$16&"!$E$12:$H$155"),4,FALSE)) -> 0.83675 | AO31: =VLOOKUP($AG31,INDIRECT($W$16&"!$E$12:$I$155"),$X$16,FALSE) -> 0.85282 | AP31: =IF(OR(AND($X$16=5,$Y$16="N/A"), AND($W$16= "Ind10_Survival", $X$16=4)),#N/A,AO31) -> 0.85282
B32: CNS | C32: =INDEX(Lists!$A$152:$H$161,MATCH(View_Indicators!$B32,Lists!$D$152:$D$161,0),8) -> Number of people with breast cancer (stage 0-3 or "unknown") | AF32: 0.0027406959 | AG32: RGT | AH32: 1.0027407 | AI32: =IF(ISNA(AP32),#N/A,IF(ISNUMBER(AP32),AP32,#N/A)) -> 0.87447 | AM32: =IF(AND($X$16=5,$Y$16="N/A"),#N/A,VLOOKUP($AA$16,INDIRECT($W$16&"!$E$12:$H$155"),4,FALSE)) -> 0.83675 | AO32: =VLOOKUP($AG32,INDIRECT($W$16&"!$E$12:$I$155"),$X$16,FALSE) -> 0.87447 | AP32: =IF(OR(AND($X$16=5,$Y$16="N/A"), AND($W$16= "Ind10_Survival", $X$16=4)),#N/A,AO32) -> 0.87447
B33: Surgery | C33: =INDEX(Lists!$A$152:$H$161,MATCH(View_Indicators!$B33,Lists!$D$152:$D$161,0),8) -> Number of people with early breast cancer (stage 0-3A, or "unknown") | AF33: 0.20066927 | AG33: RDE | AH33: 1.2006693 | AI33: =IF(ISNA(AP33),#N/A,IF(ISNUMBER(AP33),AP33,#N/A)) -> 0.93551 | AM33: =IF(AND($X$16=5,$Y$16="N/A"),#N/A,VLOOKUP($AA$16,INDIRECT($W$16&"!$E$12:$H$155"),4,FALSE)) -> 0.83675 | AO33: =VLOOKUP($AG33,INDIRECT($W$16&"!$E$12:$I$155"),$X$16,FALSE) -> 0.93551 | AP33: =IF(OR(AND($X$16=5,$Y$16="N/A"), AND($W$16= "Ind10_Survival", $X$16=4)),#N/A,AO33) -> 0.93551
B34: Neoadj CX | C34: =INDEX(Lists!$A$152:$H$161,MATCH(View_Indicators!$B34,Lists!$D$152:$D$161,0),8) -> Number of people with invasive breast cancer (stage 2-3A) who are triple negative or HER2 positive who had surgery (<12 mths after DX) | AF34: 0.60455333 | AG34: RWH | AH34: 1.6045533 | AI34: =IF(ISNA(AP34),#N/A,IF(ISNUMBER(AP34),AP34,#N/A)) -> 0.806 | AM34: =IF(AND($X$16=5,$Y$16="N/A"),#N/A,VLOOKUP($AA$16,INDIRECT($W$16&"!$E$12:$H$155"),4,FALSE)) -> 0.83675 | AO34: =VLOOKUP($AG34,INDIRECT($W$16&"!$E$12:$I$155"),$X$16,FALSE) -> 0.806 | AP34: =IF(OR(AND($X$16=5,$Y$16="N/A"), AND($W$16= "Ind10_Survival", $X$16=4)),#N/A,AO34) -> 0.806
B35: Adjuv RX | C35: =INDEX(Lists!$A$152:$H$161,MATCH(View_Indicators!$B35,Lists!$D$152:$D$161,0),8) -> Number of women with early breast cancer (stage 0-3A or "unknown") who had surgery (<12 mths after DX) | AF35: 0.060307848 | AG35: RGP | AH35: 1.0603078 | AI35: =IF(ISNA(AP35),#N/A,IF(ISNUMBER(AP35),AP35,#N/A)) -> 0.80148 | AM35: =IF(AND($X$16=5,$Y$16="N/A"),#N/A,VLOOKUP($AA$16,INDIRECT($W$16&"!$E$12:$H$155"),4,FALSE)) -> 0.83675 | AO35: =VLOOKUP($AG35,INDIRECT($W$16&"!$E$12:$I$155"),$X$16,FALSE) -> 0.80148 | AP35: =IF(OR(AND($X$16=5,$Y$16="N/A"), AND($W$16= "Ind10_Survival", $X$16=4)),#N/A,AO35) -> 0.80148
B36: Any CX | C36: =INDEX(Lists!$A$152:$H$161,MATCH(View_Indicators!$B36,Lists!$D$152:$D$161,0),8) -> Number of people with early invasive breast cancer (stage 1-3A or "unknown") who had surgery (<12 mths after DX) | AF36: 0.62227784 | AG36: RAJ | AH36: 1.6222778 | AI36: =IF(ISNA(AP36),#N/A,IF(ISNUMBER(AP36),AP36,#N/A)) -> 0.82128 | AM36: =IF(AND($X$16=5,$Y$16="N/A"),#N/A,VLOOKUP($AA$16,INDIRECT($W$16&"!$E$12:$H$155"),4,FALSE)) -> 0.83675 | AO36: =VLOOKUP($AG36,INDIRECT($W$16&"!$E$12:$I$155"),$X$16,FALSE) -> 0.82128 | AP36: =IF(OR(AND($X$16=5,$Y$16="N/A"), AND($W$16= "Ind10_Survival", $X$16=4)),#N/A,AO36) -> 0.82128
B37: M-IR | C37: =INDEX(Lists!$A$152:$H$161,MATCH(View_Indicators!$B37,Lists!$D$152:$D$161,0),8) -> Number of women with early breast cancer (stage 0-3A or "unknown") who had mastectomy (<12 mths after DX) | AF37: 0.24680091 | AG37: RD8 | AH37: 1.2468009 | AI37: =IF(ISNA(AP37),#N/A,IF(ISNUMBER(AP37),AP37,#N/A)) -> 0.82307 | AM37: =IF(AND($X$16=5,$Y$16="N/A"),#N/A,VLOOKUP($AA$16,INDIRECT($W$16&"!$E$12:$H$155"),4,FALSE)) -> 0.83675 | AO37: =VLOOKUP($AG37,INDIRECT($W$16&"!$E$12:$I$155"),$X$16,FALSE) -> 0.82307 | AP37: =IF(OR(AND($X$16=5,$Y$16="N/A"), AND($W$16= "Ind10_Survival", $X$16=4)),#N/A,AO37) -> 0.82307
B38: ReOperation | C38: =INDEX(Lists!$A$152:$H$161,MATCH(View_Indicators!$B38,Lists!$D$152:$D$161,0),8) -> Number of people with early breast cancer (stage 0-3A or "unknown") who had breast conserving surgery within 12 months of diagnosis. | AF38: 0.97699632 | AG38: RM1 | AH38: 1.9769963 | AI38: =IF(ISNA(AP38),#N/A,IF(ISNUMBER(AP38),AP38,#N/A)) -> 0.85195 | AM38: =IF(AND($X$16=5,$Y$16="N/A"),#N/A,VLOOKUP($AA$16,INDIRECT($W$16&"!$E$12:$H$155"),4,FALSE)) -> 0.83675 | AO38: =VLOOKUP($AG38,INDIRECT($W$16&"!$E$12:$I$155"),$X$16,FALSE) -> 0.85195 | AP38: =IF(OR(AND($X$16=5,$Y$16="N/A"), AND($W$16= "Ind10_Survival", $X$16=4)),#N/A,AO38) -> 0.85195
B39: 3YrSurv | C39: =INDEX(Lists!$A$152:$H$161,MATCH(View_Indicators!$B39,Lists!$D$152:$D$161,0),8) -> Number of people with early invasive breast cancer (stage 1-3A). | AF39: 0.98950262 | AG39: RGN | AH39: 1.9895026 | AI39: =IF(ISNA(AP39),#N/A,IF(ISNUMBER(AP39),AP39,#N/A)) -> 0.90224 | AM39: =IF(AND($X$16=5,$Y$16="N/A"),#N/A,VLOOKUP($AA$16,INDIRECT($W$16&"!$E$12:$H$155"),4,FALSE)) -> 0.83675 | AO39: =VLOOKUP($AG39,INDIRECT($W$16&"!$E$12:$I$155"),$X$16,FALSE) -> 0.90224 | AP39: =IF(OR(AND($X$16=5,$Y$16="N/A"), AND($W$16= "Ind10_Survival", $X$16=4)),#N/A,AO39) -> 0.90224
AF40: 0.09196575 | AG40: RQW | AH40: 1.0919658 | AI40: =IF(ISNA(AP40),#N/A,IF(ISNUMBER(AP40),AP40,#N/A)) -> 0.80969 | AM40: =IF(AND($X$16=5,$Y$16="N/A"),#N/A,VLOOKUP($AA$16,INDIRECT($W$16&"!$E$12:$H$155"),4,FALSE)) -> 0.83675 | AO40: =VLOOKUP($AG40,INDIRECT($W$16&"!$E$12:$I$155"),$X$16,FALSE) -> 0.80969 | AP40: =IF(OR(AND($X$16=5,$Y$16="N/A"), AND($W$16= "Ind10_Survival", $X$16=4)),#N/A,AO40) -> 0.80969
B41: KEY: DX = diagnosis, CX = chemotherapy, IR = immediate reconstruction, RX = radiotherapy | AC41: Target | AD41: 0.9 | AF41: 0.55983028 | AG41: RCX | AH41: 1.5598303 | AI41: =IF(ISNA(AP41),#N/A,IF(ISNUMBER(AP41),AP41,#N/A)) -> 0.87429 | AM41: =IF(AND($X$16=5,$Y$16="N/A"),#N/A,VLOOKUP($AA$16,INDIRECT($W$16&"!$E$12:$H$155"),4,FALSE)) -> 0.83675 | AO41: =VLOOKUP($AG41,INDIRECT($W$16&"!$E$12:$I$155"),$X$16,FALSE) -> 0.87429 | AP41: =IF(OR(AND($X$16=5,$Y$16="N/A"), AND($W$16= "Ind10_Survival", $X$16=4)),#N/A,AO41) -> 0.87429
AF42: 0.63810854 | AG42: RWG | AH42: 1.6381085 | AI42: =IF(ISNA(AP42),#N/A,IF(ISNUMBER(AP42),AP42,#N/A)) -> 0.89556 | AM42: =IF(AND($X$16=5,$Y$16="N/A"),#N/A,VLOOKUP($AA$16,INDIRECT($W$16&"!$E$12:$H$155"),4,FALSE)) -> 0.83675 | AO42: =VLOOKUP($AG42,INDIRECT($W$16&"!$E$12:$I$155"),$X$16,FALSE) -> 0.89556 | AP42: =IF(OR(AND($X$16=5,$Y$16="N/A"), AND($W$16= "Ind10_Survival", $X$16=4)),#N/A,AO42) -> 0.89556
V43: Col | W43: Lookup | X43: Trust | Y43: Code | Z43: Denom value | AA43: Unadjusted | AB43: Adjusted | AF43: 0.026226413 | AG43: RGR | AH43: 1.0262264 | AI43: =IF(ISNA(AP43),#N/A,IF(ISNUMBER(AP43),AP43,#N/A)) -> 0.91021 | AM43: =IF(AND($X$16=5,$Y$16="N/A"),#N/A,VLOOKUP($AA$16,INDIRECT($W$16&"!$E$12:$H$155"),4,FALSE)) -> 0.83675 | AO43: =VLOOKUP($AG43,INDIRECT($W$16&"!$E$12:$I$155"),$X$16,FALSE) -> 0.91021 | AP43: =IF(OR(AND($X$16=5,$Y$16="N/A"), AND($W$16= "Ind10_Survival", $X$16=4)),#N/A,AO43) -> 0.91021
B44: ="Table 2: Performance indicator values for NHS breast units within " &W12 -> Table 2: Performance indicator values for NHS breast units within the West Yorkshire and Harrogate Cancer Alliance | V44: 1 | W44: =V44&"x"&RIGHT(W$10,3) -> 1x030 | X44: =IFERROR(INDEX(Lists!$A$2:$H$123,MATCH(View_Indicators!$W44,Lists!$G$2:$G$123,0),1), "") -> Airedale NHS Foundation Trust | Y44: =IFERROR(INDEX(Lists!$A$2:$H$123,MATCH(View_Indicators!$W44,Lists!$G$2:$G$123,0),2),"") -> RCF | Z44: =IFERROR(VLOOKUP($Y44,INDIRECT($W$16&"!$E$12:$H$154"),3,FALSE),"") -> 293 | AA44: =IFERROR(VLOOKUP($Y44,INDIRECT($W$16&"!$E$12:$I$154"),4,FALSE),"") -> 0.83276 | AB44: =IFERROR(VLOOKUP($Y44,INDIRECT($W$16&"!$E$12:$I$154"),5,FALSE), "") -> 0.83625 | AF44: 0.10329913 | AG44: RMC | AH44: 1.1032991 | AI44: =IF(ISNA(AP44),#N/A,IF(ISNUMBER(AP44),AP44,#N/A)) -> 0.82195 | AM44: =IF(AND($X$16=5,$Y$16="N/A"),#N/A,VLOOKUP($AA$16,INDIRECT($W$16&"!$E$12:$H$155"),4,FALSE)) -> 0.83675 | AO44: =VLOOKUP($AG44,INDIRECT($W$16&"!$E$12:$I$155"),$X$16,FALSE) -> 0.82195 | AP44: =IF(OR(AND($X$16=5,$Y$16="N/A"), AND($W$16= "Ind10_Survival", $X$16=4)),#N/A,AO44) -> 0.82195
C45: ="on the metric: "&C14 -> on the metric: People who received adjuvant radiotherapy following breast surgery | V45: 2 | W45: =V45&"x"&RIGHT(W$10,3) -> 2x030 | X45: =IFERROR(INDEX(Lists!$A$2:$H$123,MATCH(View_Indicators!$W45,Lists!$G$2:$G$123,0),1), "") -> Bradford Teaching Hospitals NHS Foundation Trust | Y45: =IFERROR(INDEX(Lists!$A$2:$H$123,MATCH(View_Indicators!$W45,Lists!$G$2:$G$123,0),2),"") -> RAE | Z45: =IFERROR(VLOOKUP($Y45,INDIRECT($W$16&"!$E$12:$H$154"),3,FALSE),"") -> 514 | AA45: =IFERROR(VLOOKUP($Y45,INDIRECT($W$16&"!$E$12:$I$154"),4,FALSE),"") -> 0.86187 | AB45: =IFERROR(VLOOKUP($Y45,INDIRECT($W$16&"!$E$12:$I$154"),5,FALSE), "") -> 0.86046 | AF45: 0.09864622 | AG45: R0A | AH45: 1.0986462 | AI45: =IF(ISNA(AP45),#N/A,IF(ISNUMBER(AP45),AP45,#N/A)) -> 0.84445 | AM45: =IF(AND($X$16=5,$Y$16="N/A"),#N/A,VLOOKUP($AA$16,INDIRECT($W$16&"!$E$12:$H$155"),4,FALSE)) -> 0.83675 | AO45: =VLOOKUP($AG45,INDIRECT($W$16&"!$E$12:$I$155"),$X$16,FALSE) -> 0.84445 | AP45: =IF(OR(AND($X$16=5,$Y$16="N/A"), AND($W$16= "Ind10_Survival", $X$16=4)),#N/A,AO45) -> 0.84445
V46: 3 | W46: =V46&"x"&RIGHT(W$10,3) -> 3x030 | X46: =IFERROR(INDEX(Lists!$A$2:$H$123,MATCH(View_Indicators!$W46,Lists!$G$2:$G$123,0),1), "") -> Calderdale and Huddersfield NHS Foundation Trust | Y46: =IFERROR(INDEX(Lists!$A$2:$H$123,MATCH(View_Indicators!$W46,Lists!$G$2:$G$123,0),2),"") -> RWY | Z46: =IFERROR(VLOOKUP($Y46,INDIRECT($W$16&"!$E$12:$H$154"),3,FALSE),"") -> 566 | AA46: =IFERROR(VLOOKUP($Y46,INDIRECT($W$16&"!$E$12:$I$154"),4,FALSE),"") -> 0.81625 | AB46: =IFERROR(VLOOKUP($Y46,INDIRECT($W$16&"!$E$12:$I$154"),5,FALSE), "") -> 0.82495 | AF46: 0.94547771 | AG46: RM3 | AH46: 1.9454777 | AI46: =IF(ISNA(AP46),#N/A,IF(ISNUMBER(AP46),AP46,#N/A)) -> 0.93396 | AM46: =IF(AND($X$16=5,$Y$16="N/A"),#N/A,VLOOKUP($AA$16,INDIRECT($W$16&"!$E$12:$H$155"),4,FALSE)) -> 0.83675 | AO46: =VLOOKUP($AG46,INDIRECT($W$16&"!$E$12:$I$155"),$X$16,FALSE) -> 0.93396 | AP46: =IF(OR(AND($X$16=5,$Y$16="N/A"), AND($W$16= "Ind10_Survival", $X$16=4)),#N/A,AO46) -> 0.93396
B47: Code | C47: NHS organisation | E47: People in denominator | F47: Unadjusted | G47: Adjusted | V47: 4 | W47: =V47&"x"&RIGHT(W$10,3) -> 4x030 | X47: =IFERROR(INDEX(Lists!$A$2:$H$123,MATCH(View_Indicators!$W47,Lists!$G$2:$G$123,0),1), "") -> Harrogate and District NHS Foundation Trust | Y47: =IFERROR(INDEX(Lists!$A$2:$H$123,MATCH(View_Indicators!$W47,Lists!$G$2:$G$123,0),2),"") -> RCD | Z47: =IFERROR(VLOOKUP($Y47,INDIRECT($W$16&"!$E$12:$H$154"),3,FALSE),"") | AA47: =IFERROR(VLOOKUP($Y47,INDIRECT($W$16&"!$E$12:$I$154"),4,FALSE),"") | AB47: =IFERROR(VLOOKUP($Y47,INDIRECT($W$16&"!$E$12:$I$154"),5,FALSE), "") | AF47: 0.18324584 | AG47: RMP | AH47: 1.1832458 | AI47: =IF(ISNA(AP47),#N/A,IF(ISNUMBER(AP47),AP47,#N/A)) -> 0.86681 | AM47: =IF(AND($X$16=5,$Y$16="N/A"),#N/A,VLOOKUP($AA$16,INDIRECT($W$16&"!$E$12:$H$155"),4,FALSE)) -> 0.83675 | AO47: =VLOOKUP($AG47,INDIRECT($W$16&"!$E$12:$I$155"),$X$16,FALSE) -> 0.86681 | AP47: =IF(OR(AND($X$16=5,$Y$16="N/A"), AND($W$16= "Ind10_Survival", $X$16=4)),#N/A,AO47) -> 0.86681
B48: =IF(ISERROR(Y44),"",Y44) -> RCF | C48: =IF(ISERROR(X44),"",X44) -> Airedale NHS Foundation Trust | E48: =IF(ISERROR(Z44),"",Z44) -> 293 | F48: =IF(ISERROR(AA44),"",AA44) -> 0.83276 | G48: =IF(ISERROR(AA44),"",IF($Y$16="N/A","-",AB44)) -> 0.83625 | V48: 5 | W48: =V48&"x"&RIGHT(W$10,3) -> 5x030 | X48: =IFERROR(INDEX(Lists!$A$2:$H$123,MATCH(View_Indicators!$W48,Lists!$G$2:$G$123,0),1), "") -> Leeds Teaching Hospitals NHS Trust | Y48: =IFERROR(INDEX(Lists!$A$2:$H$123,MATCH(View_Indicators!$W48,Lists!$G$2:$G$123,0),2),"") -> RR8 | Z48: =IFERROR(VLOOKUP($Y48,INDIRECT($W$16&"!$E$12:$H$154"),3,FALSE),"") | AA48: =IFERROR(VLOOKUP($Y48,INDIRECT($W$16&"!$E$12:$I$154"),4,FALSE),"") | AB48: =IFERROR(VLOOKUP($Y48,INDIRECT($W$16&"!$E$12:$I$154"),5,FALSE), "") | AF48: 0.5984322 | AG48: RRF | AH48: 1.5984322 | AI48: =IF(ISNA(AP48),#N/A,IF(ISNUMBER(AP48),AP48,#N/A)) -> 0.85949 | AM48: =IF(AND($X$16=5,$Y$16="N/A"),#N/A,VLOOKUP($AA$16,INDIRECT($W$16&"!$E$12:$H$155"),4,FALSE)) -> 0.83675 | AO48: =VLOOKUP($AG48,INDIRECT($W$16&"!$E$12:$I$155"),$X$16,FALSE) -> 0.85949 | AP48: =IF(OR(AND($X$16=5,$Y$16="N/A"), AND($W$16= "Ind10_Survival", $X$16=4)),#N/A,AO48) -> 0.85949
B49: =IF(ISERROR(Y45),"",Y45) -> RAE | C49: =IF(ISERROR(X45),"",X45) -> Bradford Teaching Hospitals NHS Foundation Trust | E49: =IF(ISERROR(Z45),"",Z45) -> 514 | F49: =IF(ISERROR(AA45),"",AA45) -> 0.86187 | G49: =IF(ISERROR(AA45),"",IF($Y$16="N/A","-",AB45)) -> 0.86046 | V49: 6 | W49: =V49&"x"&RIGHT(W$10,3) -> 6x030 | X49: =IFERROR(INDEX(Lists!$A$2:$H$123,MATCH(View_Indicators!$W49,Lists!$G$2:$G$123,0),1), "") -> Mid Yorkshire Teaching NHS Trust | Y49: =IFERROR(INDEX(Lists!$A$2:$H$123,MATCH(View_Indicators!$W49,Lists!$G$2:$G$123,0),2),"") -> RXF | Z49: =IFERROR(VLOOKUP($Y49,INDIRECT($W$16&"!$E$12:$H$154"),3,FALSE),"") | AA49: =IFERROR(VLOOKUP($Y49,INDIRECT($W$16&"!$E$12:$I$154"),4,FALSE),"") | AB49: =IFERROR(VLOOKUP($Y49,INDIRECT($W$16&"!$E$12:$I$154"),5,FALSE), "") | AF49: 0.21516445 | AG49: RWA | AH49: 1.2151645 | AI49: =IF(ISNA(AP49),#N/A,IF(ISNUMBER(AP49),AP49,#N/A)) -> 0.90904 | AM49: =IF(AND($X$16=5,$Y$16="N/A"),#N/A,VLOOKUP($AA$16,INDIRECT($W$16&"!$E$12:$H$155"),4,FALSE)) -> 0.83675 | AO49: =VLOOKUP($AG49,INDIRECT($W$16&"!$E$12:$I$155"),$X$16,FALSE) -> 0.90904 | AP49: =IF(OR(AND($X$16=5,$Y$16="N/A"), AND($W$16= "Ind10_Survival", $X$16=4)),#N/A,AO49) -> 0.90904
B50: =IF(ISERROR(Y46),"",Y46) -> RWY | C50: =IF(ISERROR(X46),"",X46) -> Calderdale and Huddersfield NHS Foundation Trust | E50: =IF(ISERROR(Z46),"",Z46) -> 566 | F50: =IF(ISERROR(AA46),"",AA46) -> 0.81625 | G50: =IF(ISERROR(AA46),"",IF($Y$16="N/A","-",AB46)) -> 0.82495 | V50: 7 | W50: =V50&"x"&RIGHT(W$10,3) -> 7x030 | X50: =IFERROR(INDEX(Lists!$A$2:$H$123,MATCH(View_Indicators!$W50,Lists!$G$2:$G$123,0),1), "") | Y50: =IFERROR(INDEX(Lists!$A$2:$H$123,MATCH(View_Indicators!$W50,Lists!$G$2:$G$123,0),2),"") | Z50: =IFERROR(VLOOKUP($Y50,INDIRECT($W$16&"!$E$12:$H$154"),3,FALSE),"") | AA50: =IFERROR(VLOOKUP($Y50,INDIRECT($W$16&"!$E$12:$I$154"),4,FALSE),"") | AB50: =IFERROR(VLOOKUP($Y50,INDIRECT($W$16&"!$E$12:$I$154"),5,FALSE), "") | AF50: 0.81158762 | AG50: RJL | AH50: 1.8115876 | AI50: =IF(ISNA(AP50),#N/A,IF(ISNUMBER(AP50),AP50,#N/A)) -> 0.90136 | AM50: =IF(AND($X$16=5,$Y$16="N/A"),#N/A,VLOOKUP($AA$16,INDIRECT($W$16&"!$E$12:$H$155"),4,FALSE)) -> 0.83675 | AO50: =VLOOKUP($AG50,INDIRECT($W$16&"!$E$12:$I$155"),$X$16,FALSE) -> 0.90136 | AP50: =IF(OR(AND($X$16=5,$Y$16="N/A"), AND($W$16= "Ind10_Survival", $X$16=4)),#N/A,AO50) -> 0.90136
B51: =IF(ISERROR(Y47),"",Y47) -> RCD | C51: =IF(ISERROR(X47),"",X47) -> Harrogate and District NHS Foundation Trust | E51: =IF(ISERROR(Z47),"",Z47) | F51: =IF(ISERROR(AA47),"",AA47) | G51: =IF(ISERROR(AA47),"",IF($Y$16="N/A","-",AB47)) | V51: 8 | W51: =V51&"x"&RIGHT(W$10,3) -> 8x030 | X51: =IFERROR(INDEX(Lists!$A$2:$H$123,MATCH(View_Indicators!$W51,Lists!$G$2:$G$123,0),1), "") | Y51: =IFERROR(INDEX(Lists!$A$2:$H$123,MATCH(View_Indicators!$W51,Lists!$G$2:$G$123,0),2),"") | Z51: =IFERROR(VLOOKUP($Y51,INDIRECT($W$16&"!$E$12:$H$154"),3,FALSE),"") | AA51: =IFERROR(VLOOKUP($Y51,INDIRECT($W$16&"!$E$12:$I$154"),4,FALSE),"") | AB51: =IFERROR(VLOOKUP($Y51,INDIRECT($W$16&"!$E$12:$I$154"),5,FALSE), "") | AF51: 0.099861714 | AG51: RCB | AH51: 1.0998617 | AI51: =IF(ISNA(AP51),#N/A,IF(ISNUMBER(AP51),AP51,#N/A)) -> 0.82454 | AM51: =IF(AND($X$16=5,$Y$16="N/A"),#N/A,VLOOKUP($AA$16,INDIRECT($W$16&"!$E$12:$H$155"),4,FALSE)) -> 0.83675 | AO51: =VLOOKUP($AG51,INDIRECT($W$16&"!$E$12:$I$155"),$X$16,FALSE) -> 0.82454 | AP51: =IF(OR(AND($X$16=5,$Y$16="N/A"), AND($W$16= "Ind10_Survival", $X$16=4)),#N/A,AO51) -> 0.82454
B52: =IF(ISERROR(Y48),"",Y48) -> RR8 | C52: =IF(ISERROR(X48),"",X48) -> Leeds Teaching Hospitals NHS Trust | E52: =IF(ISERROR(Z48),"",Z48) | F52: =IF(ISERROR(AA48),"",AA48) | G52: =IF(ISERROR(AA48),"",IF($Y$16="N/A","-",AB48)) | V52: 9 | W52: =V52&"x"&RIGHT(W$10,3) -> 9x030 | X52: =IFERROR(INDEX(Lists!$A$2:$H$123,MATCH(View_Indicators!$W52,Lists!$G$2:$G$123,0),1), "") | Y52: =IFERROR(INDEX(Lists!$A$2:$H$123,MATCH(View_Indicators!$W52,Lists!$G$2:$G$123,0),2),"") | Z52: =IFERROR(VLOOKUP($Y52,INDIRECT($W$16&"!$E$12:$H$154"),3,FALSE),"") | AA52: =IFERROR(VLOOKUP($Y52,INDIRECT($W$16&"!$E$12:$I$154"),4,FALSE),"") | AB52: =IFERROR(VLOOKUP($Y52,INDIRECT($W$16&"!$E$12:$I$154"),5,FALSE), "") | AF52: 0.28595832 | AG52: RN7 | AH52: 1.2859583 | AI52: =IF(ISNA(AP52),#N/A,IF(ISNUMBER(AP52),AP52,#N/A)) -> 0.87873 | AM52: =IF(AND($X$16=5,$Y$16="N/A"),#N/A,VLOOKUP($AA$16,INDIRECT($W$16&"!$E$12:$H$155"),4,FALSE)) -> 0.83675 | AO52: =VLOOKUP($AG52,INDIRECT($W$16&"!$E$12:$I$155"),$X$16,FALSE) -> 0.87873 | AP52: =IF(OR(AND($X$16=5,$Y$16="N/A"), AND($W$16= "Ind10_Survival", $X$16=4)),#N/A,AO52) -> 0.87873
B53: =IF(ISERROR(Y49),"",Y49) -> RXF | C53: =IF(ISERROR(X49),"",X49) -> Mid Yorkshire Teaching NHS Trust | E53: =IF(ISERROR(Z49),"",Z49) | F53: =IF(ISERROR(AA49),"",AA49) | G53: =IF(ISERROR(AA49),"",IF($Y$16="N/A","-",AB49)) | V53: 10 | W53: =V53&"x"&RIGHT(W$10,3) -> 10x030 | X53: =IFERROR(INDEX(Lists!$A$2:$H$123,MATCH(View_Indicators!$W53,Lists!$G$2:$G$123,0),1), "") | Y53: =IFERROR(INDEX(Lists!$A$2:$H$123,MATCH(View_Indicators!$W53,Lists!$G$2:$G$123,0),2),"") | Z53: =IFERROR(VLOOKUP($Y53,INDIRECT($W$16&"!$E$12:$H$154"),3,FALSE),"") | AA53: =IFERROR(VLOOKUP($Y53,INDIRECT($W$16&"!$E$12:$I$154"),4,FALSE),"") | AB53: =IFERROR(VLOOKUP($Y53,INDIRECT($W$16&"!$E$12:$I$154"),5,FALSE), "") | AF53: 0.015137611 | AG53: RVV | AH53: 1.0151376 | AI53: =IF(ISNA(AP53),#N/A,IF(ISNUMBER(AP53),AP53,#N/A)) -> 0.85754 | AM53: =IF(AND($X$16=5,$Y$16="N/A"),#N/A,VLOOKUP($AA$16,INDIRECT($W$16&"!$E$12:$H$155"),4,FALSE)) -> 0.83675 | AO53: =VLOOKUP($AG53,INDIRECT($W$16&"!$E$12:$I$155"),$X$16,FALSE) -> 0.85754 | AP53: =IF(OR(AND($X$16=5,$Y$16="N/A"), AND($W$16= "Ind10_Survival", $X$16=4)),#N/A,AO53) -> 0.85754
B54: =IF(ISERROR(Y50),"",Y50) | C54: =IF(ISERROR(X50),"",X50) | E54: =IF(ISERROR(Z50),"",Z50) | F54: =IF(ISERROR(AA50),"",AA50) | G54: =IF(ISERROR(AA50),"",IF($Y$16="N/A","-",AB50)) | V54: 11 | W54: =V54&"x"&RIGHT(W$10,3) -> 11x030 | X54: =IFERROR(INDEX(Lists!$A$2:$H$123,MATCH(View_Indicators!$W54,Lists!$G$2:$G$123,0),1), "") | Y54: =IFERROR(INDEX(Lists!$A$2:$H$123,MATCH(View_Indicators!$W54,Lists!$G$2:$G$123,0),2),"") | Z54: =IFERROR(VLOOKUP($Y54,INDIRECT($W$16&"!$E$12:$H$154"),3,FALSE),"") | AA54: =IFERROR(VLOOKUP($Y54,INDIRECT($W$16&"!$E$12:$I$154"),4,FALSE),"") | AB54: =IFERROR(VLOOKUP($Y54,INDIRECT($W$16&"!$E$12:$I$154"),5,FALSE), "") | AF54: 0.53656937 | AG54: RWF | AH54: 1.5365694 | AI54: =IF(ISNA(AP54),#N/A,IF(ISNUMBER(AP54),AP54,#N/A)) -> 0.80133 | AM54: =IF(AND($X$16=5,$Y$16="N/A"),#N/A,VLOOKUP($AA$16,INDIRECT($W$16&"!$E$12:$H$155"),4,FALSE)) -> 0.83675 | AO54: =VLOOKUP($AG54,INDIRECT($W$16&"!$E$12:$I$155"),$X$16,FALSE) -> 0.80133 | AP54: =IF(OR(AND($X$16=5,$Y$16="N/A"), AND($W$16= "Ind10_Survival", $X$16=4)),#N/A,AO54) -> 0.80133
B55: =IF(ISERROR(Y51),"",Y51) | C55: =IF(ISERROR(X51),"",X51) | E55: =IF(ISERROR(Z51),"",Z51) | F55: =IF(ISERROR(AA51),"",AA51) | G55: =IF(ISERROR(AA51),"",IF($Y$16="N/A","-",AB51)) | V55: 12 | W55: =V55&"x"&RIGHT(W$10,3) -> 12x030 | X55: =IFERROR(INDEX(Lists!$A$2:$H$123,MATCH(View_Indicators!$W55,Lists!$G$2:$G$123,0),1), "") | Y55: =IFERROR(INDEX(Lists!$A$2:$H$123,MATCH(View_Indicators!$W55,Lists!$G$2:$G$123,0),2),"") | Z55: =IFERROR(VLOOKUP($Y55,INDIRECT($W$16&"!$E$12:$H$154"),3,FALSE),"") | AA55: =IFERROR(VLOOKUP($Y55,INDIRECT($W$16&"!$E$12:$I$154"),4,FALSE),"") | AB55: =IFERROR(VLOOKUP($Y55,INDIRECT($W$16&"!$E$12:$I$154"),5,FALSE), "") | AF55: 0.19093131 | AG55: RPA | AH55: 1.1909313 | AI55: =IF(ISNA(AP55),#N/A,IF(ISNUMBER(AP55),AP55,#N/A)) -> 0.83743 | AM55: =IF(AND($X$16=5,$Y$16="N/A"),#N/A,VLOOKUP($AA$16,INDIRECT($W$16&"!$E$12:$H$155"),4,FALSE)) -> 0.83675 | AO55: =VLOOKUP($AG55,INDIRECT($W$16&"!$E$12:$I$155"),$X$16,FALSE) -> 0.83743 | AP55: =IF(OR(AND($X$16=5,$Y$16="N/A"), AND($W$16= "Ind10_Survival", $X$16=4)),#N/A,AO55) -> 0.83743
B56: =IF(ISERROR(Y52),"",Y52) | C56: =IF(ISERROR(X52),"",X52) | E56: =IF(ISERROR(Z52),"",Z52) | F56: =IF(ISERROR(AA52),"",AA52) | G56: =IF(ISERROR(AA52),"",IF($Y$16="N/A","-",AB52)) | V56: 13 | W56: =V56&"x"&RIGHT(W$10,3) -> 13x030 | X56: =IFERROR(INDEX(Lists!$A$2:$H$123,MATCH(View_Indicators!$W56,Lists!$G$2:$G$123,0),1), "") | Y56: =IFERROR(INDEX(Lists!$A$2:$H$123,MATCH(View_Indicators!$W56,Lists!$G$2:$G$123,0),2),"") | Z56: =IFERROR(VLOOKUP($Y56,INDIRECT($W$16&"!$E$12:$H$154"),3,FALSE),"") | AA56: =IFERROR(VLOOKUP($Y56,INDIRECT($W$16&"!$E$12:$I$154"),4,FALSE),"") | AB56: =IFERROR(VLOOKUP($Y56,INDIRECT($W$16&"!$E$12:$I$154"),5,FALSE), "") | AF56: 0.77105726 | AG56: RXL | AH56: 1.7710573 | AI56: =IF(ISNA(AP56),#N/A,IF(ISNUMBER(AP56),AP56,#N/A)) -> 0.8091 | AM56: =IF(AND($X$16=5,$Y$16="N/A"),#N/A,VLOOKUP($AA$16,INDIRECT($W$16&"!$E$12:$H$155"),4,FALSE)) -> 0.83675 | AO56: =VLOOKUP($AG56,INDIRECT($W$16&"!$E$12:$I$155"),$X$16,FALSE) -> 0.8091 | AP56: =IF(OR(AND($X$16=5,$Y$16="N/A"), AND($W$16= "Ind10_Survival", $X$16=4)),#N/A,AO56) -> 0.8091
B57: =IF(ISERROR(Y53),"",Y53) | C57: =IF(ISERROR(X53),"",X53) | E57: =IF(ISERROR(Z53),"",Z53) | F57: =IF(ISERROR(AA53),"",AA53) | G57: =IF(ISERROR(AA53),"",IF($Y$16="N/A","-",AB53)) | AF57: 0.27243592 | AG57: RXR | AH57: 1.2724359 | AI57: =IF(ISNA(AP57),#N/A,IF(ISNUMBER(AP57),AP57,#N/A)) -> 0.85667 | AM57: =IF(AND($X$16=5,$Y$16="N/A"),#N/A,VLOOKUP($AA$16,INDIRECT($W$16&"!$E$12:$H$155"),4,FALSE)) -> 0.83675 | AO57: =VLOOKUP($AG57,INDIRECT($W$16&"!$E$12:$I$155"),$X$16,FALSE) -> 0.85667 | AP57: =IF(OR(AND($X$16=5,$Y$16="N/A"), AND($W$16= "Ind10_Survival", $X$16=4)),#N/A,AO57) -> 0.85667
B58: =IF(ISERROR(Y54),"",Y54) | C58: =IF(ISERROR(X54),"",X54) | E58: =IF(ISERROR(Z54),"",Z54) | F58: =IF(ISERROR(AA54),"",AA54) | G58: =IF(ISERROR(AA54),"",IF($Y$16="N/A","-",AB54)) | AF58: 0.42841046 | AG58: RXN | AH58: 1.4284105 | AI58: =IF(ISNA(AP58),#N/A,IF(ISNUMBER(AP58),AP58,#N/A)) -> 0.84117 | AM58: =IF(AND($X$16=5,$Y$16="N/A"),#N/A,VLOOKUP($AA$16,INDIRECT($W$16&"!$E$12:$H$155"),4,FALSE)) -> 0.83675 | AO58: =VLOOKUP($AG58,INDIRECT($W$16&"!$E$12:$I$155"),$X$16,FALSE) -> 0.84117 | AP58: =IF(OR(AND($X$16=5,$Y$16="N/A"), AND($W$16= "Ind10_Survival", $X$16=4)),#N/A,AO58) -> 0.84117
B59: =IF(ISERROR(Y55),"",Y55) | C59: =IF(ISERROR(X55),"",X55) | E59: =IF(ISERROR(Z55),"",Z55) | F59: =IF(ISERROR(AA55),"",AA55) | G59: =IF(ISERROR(AA55),"",IF($Y$16="N/A","-",AB55)) | AF59: 0.12812757 | AG59: RTX | AH59: 1.1281276 | AI59: =IF(ISNA(AP59),#N/A,IF(ISNUMBER(AP59),AP59,#N/A)) -> 0.87066 | AM59: =IF(AND($X$16=5,$Y$16="N/A"),#N/A,VLOOKUP($AA$16,INDIRECT($W$16&"!$E$12:$H$155"),4,FALSE)) -> 0.83675 | AO59: =VLOOKUP($AG59,INDIRECT($W$16&"!$E$12:$I$155"),$X$16,FALSE) -> 0.87066 | AP59: =IF(OR(AND($X$16=5,$Y$16="N/A"), AND($W$16= "Ind10_Survival", $X$16=4)),#N/A,AO59) -> 0.87066
B60: =IF(ISERROR(Y56),"",Y56) | C60: =IF(ISERROR(X56),"",X56) | E60: =IF(ISERROR(Z56),"",Z56) | F60: =IF(ISERROR(AA56),"",AA56) | G60: =IF(ISERROR(AA56),"",IF($Y$16="N/A","-",AB56)) | AF60: 0.24221597 | AG60: RAL | AH60: 1.242216 | AI60: =IF(ISNA(AP60),#N/A,IF(ISNUMBER(AP60),AP60,#N/A)) -> 0.86523 | AM60: =IF(AND($X$16=5,$Y$16="N/A"),#N/A,VLOOKUP($AA$16,INDIRECT($W$16&"!$E$12:$H$155"),4,FALSE)) -> 0.83675 | AO60: =VLOOKUP($AG60,INDIRECT($W$16&"!$E$12:$I$155"),$X$16,FALSE) -> 0.86523 | AP60: =IF(OR(AND($X$16=5,$Y$16="N/A"), AND($W$16= "Ind10_Survival", $X$16=4)),#N/A,AO60) -> 0.86523
AF61: 0.46040222 | AG61: RRV | AH61: 1.4604022 | AI61: =IF(ISNA(AP61),#N/A,IF(ISNUMBER(AP61),AP61,#N/A)) -> 0.89916 | AM61: =IF(AND($X$16=5,$Y$16="N/A"),#N/A,VLOOKUP($AA$16,INDIRECT($W$16&"!$E$12:$H$155"),4,FALSE)) -> 0.83675 | AO61: =VLOOKUP($AG61,INDIRECT($W$16&"!$E$12:$I$155"),$X$16,FALSE) -> 0.89916 | AP61: =IF(OR(AND($X$16=5,$Y$16="N/A"), AND($W$16= "Ind10_Survival", $X$16=4)),#N/A,AO61) -> 0.89916
AF62: 0.19525886 | AG62: RKE | AH62: 1.1952589 | AI62: =IF(ISNA(AP62),#N/A,IF(ISNUMBER(AP62),AP62,#N/A)) -> 0.8778 | AM62: =IF(AND($X$16=5,$Y$16="N/A"),#N/A,VLOOKUP($AA$16,INDIRECT($W$16&"!$E$12:$H$155"),4,FALSE)) -> 0.83675 | AO62: =VLOOKUP($AG62,INDIRECT($W$16&"!$E$12:$I$155"),$X$16,FALSE) -> 0.8778 | AP62: =IF(OR(AND($X$16=5,$Y$16="N/A"), AND($W$16= "Ind10_Survival", $X$16=4)),#N/A,AO62) -> 0.8778
B63: ="Figure: Organisational values on the metric: "&$C$14 -> Figure: Organisational values on the metric: People who received adjuvant radiotherapy following breast surgery | AF63: 0.26856531 | AG63: RF4 | AH63: 1.2685653 | AI63: =IF(ISNA(AP63),#N/A,IF(ISNUMBER(AP63),AP63,#N/A)) -> 0.91999 | AM63: =IF(AND($X$16=5,$Y$16="N/A"),#N/A,VLOOKUP($AA$16,INDIRECT($W$16&"!$E$12:$H$155"),4,FALSE)) -> 0.83675 | AO63: =VLOOKUP($AG63,INDIRECT($W$16&"!$E$12:$I$155"),$X$16,FALSE) -> 0.91999 | AP63: =IF(OR(AND($X$16=5,$Y$16="N/A"), AND($W$16= "Ind10_Survival", $X$16=4)),#N/A,AO63) -> 0.91999
C64: ="The indicator values displayed are "&LOWER($C$16) &IF(AND(OR($C$14="People who had contact with a Clinical Nurse Specialist (CNS) after diagnosis", $C$14="People who had Triple Diagnostic Assessment (TDA) in a single visit"), $C$16 = "adjusted for case-mix"), ". No adjusted values are present for this indicator", "") -> The indicator values displayed are adjusted for case-mix | AF64: 0.16292528 | AG64: R1H | AH64: 1.1629253 | AI64: =IF(ISNA(AP64),#N/A,IF(ISNUMBER(AP64),AP64,#N/A)) -> 0.88142 | AM64: =IF(AND($X$16=5,$Y$16="N/A"),#N/A,VLOOKUP($AA$16,INDIRECT($W$16&"!$E$12:$H$155"),4,FALSE)) -> 0.83675 | AO64: =VLOOKUP($AG64,INDIRECT($W$16&"!$E$12:$I$155"),$X$16,FALSE) -> 0.88142 | AP64: =IF(OR(AND($X$16=5,$Y$16="N/A"), AND($W$16= "Ind10_Survival", $X$16=4)),#N/A,AO64) -> 0.88142
AF65: 0.63026275 | AG65: RQX | AH65: 1.6302628 | AI65: =IF(ISNA(AP65),#N/A,IF(ISNUMBER(AP65),AP65,#N/A)) -> 0.85769 | AM65: =IF(AND($X$16=5,$Y$16="N/A"),#N/A,VLOOKUP($AA$16,INDIRECT($W$16&"!$E$12:$H$155"),4,FALSE)) -> 0.83675 | AO65: =VLOOKUP($AG65,INDIRECT($W$16&"!$E$12:$I$155"),$X$16,FALSE) -> 0.85769 | AP65: =IF(OR(AND($X$16=5,$Y$16="N/A"), AND($W$16= "Ind10_Survival", $X$16=4)),#N/A,AO65) -> 0.85769
AF66: 0.82830878 | AG66: RXP | AH66: 1.8283088 | AI66: =IF(ISNA(AP66),#N/A,IF(ISNUMBER(AP66),AP66,#N/A)) -> 0.83157 | AM66: =IF(AND($X$16=5,$Y$16="N/A"),#N/A,VLOOKUP($AA$16,INDIRECT($W$16&"!$E$12:$H$155"),4,FALSE)) -> 0.83675 | AO66: =VLOOKUP($AG66,INDIRECT($W$16&"!$E$12:$I$155"),$X$16,FALSE) -> 0.83157 | AP66: =IF(OR(AND($X$16=5,$Y$16="N/A"), AND($W$16= "Ind10_Survival", $X$16=4)),#N/A,AO66) -> 0.83157
AF67: 0.27640085 | AG67: RR7 | AH67: 1.2764009 | AI67: =IF(ISNA(AP67),#N/A,IF(ISNUMBER(AP67),AP67,#N/A)) -> 0.91592 | AM67: =IF(AND($X$16=5,$Y$16="N/A"),#N/A,VLOOKUP($AA$16,INDIRECT($W$16&"!$E$12:$H$155"),4,FALSE)) -> 0.83675 | AO67: =VLOOKUP($AG67,INDIRECT($W$16&"!$E$12:$I$155"),$X$16,FALSE) -> 0.91592 | AP67: =IF(OR(AND($X$16=5,$Y$16="N/A"), AND($W$16= "Ind10_Survival", $X$16=4)),#N/A,AO67) -> 0.91592
AF68: 0.61105219 | AG68: RTD | AH68: 1.6110522 | AI68: =IF(ISNA(AP68),#N/A,IF(ISNUMBER(AP68),AP68,#N/A)) -> 0.9023 | AM68: =IF(AND($X$16=5,$Y$16="N/A"),#N/A,VLOOKUP($AA$16,INDIRECT($W$16&"!$E$12:$H$155"),4,FALSE)) -> 0.83675 | AO68: =VLOOKUP($AG68,INDIRECT($W$16&"!$E$12:$I$155"),$X$16,FALSE) -> 0.9023 | AP68: =IF(OR(AND($X$16=5,$Y$16="N/A"), AND($W$16= "Ind10_Survival", $X$16=4)),#N/A,AO68) -> 0.9023
AF69: 0.49114941 | AG69: RNN | AH69: 1.4911494 | AI69: =IF(ISNA(AP69),#N/A,IF(ISNUMBER(AP69),AP69,#N/A)) -> 0.80413 | AM69: =IF(AND($X$16=5,$Y$16="N/A"),#N/A,VLOOKUP($AA$16,INDIRECT($W$16&"!$E$12:$H$155"),4,FALSE)) -> 0.83675 | AO69: =VLOOKUP($AG69,INDIRECT($W$16&"!$E$12:$I$155"),$X$16,FALSE) -> 0.80413 | AP69: =IF(OR(AND($X$16=5,$Y$16="N/A"), AND($W$16= "Ind10_Survival", $X$16=4)),#N/A,AO69) -> 0.80413
AF70: 0.71777713 | AG70: RVW | AH70: 1.7177771 | AI70: =IF(ISNA(AP70),#N/A,IF(ISNUMBER(AP70),AP70,#N/A)) -> 0.89901 | AM70: =IF(AND($X$16=5,$Y$16="N/A"),#N/A,VLOOKUP($AA$16,INDIRECT($W$16&"!$E$12:$H$155"),4,FALSE)) -> 0.83675 | AO70: =VLOOKUP($AG70,INDIRECT($W$16&"!$E$12:$I$155"),$X$16,FALSE) -> 0.89901 | AP70: =IF(OR(AND($X$16=5,$Y$16="N/A"), AND($W$16= "Ind10_Survival", $X$16=4)),#N/A,AO70) -> 0.89901
AF71: 0.44243493 | AG71: RTF | AH71: 1.4424349 | AI71: =IF(ISNA(AP71),#N/A,IF(ISNUMBER(AP71),AP71,#N/A)) -> 0.90807 | AM71: =IF(AND($X$16=5,$Y$16="N/A"),#N/A,VLOOKUP($AA$16,INDIRECT($W$16&"!$E$12:$H$155"),4,FALSE)) -> 0.83675 | AO71: =VLOOKUP($AG71,INDIRECT($W$16&"!$E$12:$I$155"),$X$16,FALSE) -> 0.90807 | AP71: =IF(OR(AND($X$16=5,$Y$16="N/A"), AND($W$16= "Ind10_Survival", $X$16=4)),#N/A,AO71) -> 0.90807
AF72: 0.60762342 | AG72: RTR | AH72: 1.6076234 | AI72: =IF(ISNA(AP72),#N/A,IF(ISNUMBER(AP72),AP72,#N/A)) -> 0.89999 | AM72: =IF(AND($X$16=5,$Y$16="N/A"),#N/A,VLOOKUP($AA$16,INDIRECT($W$16&"!$E$12:$H$155"),4,FALSE)) -> 0.83675 | AO72: =VLOOKUP($AG72,INDIRECT($W$16&"!$E$12:$I$155"),$X$16,FALSE) -> 0.89999 | AP72: =IF(OR(AND($X$16=5,$Y$16="N/A"), AND($W$16= "Ind10_Survival", $X$16=4)),#N/A,AO72) -> 0.89999
AF73: 0.19726154 | AG73: REF | AH73: 1.1972615 | AI73: =IF(ISNA(AP73),#N/A,IF(ISNUMBER(AP73),AP73,#N/A)) -> 0.88926 | AM73: =IF(AND($X$16=5,$Y$16="N/A"),#N/A,VLOOKUP($AA$16,INDIRECT($W$16&"!$E$12:$H$155"),4,FALSE)) -> 0.83675 | AO73: =VLOOKUP($AG73,INDIRECT($W$16&"!$E$12:$I$155"),$X$16,FALSE) -> 0.88926 | AP73: =IF(OR(AND($X$16=5,$Y$16="N/A"), AND($W$16= "Ind10_Survival", $X$16=4)),#N/A,AO73) -> 0.88926
AF74: 0.40874118 | AG74: RH8 | AH74: 1.4087412 | AI74: =IF(ISNA(AP74),#N/A,IF(ISNUMBER(AP74),AP74,#N/A)) -> 0.85452 | AM74: =IF(AND($X$16=5,$Y$16="N/A"),#N/A,VLOOKUP($AA$16,INDIRECT($W$16&"!$E$12:$H$155"),4,FALSE)) -> 0.83675 | AO74: =VLOOKUP($AG74,INDIRECT($W$16&"!$E$12:$I$155"),$X$16,FALSE) -> 0.85452 | AP74: =IF(OR(AND($X$16=5,$Y$16="N/A"), AND($W$16= "Ind10_Survival", $X$16=4)),#N/A,AO74) -> 0.85452
AF75: 0.43393677 | AG75: RA9 | AH75: 1.4339368 | AI75: =IF(ISNA(AP75),#N/A,IF(ISNUMBER(AP75),AP75,#N/A)) -> 0.89349 | AM75: =IF(AND($X$16=5,$Y$16="N/A"),#N/A,VLOOKUP($AA$16,INDIRECT($W$16&"!$E$12:$H$155"),4,FALSE)) -> 0.83675 | AO75: =VLOOKUP($AG75,INDIRECT($W$16&"!$E$12:$I$155"),$X$16,FALSE) -> 0.89349 | AP75: =IF(OR(AND($X$16=5,$Y$16="N/A"), AND($W$16= "Ind10_Survival", $X$16=4)),#N/A,AO75) -> 0.89349
AF76: 0.71315105 | AG76: RK9 | AH76: 1.7131511 | AI76: =IF(ISNA(AP76),#N/A,IF(ISNUMBER(AP76),AP76,#N/A)) -> 0.87112 | AM76: =IF(AND($X$16=5,$Y$16="N/A"),#N/A,VLOOKUP($AA$16,INDIRECT($W$16&"!$E$12:$H$155"),4,FALSE)) -> 0.83675 | AO76: =VLOOKUP($AG76,INDIRECT($W$16&"!$E$12:$I$155"),$X$16,FALSE) -> 0.87112 | AP76: =IF(OR(AND($X$16=5,$Y$16="N/A"), AND($W$16= "Ind10_Survival", $X$16=4)),#N/A,AO76) -> 0.87112
... AF84: 0.82173011 | AG84: RJ7 | AH84: 1.8217301 | AI84: =IF(ISNA(AP84),#N/A,IF(ISNUMBER(AP84),AP84,#N/A)) -> 0.87225 | AM84: =IF(AND($X$16=5,$Y$16="N/A"),#N/A,VLOOKUP($AA$16,INDIRECT($W$16&"!$E$12:$H$155"),4,FALSE)) -> 0.83675 | AO84: =VLOOKUP($AG84,INDIRECT($W$16&"!$E$12:$I$155"),$X$16,FALSE) -> 0.87225 | AP84: =IF(OR(AND($X$16=5,$Y$16="N/A"), AND($W$16= "Ind10_Survival", $X$16=4)),#N/A,AO84) -> 0.87225
E85: =IF(ISERROR($W$14),"",IF(ISNA($AK$147),"Selected breast unit does not have a value for this indicator","")) | AF85: 0.83168903 | AG85: RTE | AH85: 1.831689 | AI85: =IF(ISNA(AP85),#N/A,IF(ISNUMBER(AP85),AP85,#N/A)) -> 0.89829 | AM85: =IF(AND($X$16=5,$Y$16="N/A"),#N/A,VLOOKUP($AA$16,INDIRECT($W$16&"!$E$12:$H$155"),4,FALSE)) -> 0.83675 | AO85: =VLOOKUP($AG85,INDIRECT($W$16&"!$E$12:$I$155"),$X$16,FALSE) -> 0.89829 | AP85: =IF(OR(AND($X$16=5,$Y$16="N/A"), AND($W$16= "Ind10_Survival", $X$16=4)),#N/A,AO85) -> 0.89829
AF86: 0.29686358 | AG86: RVJ | AH86: 1.2968636 | AI86: =IF(ISNA(AP86),#N/A,IF(ISNUMBER(AP86),AP86,#N/A)) -> 0.86758 | AM86: =IF(AND($X$16=5,$Y$16="N/A"),#N/A,VLOOKUP($AA$16,INDIRECT($W$16&"!$E$12:$H$155"),4,FALSE)) -> 0.83675 | AO86: =VLOOKUP($AG86,INDIRECT($W$16&"!$E$12:$I$155"),$X$16,FALSE) -> 0.86758 | AP86: =IF(OR(AND($X$16=5,$Y$16="N/A"), AND($W$16= "Ind10_Survival", $X$16=4)),#N/A,AO86) -> 0.86758
AF87: 0.94281118 | AG87: RD1 | AH87: 1.9428112 | AI87: =IF(ISNA(AP87),#N/A,IF(ISNUMBER(AP87),AP87,#N/A)) -> 0.88129 | AM87: =IF(AND($X$16=5,$Y$16="N/A"),#N/A,VLOOKUP($AA$16,INDIRECT($W$16&"!$E$12:$H$155"),4,FALSE)) -> 0.83675 | AO87: =VLOOKUP($AG87,INDIRECT($W$16&"!$E$12:$I$155"),$X$16,FALSE) -> 0.88129 | AP87: =IF(OR(AND($X$16=5,$Y$16="N/A"), AND($W$16= "Ind10_Survival", $X$16=4)),#N/A,AO87) -> 0.88129
AF88: 0.088391981 | AG88: RNZ | AH88: 1.088392 | AI88: =IF(ISNA(AP88),#N/A,IF(ISNUMBER(AP88),AP88,#N/A)) -> 0.7522 | AM88: =IF(AND($X$16=5,$Y$16="N/A"),#N/A,VLOOKUP($AA$16,INDIRECT($W$16&"!$E$12:$H$155"),4,FALSE)) -> 0.83675 | AO88: =VLOOKUP($AG88,INDIRECT($W$16&"!$E$12:$I$155"),$X$16,FALSE) -> 0.7522 | AP88: =IF(OR(AND($X$16=5,$Y$16="N/A"), AND($W$16= "Ind10_Survival", $X$16=4)),#N/A,AO88) -> 0.7522
AF89: 0.094072444 | AG89: RH5 | AH89: 1.0940724 | AI89: =IF(ISNA(AP89),#N/A,IF(ISNUMBER(AP89),AP89,#N/A)) -> 0.87378 | AM89: =IF(AND($X$16=5,$Y$16="N/A"),#N/A,VLOOKUP($AA$16,INDIRECT($W$16&"!$E$12:$H$155"),4,FALSE)) -> 0.83675 | AO89: =VLOOKUP($AG89,INDIRECT($W$16&"!$E$12:$I$155"),$X$16,FALSE) -> 0.87378 | AP89: =IF(OR(AND($X$16=5,$Y$16="N/A"), AND($W$16= "Ind10_Survival", $X$16=4)),#N/A,AO89) -> 0.87378
AF90: 0.48754959 | AG90: RJ1 | AH90: 1.4875496 | AI90: =IF(ISNA(AP90),#N/A,IF(ISNUMBER(AP90),AP90,#N/A)) -> 0.87615 | AM90: =IF(AND($X$16=5,$Y$16="N/A"),#N/A,VLOOKUP($AA$16,INDIRECT($W$16&"!$E$12:$H$155"),4,FALSE)) -> 0.83675 | AO90: =VLOOKUP($AG90,INDIRECT($W$16&"!$E$12:$I$155"),$X$16,FALSE) -> 0.87615 | AP90: =IF(OR(AND($X$16=5,$Y$16="N/A"), AND($W$16= "Ind10_Survival", $X$16=4)),#N/A,AO90) -> 0.87615
AF91: 0.97323666 | AG91: RJZ | AH91: 1.9732367 | AI91: =IF(ISNA(AP91),#N/A,IF(ISNUMBER(AP91),AP91,#N/A)) -> 0.8572 | AM91: =IF(AND($X$16=5,$Y$16="N/A"),#N/A,VLOOKUP($AA$16,INDIRECT($W$16&"!$E$12:$H$155"),4,FALSE)) -> 0.83675 | AO91: =VLOOKUP($AG91,INDIRECT($W$16&"!$E$12:$I$155"),$X$16,FALSE) -> 0.8572 | AP91: =IF(OR(AND($X$16=5,$Y$16="N/A"), AND($W$16= "Ind10_Survival", $X$16=4)),#N/A,AO91) -> 0.8572
AF92: 0.75386142 | AG92: RJ2 | AH92: 1.7538614 | AI92: =IF(ISNA(AP92),#N/A,IF(ISNUMBER(AP92),AP92,#N/A)) -> 0.79792 | AM92: =IF(AND($X$16=5,$Y$16="N/A"),#N/A,VLOOKUP($AA$16,INDIRECT($W$16&"!$E$12:$H$155"),4,FALSE)) -> 0.83675 | AO92: =VLOOKUP($AG92,INDIRECT($W$16&"!$E$12:$I$155"),$X$16,FALSE) -> 0.79792 | AP92: =IF(OR(AND($X$16=5,$Y$16="N/A"), AND($W$16= "Ind10_Survival", $X$16=4)),#N/A,AO92) -> 0.79792
AF93: 0.43619503 | AG93: RFF | AH93: 1.436195 | AI93: =IF(ISNA(AP93),#N/A,IF(ISNUMBER(AP93),AP93,#N/A)) -> 0.92081 | AM93: =IF(AND($X$16=5,$Y$16="N/A"),#N/A,VLOOKUP($AA$16,INDIRECT($W$16&"!$E$12:$H$155"),4,FALSE)) -> 0.83675 | AO93: =VLOOKUP($AG93,INDIRECT($W$16&"!$E$12:$I$155"),$X$16,FALSE) -> 0.92081 | AP93: =IF(OR(AND($X$16=5,$Y$16="N/A"), AND($W$16= "Ind10_Survival", $X$16=4)),#N/A,AO93) -> 0.92081
AF94: 0.14884154 | AG94: RP5 | AH94: 1.1488415 | AI94: =IF(ISNA(AP94),#N/A,IF(ISNUMBER(AP94),AP94,#N/A)) -> 0.83938 | AM94: =IF(AND($X$16=5,$Y$16="N/A"),#N/A,VLOOKUP($AA$16,INDIRECT($W$16&"!$E$12:$H$155"),4,FALSE)) -> 0.83675 | AO94: =VLOOKUP($AG94,INDIRECT($W$16&"!$E$12:$I$155"),$X$16,FALSE) -> 0.83938 | AP94: =IF(OR(AND($X$16=5,$Y$16="N/A"), AND($W$16= "Ind10_Survival", $X$16=4)),#N/A,AO94) -> 0.83938
AF95: 0.79734409 | AG95: RFR | AH95: 1.7973441 | AI95: =IF(ISNA(AP95),#N/A,IF(ISNUMBER(AP95),AP95,#N/A)) -> 0.93165 | AM95: =IF(AND($X$16=5,$Y$16="N/A"),#N/A,VLOOKUP($AA$16,INDIRECT($W$16&"!$E$12:$H$155"),4,FALSE)) -> 0.83675 | AO95: =VLOOKUP($AG95,INDIRECT($W$16&"!$E$12:$I$155"),$X$16,FALSE) -> 0.93165 | AP95: =IF(OR(AND($X$16=5,$Y$16="N/A"), AND($W$16= "Ind10_Survival", $X$16=4)),#N/A,AO95) -> 0.93165
AF96: 0.45479101 | AG96: RHQ | AH96: 1.454791 | AI96: =IF(ISNA(AP96),#N/A,IF(ISNUMBER(AP96),AP96,#N/A)) -> 0.9296 | AM96: =IF(AND($X$16=5,$Y$16="N/A"),#N/A,VLOOKUP($AA$16,INDIRECT($W$16&"!$E$12:$H$155"),4,FALSE)) -> 0.83675 | AO96: =VLOOKUP($AG96,INDIRECT($W$16&"!$E$12:$I$155"),$X$16,FALSE) -> 0.9296 | AP96: =IF(OR(AND($X$16=5,$Y$16="N/A"), AND($W$16= "Ind10_Survival", $X$16=4)),#N/A,AO96) -> 0.9296
AF97: 0.40233642 | AG97: RTK | AH97: 1.4023364 | AI97: =IF(ISNA(AP97),#N/A,IF(ISNUMBER(AP97),AP97,#N/A)) -> 0.77257 | AM97: =IF(AND($X$16=5,$Y$16="N/A"),#N/A,VLOOKUP($AA$16,INDIRECT($W$16&"!$E$12:$H$155"),4,FALSE)) -> 0.83675 | AO97: =VLOOKUP($AG97,INDIRECT($W$16&"!$E$12:$I$155"),$X$16,FALSE) -> 0.77257 | AP97: =IF(OR(AND($X$16=5,$Y$16="N/A"), AND($W$16= "Ind10_Survival", $X$16=4)),#N/A,AO97) -> 0.77257
... AF130: 0.70096196 | AG130: RXF | AH130: 1.700962 | AI130: =IF(ISNA(AP130),#N/A,IF(ISNUMBER(AP130),AP130,#N/A)) -> #N/A | AM130: =IF(AND($X$16=5,$Y$16="N/A"),#N/A,VLOOKUP($AA$16,INDIRECT($W$16&"!$E$12:$H$155"),4,FALSE)) -> 0.83675 | AO130: =VLOOKUP($AG130,INDIRECT($W$16&"!$E$12:$I$155"),$X$16,FALSE) -> #N/A | AP130: =IF(OR(AND($X$16=5,$Y$16="N/A"), AND($W$16= "Ind10_Survival", $X$16=4)),#N/A,AO130) -> #N/A
AG131: Gap
AG132: Start | AH132: =AH$6-(3+COUNT(AJ$134:AJ$146))/20 -> 3.65 | AL132: =IF(OR(ISERROR($W$14),$Y$16="N/A"),NA(),VLOOKUP(W$10,INDIRECT($W$16&"!$E$12:$I$154"),$X$16,FALSE)) -> 0.83637
AG133: End | AH133: =AH$6+(3+COUNT(AJ$134:AJ$146))/20 -> 4.35 | AL133: =IF(OR(ISERROR($W$14),$Y$16="N/A"),NA(),VLOOKUP(W$10,INDIRECT($W$16&"!$E$12:$I$154"),$X$16,FALSE)) -> 0.83637
AG134: =Y44 -> RCF | AH134: =AH$6 -> 4 | AJ134: =IF(ISNA($W$14),NA(),VLOOKUP($AG134,$AG$9:$AI$130,3,FALSE)) -> 0.83625 | AL134: =IF(OR(ISERROR($W$14),$Y$16="N/A"),NA(),VLOOKUP(W$10,INDIRECT($W$16&"!$E$12:$I$154"),$X$16,FALSE)) -> 0.83637
AG135: =Y45 -> RAE | AH135: =AH$6+0.1 -> 4.1 | AJ135: =IF(ISNA($W$14),NA(),VLOOKUP($AG135,$AG$9:$AI$130,3,FALSE)) -> 0.86046 | AL135: =IF(OR(ISERROR($W$14),$Y$16="N/A"),NA(),VLOOKUP(W$10,INDIRECT($W$16&"!$E$12:$I$154"),$X$16,FALSE)) -> 0.83637
AG136: =Y46 -> RWY | AH136: =AH$6-0.1 -> 3.9 | AJ136: =IF(ISNA($W$14),NA(),VLOOKUP($AG136,$AG$9:$AI$130,3,FALSE)) -> 0.82495 | AL136: =IF(OR(ISERROR($W$14),$Y$16="N/A"),NA(),VLOOKUP(W$10,INDIRECT($W$16&"!$E$12:$I$154"),$X$16,FALSE)) -> 0.83637
AG137: =Y47 -> RCD | AH137: =AH$6+0.2 -> 4.2 | AJ137: =IF(ISNA($W$14),NA(),VLOOKUP($AG137,$AG$9:$AI$130,3,FALSE)) -> 0.86739 | AL137: =IF(OR(ISERROR($W$14),$Y$16="N/A"),NA(),VLOOKUP(W$10,INDIRECT($W$16&"!$E$12:$I$154"),$X$16,FALSE)) -> 0.83637
AG138: =Y48 -> RR8 | AH138: =AH$6-0.2 -> 3.8 | AJ138: =IF(ISNA($W$14),NA(),VLOOKUP($AG138,$AG$9:$AI$130,3,FALSE)) -> #N/A | AL138: =IF(OR(ISERROR($W$14),$Y$16="N/A"),NA(),VLOOKUP(W$10,INDIRECT($W$16&"!$E$12:$I$154"),$X$16,FALSE)) -> 0.83637
AG139: =Y49 -> RXF | AH139: =AH$6+0.3 -> 4.3 | AJ139: =IF(ISNA($W$14),NA(),VLOOKUP($AG139,$AG$9:$AI$130,3,FALSE)) -> #N/A | AL139: =IF(OR(ISERROR($W$14),$Y$16="N/A"),NA(),VLOOKUP(W$10,INDIRECT($W$16&"!$E$12:$I$154"),$X$16,FALSE)) -> 0.83637
AG140: =Y50 | AH140: =AH$6-0.3 -> 3.7 | AJ140: =IF(ISNA($W$14),NA(),VLOOKUP($AG140,$AG$9:$AI$130,3,FALSE)) -> #N/A | AL140: =IF(OR(ISERROR($W$14),$Y$16="N/A"),NA(),VLOOKUP(W$10,INDIRECT($W$16&"!$E$12:$I$154"),$X$16,FALSE)) -> 0.83637
AG141: =Y51 | AH141: =AH$6+0.4 -> 4.4 | AJ141: =IF(ISNA($W$14),NA(),VLOOKUP($AG141,$AG$9:$AI$130,3,FALSE)) -> #N/A | AL141: =IF(OR(ISERROR($W$14),$Y$16="N/A"),NA(),VLOOKUP(W$10,INDIRECT($W$16&"!$E$12:$I$154"),$X$16,FALSE)) -> 0.83637
...

Sheet Lists
A2: trust_name | B2: trust_code | C2: alliance_name | D2: alliance_code | E2: Country | F2: country_code | G2: Row_label | H2: Group_label | K2: Dropdown, trusts only, Wales then England
A3: Airedale NHS Foundation Trust | B3: RCF | C3: West Yorkshire and Harrogate | D3: E56000030 | E3: England | F3: E92000001 | G3: 1x030 | H3: =RIGHT(D3,3) -> 030 | K3: Aneurin Bevan University Health Board
A4: Aneurin Bevan University Health Board | B4: 7A6 | D4: W92 | E4: Wales | F4: W92000004 | G4: 6xW92 | H4: W92 | K4: Betsi Cadwaladr University Health Board
A5: Ashford and St Peter's Hospitals NHS Foundation Trust | B5: RTK | C5: Surrey and Sussex | D5: E56000012 | E5: England | F5: E92000001 | G5: 1x012 | H5: =RIGHT(D5,3) -> 012 | K5: Cardiff and Vale University Health Board
A6: Barking, Havering and Redbridge University Hospitals NHS Trust | B6: RF4 | C6: North East London | D6: E56000028 | E6: England | F6: E92000001 | G6: 1x028 | H6: =RIGHT(D6,3) -> 028 | K6: Cwm Taf Morgannwg University Health Board
A7: Barnsley Hospital NHS Foundation Trust | B7: RFF | C7: South Yorkshire and Bassetlaw | D7: E56000025 | E7: England | F7: E92000001 | G7: 1x025 | H7: =RIGHT(D7,3) -> 025 | K7: Hywel Dda University Health Board
A8: Barts Health NHS Trust | B8: R1H | C8: North East London | D8: E56000028 | E8: England | F8: E92000001 | G8: 2x028 | H8: =RIGHT(D8,3) -> 028 | K8: Swansea Bay University Health Board
A9: Bedfordshire Hospitals NHS Foundation Trust | B9: RC9 | C9: East of England | D9: E56000035 | E9: England | F9: E92000001 | G9: 1x035 | H9: =RIGHT(D9,3) -> 035 | K9: Airedale NHS Foundation Trust
A10: Betsi Cadwaladr University Health Board | B10: 7A1 | D10: W92 | E10: Wales | F10: W92000004 | G10: 1xW92 | H10: W92 | K10: Ashford and St Peter's Hospitals NHS Foundation Trust
A11: Blackpool Teaching Hospitals NHS Foundation Trust | B11: RXL | C11: Lancashire and South Cumbria | D11: E56000018 | E11: England | F11: E92000001 | G11: 1x018 | H11: =RIGHT(D11,3) -> 018 | K11: Barking, Havering and Redbridge University Hospitals NHS Trust
A12: Bolton NHS Foundation Trust | B12: RMC | C12: Greater Manchester | D12: E56000032 | E12: England | F12: E92000001 | G12: 1x032 | H12: =RIGHT(D12,3) -> 032 | K12: Barnsley Hospital NHS Foundation Trust
A13: Bradford Teaching Hospitals NHS Foundation Trust | B13: RAE | C13: West Yorkshire and Harrogate | D13: E56000030 | E13: England | F13: E92000001 | G13: 2x030 | H13: =RIGHT(D13,3) -> 030 | K13: Barts Health NHS Trust
A14: Buckinghamshire Healthcare NHS Trust | B14: RXQ | C14: Thames Valley | D14: E56000034 | E14: England | F14: E92000001 | G14: 1x034 | H14: =RIGHT(D14,3) -> 034 | K14: Bedfordshire Hospitals NHS Foundation Trust
A15: Calderdale and Huddersfield NHS Foundation Trust | B15: RWY | C15: West Yorkshire and Harrogate | D15: E56000030 | E15: England | F15: E92000001 | G15: 3x030 | H15: =RIGHT(D15,3) -> 030 | K15: Blackpool Teaching Hospitals NHS Foundation Trust
A16: Cambridge University Hospitals NHS Foundation Trust | B16: RGT | C16: East of England | D16: E56000035 | E16: England | F16: E92000001 | G16: 2x035 | H16: =RIGHT(D16,3) -> 035 | K16: Bolton NHS Foundation Trust
A17: Cardiff and Vale University Health Board | B17: 7A4 | D17: W92 | E17: Wales | F17: W92000004 | G17: 4xW92 | H17: W92 | K17: Bradford Teaching Hospitals NHS Foundation Trust
A18: Chelsea and Westminster Hospital NHS Foundation Trust | B18: RQM | C18: RM Partners | D18: E56000021 | E18: England | F18: E92000001 | G18: 1x021 | H18: =RIGHT(D18,3) -> 021 | K18: Buckinghamshire Healthcare NHS Trust
A19: Chesterfield Royal Hospital NHS Foundation Trust | B19: RFS | C19: East Midlands | D19: E56000031 | E19: England | F19: E92000001 | G19: 1x031 | H19: =RIGHT(D19,3) -> 031 | K19: Calderdale and Huddersfield NHS Foundation Trust
A20: Countess Of Chester Hospital NHS Foundation Trust | B20: RJR | C20: Cheshire and Merseyside | D20: E56000005 | E20: England | F20: E92000001 | G20: 1x005 | H20: =RIGHT(D20,3) -> 005 | K20: Cambridge University Hospitals NHS Foundation Trust
A21: County Durham and Darlington NHS Foundation Trust | B21: RXP | C21: Northern | D21: E56000029 | E21: England | F21: E92000001 | G21: 1x029 | H21: =RIGHT(D21,3) -> 029 | K21: Chelsea and Westminster Hospital NHS Foundation Trust
A22: Croydon Health Services NHS Trust | B22: RJ6 | C22: RM Partners | D22: E56000021 | E22: England | F22: E92000001 | G22: 2x021 | H22: =RIGHT(D22,3) -> 021 | K22: Chesterfield Royal Hospital NHS Foundation Trust
A23: Cwm Taf Morgannwg University Health Board | B23: 7A5 | D23: W92 | E23: Wales | F23: W92000004 | G23: 5xW92 | H23: W92 | K23: Countess Of Chester Hospital NHS Foundation Trust
A24: Dartford and Gravesham NHS Trust | B24: RN7 | C24: Kent and Medway | D24: E56000011 | E24: England | F24: E92000001 | G24: 1x011 | H24: =RIGHT(D24,3) -> 011 | K24: County Durham and Darlington NHS Foundation Trust
A25: Doncaster and Bassetlaw Teaching Hospitals NHS Foundation Trust | B25: RP5 | C25: South Yorkshire and Bassetlaw | D25: E56000025 | E25: England | F25: E92000001 | G25: 2x025 | H25: =RIGHT(D25,3) -> 025 | K25: Croydon Health Services NHS Trust
A26: Dorset County Hospital NHS Foundation Trust | B26: RBD | C26: Wessex | D26: E56000016 | E26: England | F26: E92000001 | G26: 1x016 | H26: =RIGHT(D26,3) -> 016 | K26: Dartford and Gravesham NHS Trust
A27: Dudley Group NHS Foundation Trust | B27: RNA | C27: West Midlands | D27: E56000007 | E27: England | F27: E92000001 | G27: 1x007 | H27: =RIGHT(D27,3) -> 007 | K27: Doncaster and Bassetlaw Teaching Hospitals NHS Foundation Trust
A28: East and North Hertfordshire NHS Trust | B28: RWH | C28: East of England | D28: E56000035 | E28: England | F28: E92000001 | G28: 3x035 | H28: =RIGHT(D28,3) -> 035 | K28: Dorset County Hospital NHS Foundation Trust
A29: East Cheshire NHS Trust | B29: RJN | C29: Cheshire and Merseyside | D29: E56000005 | E29: England | F29: E92000001 | G29: 2x005 | H29: =RIGHT(D29,3) -> 005 | K29: Dudley Group NHS Foundation Trust
A30: East Kent Hospitals University NHS Foundation Trust | B30: RVV | C30: Kent and Medway | D30: E56000011 | E30: England | F30: E92000001 | G30: 2x011 | H30: =RIGHT(D30,3) -> 011 | K30: East and North Hertfordshire NHS Trust
A31: East Lancashire Hospitals NHS Trust | B31: RXR | C31: Lancashire and South Cumbria | D31: E56000018 | E31: England | F31: E92000001 | G31: 2x018 | H31: =RIGHT(D31,3) -> 018 | K31: East Cheshire NHS Trust
A32: East Suffolk and North Essex NHS Foundation Trust | B32: RDE | C32: East of England | D32: E56000035 | E32: England | F32: E92000001 | G32: 4x035 | H32: =RIGHT(D32,3) -> 035 | K32: East Kent Hospitals University NHS Foundation Trust
A33: East Sussex Healthcare NHS Trust | B33: RXC | C33: Surrey and Sussex | D33: E56000012 | E33: England | F33: E92000001 | G33: 2x012 | H33: =RIGHT(D33,3) -> 012 | K33: East Lancashire Hospitals NHS Trust
A34: Frimley Health NHS Foundation Trust | B34: RDU | C34: Surrey and Sussex | D34: E56000012 | E34: England | F34: E92000001 | G34: 3x012 | H34: =RIGHT(D34,3) -> 012 | K34: East Suffolk and North Essex NHS Foundation Trust
A35: Gateshead Health NHS Foundation Trust | B35: RR7 | C35: Northern | D35: E56000029 | E35: England | F35: E92000001 | G35: 2x029 | H35: =RIGHT(D35,3) -> 029 | K35: East Sussex Healthcare NHS Trust
... A44: Hull University Teaching Hospitals NHS Trust | B44: RWA | C44: Humber and North Yorkshire | D44: E56000026 | E44: England | F44: E92000001 | G44: 1x026 | H44: =RIGHT(D44,3) -> 026 | K44: Hillingdon Hospitals NHS Foundation Trust
A45: Hywel Dda University Health Board | B45: 7A2 | D45: W92 | E45: Wales | F45: W92000004 | G45: 2xW92 | H45: W92 | K45: Homerton Healthcare NHS Foundation Trust
A46: Imperial College Healthcare NHS Trust | B46: RYJ | C46: RM Partners | D46: E56000021 | E46: England | F46: E92000001 | G46: 4x021 | H46: =RIGHT(D46,3) -> 021 | K46: Hull University Teaching Hospitals NHS Trust
A47: Isle Of Wight NHS Trust | B47: R1F | C47: Wessex | D47: E56000016 | E47: England | F47: E92000001 | G47: 3x016 | H47: =RIGHT(D47,3) -> 016 | K47: Imperial College Healthcare NHS Trust
A48: James Paget University Hospitals NHS Foundation Trust | B48: RGP | C48: East of England | D48: E56000035 | E48: England | F48: E92000001 | G48: 5x035 | H48: =RIGHT(D48,3) -> 035 | K48: Isle Of Wight NHS Trust
A49: Kettering General Hospital NHS Foundation Trust | B49: RNQ | C49: East Midlands | D49: E56000031 | E49: England | F49: E92000001 | G49: 2x031 | H49: =RIGHT(D49,3) -> 031 | K49: James Paget University Hospitals NHS Foundation Trust
A50: King's College Hospital NHS Foundation Trust | B50: RJZ | C50: South East London | D50: E56000010 | E50: England | F50: E92000001 | G50: 2x010 | H50: =RIGHT(D50,3) -> 010 | K50: Kettering General Hospital NHS Foundation Trust
A51: Kingston Hospital NHS Foundation Trust | B51: RAX | C51: RM Partners | D51: E56000021 | E51: England | F51: E92000001 | G51: 5x021 | H51: =RIGHT(D51,3) -> 021 | K51: King's College Hospital NHS Foundation Trust
A52: Lancashire Teaching Hospitals NHS Foundation Trust | B52: RXN | C52: Lancashire and South Cumbria | D52: E56000018 | E52: England | F52: E92000001 | G52: 3x018 | H52: =RIGHT(D52,3) -> 018 | K52: Kingston Hospital NHS Foundation Trust
A53: Leeds Teaching Hospitals NHS Trust | B53: RR8 | C53: West Yorkshire and Harrogate | D53: E56000030 | E53: England | F53: E92000001 | G53: 5x030 | H53: =RIGHT(D53,3) -> 030 | K53: Lancashire Teaching Hospitals NHS Foundation Trust
A54: Lewisham and Greenwich NHS Trust | B54: RJ2 | C54: South East London | D54: E56000010 | E54: England | F54: E92000001 | G54: 3x010 | H54: =RIGHT(D54,3) -> 010 | K54: Leeds Teaching Hospitals NHS Trust
A55: Liverpool University Hospitals NHS Foundation Trust | B55: REM | C55: Cheshire and Merseyside | D55: E56000005 | E55: England | F55: E92000001 | G55: 3x005 | H55: =RIGHT(D55,3) -> 005 | K55: Lewisham and Greenwich NHS Trust
A56: London North West University Healthcare NHS Trust | B56: R1K | C56: RM Partners | D56: E56000021 | E56: England | F56: E92000001 | G56: 6x021 | H56: =RIGHT(D56,3) -> 021 | K56: Liverpool University Hospitals NHS Foundation Trust
A57: Maidstone and Tunbridge Wells NHS Trust | B57: RWF | C57: Kent and Medway | D57: E56000011 | E57: England | F57: E92000001 | G57: 3x011 | H57: =RIGHT(D57,3) -> 011 | K57: London North West University Healthcare NHS Trust
... A98: Surrey and Sussex Healthcare NHS Trust | B98: RTP | C98: Surrey and Sussex | D98: E56000012 | E98: England | F98: E92000001 | G98: 5x012 | H98: =RIGHT(D98,3) -> 012 | K98: St George's University Hospitals NHS Foundation Trust
A99: Swansea Bay University Health Board | B99: 7A3 | D99: W92 | E99: Wales | F99: W92000004 | G99: 3xW92 | H99: W92 | K99: Surrey and Sussex Healthcare NHS Trust
A100: Tameside and Glossop Integrated Care NHS Foundation Trust | B100: RMP | C100: Greater Manchester | D100: E56000032 | E100: England | F100: E92000001 | G100: 4x032 | H100: =RIGHT(D100,3) -> 032 | K100: Tameside and Glossop Integrated Care NHS Foundation Trust
A101: Torbay and South Devon NHS Foundation Trust | B101: RA9 | C101: Peninsula | D101: E56000014 | E101: England | F101: E92000001 | G101: 3x014 | H101: =RIGHT(D101,3) -> 014 | K101: Torbay and South Devon NHS Foundation Trust
A102: United Lincolnshire Hospitals NHS Trust | B102: RWD | C102: East Midlands | D102: E56000031 | E102: England | F102: E92000001 | G102: 6x031 | H102: =RIGHT(D102,3) -> 031 | K102: United Lincolnshire Hospitals NHS Trust
A103: University College London Hospitals NHS Foundation Trust | B103: RRV | C103: North Central London | D103: E56000027 | E103: England | F103: E92000001 | G103: 2x027 | H103: =RIGHT(D103,3) -> 027 | K103: University College London Hospitals NHS Foundation Trust
A104: University Hospital Southampton NHS Foundation Trust | B104: RHM | C104: Wessex | D104: E56000016 | E104: England | F104: E92000001 | G104: 5x016 | H104: =RIGHT(D104,3) -> 016 | K104: University Hospital Southampton NHS Foundation Trust
A105: University Hospitals Birmingham NHS Foundation Trust | B105: RRK | C105: West Midlands | D105: E56000007 | E105: England | F105: E92000001 | G105: 7x007 | H105: =RIGHT(D105,3) -> 007 | K105: University Hospitals Birmingham NHS Foundation Trust
A106: University Hospitals Coventry and Warwickshire NHS Trust | B106: RKB | C106: West Midlands | D106: E56000007 | E106: England | F106: E92000001 | G106: 8x007 | H106: =RIGHT(D106,3) -> 007 | K106: University Hospitals Coventry and Warwickshire NHS Trust
A107: University Hospitals Dorset NHS Foundation Trust | B107: R0D | C107: Wessex | D107: E56000016 | E107: England | F107: E92000001 | G107: 6x016 | H107: =RIGHT(D107,3) -> 016 | K107: University Hospitals Dorset NHS Foundation Trust
A108: University Hospitals Of Derby and Burton NHS Foundation Trust | B108: RTG | C108: East Midlands | D108: E56000031 | E108: England | F108: E92000001 | G108: 7x031 | H108: =RIGHT(D108,3) -> 031 | K108: University Hospitals Of Derby and Burton NHS Foundation Trust
A109: University Hospitals Of Leicester NHS Trust | B109: RWE | C109: East Midlands | D109: E56000031 | E109: England | F109: E92000001 | G109: 8x031 | H109: =RIGHT(D109,3) -> 031 | K109: University Hospitals Of Leicester NHS Trust
A110: University Hospitals Of Morecambe Bay NHS Foundation Trust | B110: RTX | C110: Lancashire and South Cumbria | D110: E56000018 | E110: England | F110: E92000001 | G110: 4x018 | H110: =RIGHT(D110,3) -> 018 | K110: University Hospitals Of Morecambe Bay NHS Foundation Trust
A111: University Hospitals Of North Midlands NHS Trust | B111: RJE | C111: West Midlands | D111: E56000007 | E111: England | F111: E92000001 | G111: 9x007 | H111: =RIGHT(D111,3) -> 007 | K111: University Hospitals Of North Midlands NHS Trust
... A123: York and Scarborough Teaching Hospitals NHS Foundation Trust | B123: RCB | C123: Humber and North Yorkshire | D123: E56000026 | E123: England | F123: E92000001 | G123: 3x026 | H123: =RIGHT(D123,3) -> 026 | K123: York and Scarborough Teaching Hospitals NHS Foundation Trust
A130: Completeness Metric | B130: Value Column | C130: Denominator col | D130: Target | E130: Short name | F130: Sheet Name | G130: Numerator | H130: Denominator | I130: Country
A131: [BLANK] | I131: England and Wales
A132: Data completeness for clinical nurse specialist (CNS) variable | B132: 11 | C132: 7 | D132: 0.9 | E132: Clinical nurse specialist | I132: England and Wales
A133: Data completeness for triple diagnostic assessment (COSD) | B133: 12 | C133: 9 | D133: 0.9 | E133: Triple diagnostic assessment (TDA)* | I133: England and Wales
A134: Data completeness for tumour grade | B134: 18 | C134: 7 | D134: 0.9 | E134: Tumour grade | I134: England and Wales
A135: Data completeness for overall stage | B135: 16 | C135: 7 | D135: 0.9 | E135: Overall stage | I135: England and Wales
A136: Data completeness for oestrogen receptor (ER) status | B136: 13 | C136: 7 | D136: 0.9 | E136: Oestrogen receptor (ER) Status | I136: England and Wales
A137: Data completeness for HER2 status | B137: 14 | C137: 7 | D137: 0.9 | E137: HER2 Status | I137: England and Wales
A138: Data completeness for progesterone receptor (PR) status | B138: 15 | C138: 7 | D138: 0.9 | E138: Progesterone receptor (PR) status | I138: England and Wales
A139: Data completeness for ER status, HER2 status and stage | B139: 17 | C139: 7 | D139: 0.9 | E139: ER status, HER2 status and stage all complete | I139: England and Wales
A140: Data completeness for T stage (invasive disease only) | B140: 19 | C140: 9 | D140: 0.9 | E140: T Stage | I140: England and Wales
A141: Data completeness for N stage (invasive disease only) | B141: 20 | C141: 9 | D141: 0.9 | E141: N Stage | I141: England and Wales
A151: Indicator | B151: Value Column | C151: Table Name | D151: Label | E151: Short name | F151: Sheet Name | G151: Numerator | H151: Denominator | I151: Risk adjustment | J151: Country | K151: Time period
A152: [BLANK] | E152: #N/A | I152: N/A
A153: People who had Triple Diagnostic Assessment (TDA) in a single visit | B153: 3 | C153: Triple Diagnostic Assessment in a single visit | D153: TDA | E153: TDA in visit | F153: Ind1_TDA | G153: Number of people who undergo Triple Diagnostic Assessment (TDA) in a single hospital visit | H153: Number of people with breast cancer (stage 0-3 or "unknown", excl. screening) | I153: N/A | J153: England and Wales | K153: 2020-2022
A154: People who had contact with a Clinical Nurse Specialist (CNS) after diagnosis | C154: Contact with a Clinical Nurse Specialist after diagnosis | D154: CNS | E154: CNS contact | F154: Ind2_CNS | G154: Number of people who have contact with a Clinical Nurse Specialist (CNS) after diagnosis | H154: Number of people with breast cancer (stage 0-3 or "unknown") | I154: Where known | J154: England and Wales | K154: 2020-2022
A155: People who had breast surgery within 12 months of diagnosis | C155: People who had breast surgery | D155: Surgery | E155: Breast surgery | F155: Ind3_Surgery | G155: Number of people who had i) breast-conserving surgery or ii) mastectomy within 12 months of diagnosis | H155: Number of people with early breast cancer (stage 0-3A, or "unknown") | I155: Age, ER status, T-stage, N-stage, Grade, Charlson co-morbidity score, SCARF index, Diagnosis year | J155: England and Wales | K155: 2020-2022
A156: People who received neo-adjuvant chemotherapy | C156: People who had neo-adjuvant chemotherapy | D156: Neoadj CX | E156: Neoadj CX | F156: Ind4_NACT | G156: Number of people who receive neo-adjuvant chemotherapy | H156: Number of people with invasive breast cancer (stage 2-3A) who are triple negative or HER2 positive who had surgery (<12 mths after DX) | I156: Age, ER status, T-stage, N-stage, Grade, Charlson co-morbidity score, SCARF index, Diagnosis year | J156: England and Wales | K156: 2020-2022
A157: People who received adjuvant radiotherapy following breast surgery | C157: Women who had adjuvant radiotherapy following breast surgery | D157: Adjuv RX | E157: Adjuv RX | F157: Ind5_RTX | G157: Number of people who received adjuvant radiotherapy following i) breast-conserving surgery and ii) mastectomy (stratified by recurrence risk) | H157: Number of women with early breast cancer (stage 0-3A or "unknown") who had surgery (<12 mths after DX) | I157: Age, ER status, T-stage, N-stage, Grade, Charlson co-morbidity score, SCARF index, Diagnosis year | J157: England and Wales | K157: 2020-2022
A158: People who received chemotherapy | C158: People who received any chemotherapy | D158: Any CX | E158: Any CX | F158: Ind6_SACT | G158: Number of people who have any chemotherapy | H158: Number of people with early invasive breast cancer (stage 1-3A or "unknown") who had surgery (<12 mths after DX) | I158: Age, ER status, T-stage, N-stage, Grade, Charlson co-morbidity score, SCARF index, Diagnosis year | J158: England and Wales | K158: 2020-2022
A159: Women who had immediate reconstruction after mastectomy | C159: Women who had IR after mastectomy | D159: M-IR | E159: IR after mast | F159: Ind7_Immed_Recon | G159: Number of women who have mastectomy with immediate breast reconstruction | H159: Number of women with early breast cancer (stage 0-3A or "unknown") who had mastectomy (<12 mths after DX) | I159: Age, grade, Charlson co-morbidity score, SCARF index, diagnosis year; invasive only: ER status, HER2 status, T-stage, N-stage | J159: England and Wales | K159: 2020-2022
A160: People who had a re-operation within 12 months of their initial breast conserving surgery. | C160: People who had re-operation | D160: ReOperation | E160: Re-operation | F160: Ind8_ReOp | G160: Number of people who had a re-operation (either as re-excision, repeat breast conserving surgery or mastectomy) within 12 months of their initial breast conserving surgery. | H160: Number of people with early breast cancer (stage 0-3A or "unknown") who had breast conserving surgery within 12 months of diagnosis. | I160: Age, grade, Charlson co-morbidity score, SCARF index, diagnosis year; invasive only: ER status, HER2 status, T-stage, N-stage | J160: England and Wales | K160: 2020-2022
A161: Breast cancer specific three year survival | C161: Breast cancer specific three year survival | D161: 3YrSurv | E161: 3-yr survival | F161: Ind10_Survival | G161: People who survive their breast cancer for three years or more | H161: Number of people with early invasive breast cancer (stage 1-3A). | J161: England and Wales | K161: 2020-2022
A165: Value selector | B165: Col
A166: Unadjusted | B166: 4
A167: Adjusted for case-mix | B167: 5
A168: CNS where CNS known | B168: 5

Sheet View_Patient_Characteristics
D2: breastcanceraudits@rcseng.ac.uk
D3: https://www.natcan.org.uk/audits/primary-breast/
D4: @naopri-natcan.bsky.social | F4: @NAoPri_news | G4: @NAoPri_news
C8: Click in the cell below to scroll & select an NHS ORGANISATION:
C9: Betsi Cadwaladr University Health Board
C11: =DataPatientCharacteristics!AI2 -> This selected NHS organisation is within Wales
C13: ="Characteristics of people diagnosed with primary breast cancer in England and Wales between January 2021 and December 2023" -> Characteristics of people diagnosed with primary breast cancer in England and Wales between January 2021 and December 2023
C14: NAoPri cohort - summary national data (see trust specific data below)
C15: This cohort is all people diagnosed with breast cancer with stage recorded as 0-3, or missing, and no metastatic breast cancer recorded in HESAPC or PEDW data within six months of diagnosis, including those people with no known trust of diagnosis.
C17: PATIENT CHARACTERISTIC | D17: England | E17: Wales | F17: England and Wales
D18: Number (%) | E18: Number (%) | F18: Number (%)
C19: Total Primary Breast Cancer
C20: Total | D20: 138524 | E20: 8271 | F20: 146795
C21: Female | D21: 137,510 (99.3%) | E21: 8,225 (99.4%) | F21: 145,735 (99.3%)
C22: Male | D22: 1,014 (0.7%) | E22: 46 (0.6%) | F22: 1,060 (0.7%)
C23: DISEASE GROUP
C24: Non-invasive (Stage 0) | D24: 14,867(10.7%) | E24: 777 (9.4%) | F24: 15,644 (10.7%)
C25: Early invasive breast cancer (EIBC; Stages 1-3A) | D25: 108,250 (78.1%) | E25: 6,217 (75.2%) | F25: 114,467 (78.0%)
C26: Locally advanced breast cancer (LABC; Stages 3B-3C) | D26: 4,663 (3.4%) | E26: 258 (3.1%) | F26: 4,921 (3.4%)
C27: Stage Unknown | D27: 10,744 (7.8%) | E27: 1,019 (12.3) | F27: 11,763 (8.0%)
C28: By Histoloy Type
C29: Ductal carcinoma in-situ (DCIS; Stage 0) | D29: 14,867(10.7%) | E29: 777 (9.4%) | F29: 15,644 (10.7%)
C30: Invasive
C31: Invasive Ductal (No special type) | D31: 94,388 (68.1%) | E31: 5,724 (69.2%) | F31: 100,112 (68.2%)
C32: Invasive Lobular | D32: 15,618 (11.3%) | E32: 849 (10.3%) | F32: 16,467 (11.2%)
C33: Invasive Mixed/Other | D33: 13,651 (9.9%) | E33: 921 (11.1%) | F33: 14,572 (9.9%)
C36: NAoPri cohort - trust, cancer alliance and national level patient characteristics
C37: This cohort is all people diagnosed with breast cancer with stage recorded as 0-3, or missing, and no metastatic breast cancer recorded in HESAPC or PEDW data within six months of diagnosis, excluding those people with no known trust of diagnosis.
C39: PATIENT CHARACTERISTIC | D39: NHS ORGANISATION | E39: CANCER ALLIANCE | F39: NATIONAL
D40: Number (% among known) | E40: Number (% among known) | F40: Number (% among known)
C41: =DataPatientCharacteristics!AI3 -> YEAR OF DIAGNOSIS
C42: =DataPatientCharacteristics!AI4 -> 2021 | D42: =DataPatientCharacteristics!AJ4 -> 694 (33.6%) | E42: =DataPatientCharacteristics!AK4 -> N/A | F42: =DataPatientCharacteristics!AL4 -> 2,521 (31.1%)
C43: =DataPatientCharacteristics!AI5 -> 2022 | D43: =DataPatientCharacteristics!AJ5 -> 674 (32.6%) | E43: =DataPatientCharacteristics!AK5 -> N/A | F43: =DataPatientCharacteristics!AL5 -> 2,665 (32.9%)
C44: =DataPatientCharacteristics!AI6 -> 2023 | D44: =DataPatientCharacteristics!AJ6 -> 698 (33.8%) | E44: =DataPatientCharacteristics!AK6 -> N/A | F44: =DataPatientCharacteristics!AL6 -> 2,915 (36.0%)
C45: =DataPatientCharacteristics!AI7 -> AGE AT DIAGNOSIS
C46: =DataPatientCharacteristics!AI8 -> 18-29 yrs | D46: =DataPatientCharacteristics!AJ8 -> <5 (0.1%) | E46: =DataPatientCharacteristics!AK8 -> N/A | F46: =DataPatientCharacteristics!AL8 -> 23 (0.3%)
C47: =DataPatientCharacteristics!AI9 -> 30-39 yrs | D47: =DataPatientCharacteristics!AJ9 -> 63 (3.0%) | E47: =DataPatientCharacteristics!AK9 -> N/A | F47: =DataPatientCharacteristics!AL9 -> 243 (3.0%)
C48: =DataPatientCharacteristics!AI10 -> 40-49 yrs | D48: =DataPatientCharacteristics!AJ10 -> 165 (8.0%) | E48: =DataPatientCharacteristics!AK10 -> N/A | F48: =DataPatientCharacteristics!AL10 -> 751 (9.3%)
C49: =DataPatientCharacteristics!AI11 -> 50-59 yrs | D49: =DataPatientCharacteristics!AJ11 -> 473 (22.9%) | E49: =DataPatientCharacteristics!AK11 -> N/A | F49: =DataPatientCharacteristics!AL11 -> 1,920 (23.7%)
C50: =DataPatientCharacteristics!AI12 -> 60-69 yrs | D50: =DataPatientCharacteristics!AJ12 -> 585 (28.3%) | E50: =DataPatientCharacteristics!AK12 -> N/A | F50: =DataPatientCharacteristics!AL12 -> 2,212 (27.3%)
C51: =DataPatientCharacteristics!AI13 -> 70-79 yrs | D51: =DataPatientCharacteristics!AJ13 -> 467 (22.6%) | E51: =DataPatientCharacteristics!AK13 -> N/A | F51: =DataPatientCharacteristics!AL13 -> 1,759 (21.7%)
C52: =DataPatientCharacteristics!AI14 -> 80+ yrs | D52: =DataPatientCharacteristics!AJ14 -> 311 (15.1%) | E52: =DataPatientCharacteristics!AK14 -> N/A | F52: =DataPatientCharacteristics!AL14 -> 1,193 (14.7%)
C53: =DataPatientCharacteristics!AI15 -> GENDER
C54: =DataPatientCharacteristics!AI16 -> Female | D54: =DataPatientCharacteristics!AJ16 -> 2,058 (99.6%) | E54: =DataPatientCharacteristics!AK16 -> N/A | F54: =DataPatientCharacteristics!AL16 -> 8,055 (99.4%)
C55: =DataPatientCharacteristics!AI17 -> Male | D55: =DataPatientCharacteristics!AJ17 -> 8 (0.4%) | E55: =DataPatientCharacteristics!AK17 -> N/A | F55: =DataPatientCharacteristics!AL17 -> 46 (0.6%)
C56: =DataPatientCharacteristics!AI18 -> SCREENED
C57: =DataPatientCharacteristics!AI19 -> Screened | D57: =DataPatientCharacteristics!AJ19 -> 867 (42.0%) | E57: =DataPatientCharacteristics!AK19 -> N/A | F57: =DataPatientCharacteristics!AL19 -> 2,983 (36.8%)
C58: =DataPatientCharacteristics!AI20 -> Not Screened | D58: =DataPatientCharacteristics!AJ20 -> 1,199 (58.0%) | E58: =DataPatientCharacteristics!AK20 -> N/A | F58: =DataPatientCharacteristics!AL20 -> 5,118 (63.2%)
C59: =DataPatientCharacteristics!AI21 -> ETHNIC GROUP
C60: =DataPatientCharacteristics!AI22 -> Asian or Asian British | D60: =DataPatientCharacteristics!AJ22 -> N/A | E60: =DataPatientCharacteristics!AK22 -> N/A | F60: =DataPatientCharacteristics!AL22 -> N/A
C61: =DataPatientCharacteristics!AI23 -> Black or Black British | D61: =DataPatientCharacteristics!AJ23 -> N/A | E61: =DataPatientCharacteristics!AK23 -> N/A | F61: =DataPatientCharacteristics!AL23 -> N/A
C62: =DataPatientCharacteristics!AI24 -> Mixed | D62: =DataPatientCharacteristics!AJ24 -> N/A | E62: =DataPatientCharacteristics!AK24 -> N/A | F62: =DataPatientCharacteristics!AL24 -> N/A
C63: =DataPatientCharacteristics!AI25 -> Other Ethnic Group | D63: =DataPatientCharacteristics!AJ25 -> N/A | E63: =DataPatientCharacteristics!AK25 -> N/A | F63: =DataPatientCharacteristics!AL25 -> N/A
C64: =DataPatientCharacteristics!AI26 -> White | D64: =DataPatientCharacteristics!AJ26 -> N/A | E64: =DataPatientCharacteristics!AK26 -> N/A | F64: =DataPatientCharacteristics!AL26 -> N/A
C65: =DataPatientCharacteristics!AI27 -> Unknown | D65: =DataPatientCharacteristics!AJ27 -> N/A | E65: =DataPatientCharacteristics!AK27 -> N/A | F65: =DataPatientCharacteristics!AL27 -> N/A
C66: =DataPatientCharacteristics!AI28 -> INDEX OF MULTIPLE DEPRIVATION QUINTILE
C67: =DataPatientCharacteristics!AI29 -> 1 - most deprived | D67: =DataPatientCharacteristics!AJ29 -> N/A | E67: =DataPatientCharacteristics!AK29 -> N/A | F67: =DataPatientCharacteristics!AL29 -> N/A
C68: =DataPatientCharacteristics!AI30 -> 2 | D68: =DataPatientCharacteristics!AJ30 -> N/A | E68: =DataPatientCharacteristics!AK30 -> N/A | F68: =DataPatientCharacteristics!AL30 -> N/A
C69: =DataPatientCharacteristics!AI31 -> 3 | D69: =DataPatientCharacteristics!AJ31 -> N/A | E69: =DataPatientCharacteristics!AK31 -> N/A | F69: =DataPatientCharacteristics!AL31 -> N/A
C70: =DataPatientCharacteristics!AI32 -> 4 | D70: =DataPatientCharacteristics!AJ32 -> N/A | E70: =DataPatientCharacteristics!AK32 -> N/A | F70: =DataPatientCharacteristics!AL32 -> N/A
C71: =DataPatientCharacteristics!AI33 -> 5 - least deprived | D71: =DataPatientCharacteristics!AJ33 -> N/A | E71: =DataPatientCharacteristics!AK33 -> N/A | F71: =DataPatientCharacteristics!AL33 -> N/A
C72: =DataPatientCharacteristics!AI34 -> Unknown | D72: =DataPatientCharacteristics!AJ34 -> N/A | E72: =DataPatientCharacteristics!AK34 -> N/A | F72: =DataPatientCharacteristics!AL34 -> N/A
C73: =DataPatientCharacteristics!AI35 -> SCARF INDEX*
C74: =DataPatientCharacteristics!AI36 -> Fit | D74: =DataPatientCharacteristics!AJ36 -> 1,719 (85.3%) | E74: =DataPatientCharacteristics!AK36 -> N/A | F74: =DataPatientCharacteristics!AL36 -> 6,579 (83.9%)
C75: =DataPatientCharacteristics!AI37 -> Mild frailty | D75: =DataPatientCharacteristics!AJ37 -> 127 (6.3%) | E75: =DataPatientCharacteristics!AK37 -> N/A | F75: =DataPatientCharacteristics!AL37 -> 601 (7.7%)
C76: =DataPatientCharacteristics!AI38 -> Moderate frailty | D76: =DataPatientCharacteristics!AJ38 -> 114 (5.7%) | E76: =DataPatientCharacteristics!AK38 -> N/A | F76: =DataPatientCharacteristics!AL38 -> 395 (5.0%)
C77: =DataPatientCharacteristics!AI39 -> Severe frailty | D77: =DataPatientCharacteristics!AJ39 -> 55 (2.7%) | E77: =DataPatientCharacteristics!AK39 -> N/A | F77: =DataPatientCharacteristics!AL39 -> 264 (3.4%)
C78: =DataPatientCharacteristics!AI40 -> Not in PEDW | D78: =DataPatientCharacteristics!AJ40 -> 51 | E78: =DataPatientCharacteristics!AK40 -> N/A | F78: =DataPatientCharacteristics!AL40 -> 262
C79: =DataPatientCharacteristics!AI41 -> CHARLSON COMORBIDITY SCORE
C80: =DataPatientCharacteristics!AI42 -> 0 | D80: =DataPatientCharacteristics!AJ42 -> 1,799 (89.3%) | E80: =DataPatientCharacteristics!AK42 -> N/A | F80: =DataPatientCharacteristics!AL42 -> 6,936 (88.5%)
C81: =DataPatientCharacteristics!AI43 -> 1 | D81: =DataPatientCharacteristics!AJ43 -> 133 (6.6%) | E81: =DataPatientCharacteristics!AK43 -> N/A | F81: =DataPatientCharacteristics!AL43 -> 564 (7.2%)
C82: =DataPatientCharacteristics!AI44 -> 2+ | D82: =DataPatientCharacteristics!AJ44 -> 83 (4.1%) | E82: =DataPatientCharacteristics!AK44 -> N/A | F82: =DataPatientCharacteristics!AL44 -> 339 (4.3%)
C83: =DataPatientCharacteristics!AI45 -> Not in PEDW | D83: =DataPatientCharacteristics!AJ45 -> 51 | E83: =DataPatientCharacteristics!AK45 -> N/A | F83: =DataPatientCharacteristics!AL45 -> 262
C84: =DataPatientCharacteristics!AI46 -> STAGE
C85: =DataPatientCharacteristics!AI47 -> Stage 0 | D85: =DataPatientCharacteristics!AJ47 -> 230 (12.6%) | E85: =DataPatientCharacteristics!AK47 -> N/A | F85: =DataPatientCharacteristics!AL47 -> 776 (10.8%)
C86: =DataPatientCharacteristics!AI48 -> Stage 1 | D86: =DataPatientCharacteristics!AJ48 -> 700 (38.4%) | E86: =DataPatientCharacteristics!AK48 -> N/A | F86: =DataPatientCharacteristics!AL48 -> 2,857 (39.8%)
C87: =DataPatientCharacteristics!AI49 -> Stage 2 | D87: =DataPatientCharacteristics!AJ49 -> 728 (39.9%) | E87: =DataPatientCharacteristics!AK49 -> N/A | F87: =DataPatientCharacteristics!AL49 -> 2,843 (39.6%)
C88: =DataPatientCharacteristics!AI50 -> Stage 3 | D88: =DataPatientCharacteristics!AJ50 -> 167 (9.2%) | E88: =DataPatientCharacteristics!AK50 -> N/A | F88: =DataPatientCharacteristics!AL50 -> 708 (9.9%)
C89: =DataPatientCharacteristics!AI51 -> Missing | D89: =DataPatientCharacteristics!AJ51 -> 241 | E89: =DataPatientCharacteristics!AK51 -> 917 | F89: =DataPatientCharacteristics!AL51 -> 917
C90: =DataPatientCharacteristics!AI52 -> DISEASE GROUP
C91: =DataPatientCharacteristics!AI53 -> Ductal carcinoma in-situ (DCIS; Stage 0) | D91: =DataPatientCharacteristics!AJ53 -> 230 (12.6%) | E91: =DataPatientCharacteristics!AK53 -> N/A | F91: =DataPatientCharacteristics!AL53 -> 776 (10.8%)
C92: =DataPatientCharacteristics!AI54 -> Early invasive breast cancer (EIBC; Stages 1-3A) | D92: =DataPatientCharacteristics!AJ54 -> 1,547 (84.8%) | E92: =DataPatientCharacteristics!AK54 -> N/A | F92: =DataPatientCharacteristics!AL54 -> 6,152 (85.6%)
C93: =DataPatientCharacteristics!AI55 -> Locally advanced breast cancer (LABC; Stages 3B-3C) | D93: =DataPatientCharacteristics!AJ55 -> 48 (2.6%) | E93: =DataPatientCharacteristics!AK55 -> N/A | F93: =DataPatientCharacteristics!AL55 -> 256 (3.6%)
C94: =DataPatientCharacteristics!AI56 -> Missing | D94: =DataPatientCharacteristics!AJ56 -> 241 | E94: =DataPatientCharacteristics!AK56 -> N/A | F94: =DataPatientCharacteristics!AL56 -> 917
C96: Key: SCARF INDEX = Secondary Care Administrative Records Frailty Index.
C97: Small numbers: For categories with small numbers (1-4) the number has been supressed by converting it to 2 and editing the numbers of a larger group to maintain the overall total. Therefore the percentage provided for <5 is similar to the real value and the other numbers in the indicator group may contain a small amount of ‘jitter’. Where the category value is ‘Unknown’, 'Not in HESAPC', 'Not in PEDW' or 'Not Recorded', i.e. it represents missing data, we have not suppressed small numbers.

Sheet Data_completeness
E1: NAoPri 2026 State of the Nation Annual Report
E2: Indicator | F2: Data completeness
E3: Cohort | F3: NAoPri
E4: Numerator | F4: Number of people with data
E5: Denominator | F5: Number of people diagnosed with primary breast cancer, stage 0-3 (Indicators: CNS, ER Status, HER2 Status PR Status, Stage, Grade, Laterality) Number of people diagnosed with primary breast cancer, stage 1-3 (Indicators: T-Stage, N-Stage) Number of people diagnosed with primary breast cancer, stage 0-3, not screened (Indicator: TDA)
E6: Country | F6: England and Wales
E7: Time period | F7: People diagnosed with primary breast cancer between 2021 and 2023.
E8: * | F8: Summary level national figures do include people with no place of diagnosis. However, people are excluded from data completeness if no place of diagnosis is recorded as it is not clear where they would be placed.
A10: Time Period | B10: Country | C10: Cancer Alliance Code | D10: Cancer Alliance Name | E10: NHS /ONS Organisation Code | F10: NHS Organisation Name | G10: n | H10: n non-invasive | I10: n invasive | J10: n not-screened | K10: CNS | L10: TDA | M10: ER Status | N10: HER2 Status | O10: PR status | P10: Stage | Q10: ER Status, HER2 Status and Stage | R10: Grade | S10: T Stage | T10: N Stage
G11: Stage 0-3 | H11: Stage 0 | I11: Stage 1-3 or unknown | J11: Stage 0-3 or unknown not-screened | K11: Stage 0-3 or unknown | L11: Stage 0-3 or unknown not-screened | M11: Stage 0-3 or unknown | N11: Stage 0-3 or unknown | O11: Stage 0-3 or unknown | P11: Stage 0-3 or unknown | Q11: Stage 0-3 or unknown | R11: Stage 0-3 or unknown | S11: Stage 1-3 or unknown | T11: Stage 1-3 or unknown
A12: 2021-2023 | B12: England and Wales | C12: K04000001 | D12: England and Wales | E12: K04000001 | F12: England and Wales * | G12: 146795 | H12: 15644 | I12: 131151 | J12: - | K12: - | L12: - | M12: - | N12: - | O12: - | P12: - | Q12: - | R12: - | S12: - | T12: -
A13: 2021-2023 | B13: England | C13: E92000001 | D13: England | E13: E92000001 | F13: England * | G13: 138524 | H13: 14867 | I13: 123657 | J13: - | K13: - | L13: - | M13: - | N13: - | O13: - | P13: - | Q13: - | R13: - | S13: - | T13: -
A14: 2021-2023 | B14: Wales | C14: W92000004 | D14: Wales | E14: W92000004 | F14: Wales * | G14: 8271 | H14: 777 | I14: 7494 | J14: - | K14: - | L14: - | M14: - | N14: - | O14: - | P14: - | Q14: - | R14: - | S14: - | T14: -
A15: 2021-2023 | B15: England and Wales | C15: K04000001 | D15: England and Wales | E15: K04000001 | F15: England and Wales | G15: 146133 | H15: 15592 | I15: 130541 | J15: 94277 | K15: 0.81105 | L15: 0.01063 | M15: 0.85173 | N15: 0.77117 | O15: 0.69002 | P15: 0.92202 | Q15: 0.71183 | R15: 0.95783 | S15: 0.90942 | T15: 0.89804
A16: 2021-2023 | B16: England | C16: E92000001 | D16: England | E16: E92000001 | F16: England | G16: 138032 | H16: 14816 | I16: 123216 | J16: 93245 | K16: 0.80484 | L16: 0 | M16: 0.85214 | N16: 0.77156 | O16: 0.68824 | P16: 0.92409 | Q16: 0.71328 | R16: 0.95808 | S16: 0.90995 | T16: 0.89858
A17: 2021-2023 | B17: Wales | C17: W92000004 | D17: Wales | E17: W92000004 | F17: Wales | G17: 8101 | H17: 776 | I17: 7325 | J17: 1032 | K17: 0.91692 | L17: 0.97093 | M17: 0.84483 | N17: 0.76447 | O17: 0.7204 | P17: 0.8868 | Q17: 0.68708 | R17: 0.95359 | S17: 0.90034 | T17: 0.88887
A18: 2021-2023 | B18: Wales | C18: W92000004 | D18: Wales | E18: 7A6 | F18: Aneurin Bevan University Health Board | G18: 1493 | H18: 128 | I18: 1365 | J18: 251 | K18: 0.76356 | L18: 0.97211 | M18: 0.77428 | N18: 0.58205 | O18: 0.35365 | P18: 0.75954 | Q18: 0.43135 | R18: 0.94106 | S18: 0.77509 | T18: 0.74872
A19: 2021-2023 | B19: Wales | C19: W92000004 | D19: Wales | E19: 7A1 | F19: Betsi Cadwaladr University Health Board | G19: 2066 | H19: 230 | I19: 1836 | J19: 72 | K19: 0.93562 | L19: 0.875 | M19: 0.83398 | N19: 0.7938 | O19: 0.83107 | P19: 0.88335 | Q19: 0.70474 | R19: 0.96031 | S19: 0.88453 | T19: 0.87908
A20: 2021-2023 | B20: Wales | C20: W92000004 | D20: Wales | E20: 7A5 | F20: Cwm Taf Morgannwg University Health Board | G20: 1253 | H20: 116 | I20: 1137 | J20: 126 | K20: 0.98803 | L20: 1 | M20: 0.90423 | N20: 0.85475 | O20: 0.73264 | P20: 0.94812 | Q20: 0.83001 | R20: 0.95052 | S20: 0.96306 | T20: 0.9613
A21: 2021-2023 | B21: Wales | C21: W92000004 | D21: Wales | E21: 7A2 | F21: Hywel Dda University Health Board | G21: 1215 | H21: 120 | I21: 1095 | J21: 100 | K21: 0.96543 | L21: 1 | M21: 0.88971 | N21: 0.85267 | O21: 0.88807 | P21: 0.92346 | Q21: 0.79588 | R21: 0.96543 | S21: 0.96073 | T21: 0.93151
A22: 2021-2023 | B22: Wales | C22: W92000004 | D22: Wales | E22: 7A3 | F22: Swansea Bay University Health Board | G22: 895 | H22: 67 | I22: 828 | J22: 262 | K22: 0.86145 | L22: 0.95038 | M22: 0.88156 | N22: 0.86704 | O22: 0.87151 | P22: 0.94413 | Q22: 0.82905 | R22: 0.94637 | S22: 0.95411 | T22: 0.94928
A23: 2021-2023 | B23: Wales | C23: W92000004 | D23: Wales | E23: 7A4 | F23: Cardiff and Vale University Health Board | G23: 1179 | H23: 115 | I23: 1064 | J23: 221 | K23: 0.99491 | L23: 0.99548 | M23: 0.81595 | N23: 0.67939 | O23: 0.69042 | P23: 0.90755 | Q23: 0.60814 | R23: 0.9542 | S23: 0.91729 | T23: 0.91729
A24: 2021-2023 | B24: England | C24: E56000005 | D24: Cheshire and Merseyside | E24: E56000005 | F24: Cheshire and Merseyside | G24: 7113 | H24: 829 | I24: 6284 | J24: 4569 | K24: 0.89821 | L24: 0 | M24: 0.8417 | N24: 0.74357 | O24: 0.81794 | P24: 0.96415 | Q24: 0.70603 | R24: 0.97104 | S24: 0.96499 | T24: 0.95035
A25: 2021-2023 | B25: England | C25: E56000005 | D25: Cheshire and Merseyside | E25: RJR | F25: Countess of Chester Hospital NHS Foundation Trust | G25: 589 | H25: 67 | I25: 522 | J25: 400 | K25: 0.81834 | L25: 0 | M25: 0.39898 | N25: 0.33616 | O25: 0.39389 | P25: 0.98812 | Q25: 0.27504 | R25: 0.9236 | S25: 0.98467 | T25: 0.98659
A26: 2021-2023 | B26: England | C26: E56000005 | D26: Cheshire and Merseyside | E26: RJN | F26: East Cheshire NHS Trust | G26: 956 | H26: 140 | I26: 816 | J26: 485 | K26: 0.92573 | L26: 0 | M26: 0.78556 | N26: 0.73326 | O26: 0.71862 | P26: 0.97699 | Q26: 0.70293 | R26: 0.98326 | S26: 0.97794 | T26: 0.97549
... A158: 2021-2023 | B158: England | C158: E56000030 | D158: West Yorkshire and Harrogate | E158: RXF | F158: Mid Yorkshire Teaching NHS Trust | G158: 1103 | H158: 124 | I158: 979 | J158: 814 | K158: 0.96736 | L158: 0 | M158: 0.89665 | N158: 0.75431 | O158: 0.87398 | P158: 0.97461 | Q158: 0.74161 | R158: 0.98005 | S158: 0.98264 | T158: 0.96527
A159: 2021 | B159: England and Wales | C159: K04000001 | D159: England and Wales | E159: K04000001 | F159: England and Wales | G159: 47973 | H159: 5088 | I159: 42885 | J159: 28955 | K159: 0.8015 | L159: 0 | M159: 0.8557 | N159: 0.7773 | O159: 0.6856 | P159: 0.9333 | Q159: 0.7222 | R159: 0.9651 | S159: - | T159: -
A160: 2022 | B160: England and Wales | C160: K04000001 | D160: England and Wales | E160: K04000001 | F160: England and Wales | G160: 49236 | H160: 5376 | I160: 43860 | J160: 29973 | K160: 0.798 | L160: 0 | M160: 0.8482 | N160: 0.7685 | O160: 0.6835 | P160: 0.9148 | Q160: 0.7018 | R160: 0.9614 | S160: - | T160: -
A161: 2023 | B161: England and Wales | C161: K04000001 | D161: England and Wales | E161: K04000001 | F161: England and Wales | G161: 48924 | H161: 5128 | I161: 43796 | J161: 35349 | K161: 0.8336 | L161: 0.0283 | M161: 0.8514 | N161: 0.7678 | O161: 0.701 | P161: 0.9182 | Q161: 0.7118 | R161: 0.9471 | S161: - | T161: -
A162: 2021 | B162: England | C162: E92000001 | D162: England | E162: E92000001 | F162: England | G162: 45452 | H162: 4810 | I162: 40642 | J162: 28955 | K162: 0.7968 | L162: 0 | M162: 0.8565 | N162: 0.7788 | O162: 0.684 | P162: 0.9369 | Q162: 0.7252 | R162: 0.9658 | S162: - | T162: -
A163: 2022 | B163: England | C163: E92000001 | D163: England | E163: E92000001 | F163: England | G163: 46571 | H163: 5069 | I163: 41502 | J163: 29973 | K163: 0.7879 | L163: 0 | M163: 0.8498 | N163: 0.7703 | O163: 0.6819 | P163: 0.9138 | Q163: 0.7029 | R163: 0.96 | S163: - | T163: -
A164: 2023 | B164: England | C164: E92000001 | D164: England | E164: E92000001 | F164: England | G164: 46009 | H164: 4937 | I164: 41072 | J164: 34317 | K164: 0.8299 | L164: 0 | M164: 0.8502 | N164: 0.7657 | O164: 0.6989 | P164: 0.9219 | Q164: 0.712 | R164: 0.9485 | S164: - | T164: -
A165: 2021 | B165: Wales | C165: W92000004 | D165: Wales | E165: W92000004 | F165: Wales | G165: 2521 | H165: 278 | I165: 2243 | J165: - | K165: 0.8854 | L165: - | M165: 0.8409 | N165: 0.7513 | O165: 0.7136 | P165: 0.8699 | Q165: 0.6684 | R165: 0.9532 | S165: - | T165: -
A166: 2022 | B166: Wales | C166: W92000004 | D166: Wales | E166: W92000004 | F166: Wales | G166: 2665 | H166: 307 | I166: 2358 | J166: - | K166: 0.9741 | L166: - | M166: 0.8206 | N166: 0.737 | O166: 0.7122 | P166: 0.9321 | Q166: 0.6814 | R166: 0.9854 | S166: - | T166: -
A167: 2023 | B167: Wales | C167: W92000004 | D167: Wales | E167: W92000004 | F167: Wales | G167: 2915 | H167: 191 | I167: 2724 | J167: 1032 | K167: 0.8919 | L167: 0.9709 | M167: 0.8703 | N167: 0.801 | O167: 0.7338 | P167: 0.86 | Q167: 0.7084 | R167: 0.9249 | S167: - | T167: -
A168: 2021 | B168: England and Wales | C168: K04000001 | D168: England and Wales | E168: K04000001 | F168: England and Wales, Stage 0 | G168: - | H168: 5088 | I168: - | J168: - | K168: 0.6411 | L168: - | M168: - | N168: - | O168: - | P168: - | Q168: - | R168: - | S168: - | T168: -
A169: 2022 | B169: England and Wales | C169: K04000001 | D169: England and Wales | E169: K04000001 | F169: England and Wales, Stage 0 | G169: - | H169: 5376 | I169: - | J169: - | K169: 0.6458 | L169: - | M169: - | N169: - | O169: - | P169: - | Q169: - | R169: - | S169: - | T169: -
A170: 2023 | B170: England and Wales | C170: K04000001 | D170: England and Wales | E170: K04000001 | F170: England and Wales, Stage 0 | G170: - | H170: 5128 | I170: - | J170: - | K170: 0.6966 | L170: - | M170: - | N170: - | O170: - | P170: - | Q170: - | R170: - | S170: - | T170: -
A171: 2021 | B171: England | C171: E92000001 | D171: England | E171: E92000001 | F171: England, Stage 0 | G171: - | H171: 4810 | I171: - | J171: - | K171: 0.6293 | L171: - | M171: - | N171: - | O171: - | P171: - | Q171: - | R171: - | S171: - | T171: -
A172: 2022 | B172: England | C172: E92000001 | D172: England | E172: E92000001 | F172: England, Stage 0 | G172: - | H172: 5069 | I172: - | J172: - | K172: 0.6273 | L172: - | M172: - | N172: - | O172: - | P172: - | Q172: - | R172: - | S172: - | T172: -
A173: 2023 | B173: England | C173: E92000001 | D173: England | E173: E92000001 | F173: England, Stage 0 | G173: - | H173: 4937 | I173: - | J173: - | K173: 0.6875 | L173: - | M173: - | N173: - | O173: - | P173: - | Q173: - | R173: - | S173: - | T173: -
A174: 2021 | B174: Wales | C174: W92000004 | D174: Wales | E174: W92000004 | F174: Wales, Stage 0 | G174: - | H174: 278 | I174: - | J174: - | K174: 0.8453 | L174: - | M174: - | N174: - | O174: - | P174: - | Q174: - | R174: - | S174: - | T174: -
A175: 2022 | B175: Wales | C175: W92000004 | D175: Wales | E175: W92000004 | F175: Wales, Stage 0 | G175: - | H175: 307 | I175: - | J175: - | K175: 0.9511 | L175: - | M175: - | N175: - | O175: - | P175: - | Q175: - | R175: - | S175: - | T175: -
A176: 2023 | B176: Wales | C176: W92000004 | D176: Wales | E176: W92000004 | F176: Wales, Stage 0 | G176: - | H176: 191 | I176: - | J176: - | K176: 0.9319 | L176: - | M176: - | N176: - | O176: - | P176: - | Q176: - | R176: - | S176: - | T176: -
A177: 2021 | B177: England and Wales | C177: K04000001 | D177: England and Wales | E177: K04000001 | F177: England and Wales, Stage 1-3 | G177: - | H177: - | I177: 42885 | J177: - | K177: 0.8205 | L177: - | M177: 0.9047 | N177: 0.8634 | O177: 0.7458 | P177: - | Q177: 0.8031 | R177: 0.9683 | S177: 0.9258 | T177: 0.9134
A178: 2022 | B178: England and Wales | C178: K04000001 | D178: England and Wales | E178: K04000001 | F178: England and Wales, Stage 1-3 | G178: - | H178: - | I178: 43860 | J178: - | K178: 0.8166 | L178: - | M178: 0.8991 | N178: 0.8572 | O178: 0.7474 | P178: - | Q178: 0.7831 | R178: 0.9639 | S178: 0.8973 | T178: 0.8873
A179: 2023 | B179: England and Wales | C179: K04000001 | D179: England and Wales | E179: K04000001 | F179: England and Wales, Stage 1-3 | G179: - | H179: - | I179: 43796 | J179: - | K179: 0.8496 | L179: - | M179: 0.9 | N179: 0.8526 | O179: 0.7645 | P179: - | Q179: 0.7903 | R179: 0.9497 | S179: 0.9055 | T179: 0.8937
A180: 2021 | B180: England | C180: E92000001 | D180: England | E180: E92000001 | F180: England, Stage 1-3 | G180: - | H180: - | I180: 40642 | J180: - | K180: 0.8166 | L180: - | M180: 0.9042 | N180: 0.8652 | O180: 0.7438 | P180: - | Q180: 0.8065 | R180: 0.9691 | S180: 0.929 | T180: 0.9163
A181: 2022 | B181: England | C181: E92000001 | D181: England | E181: E92000001 | F181: England, Stage 1-3 | G181: - | H181: - | I181: 41502 | J181: - | K181: 0.8075 | L181: - | M181: 0.899 | N181: 0.8596 | O181: 0.7451 | P181: - | Q181: 0.7848 | R181: 0.9626 | S181: 0.8948 | T181: 0.8848
A182: 2023 | B182: England | C182: E92000001 | D182: England | E182: E92000001 | F182: England, Stage 1-3 | G182: - | H182: - | I182: 41072 | J182: - | K182: 0.847 | L182: - | M182: 0.8991 | N182: 0.8528 | O182: 0.7637 | P182: - | Q182: 0.7929 | R182: 0.9511 | S182: 0.9064 | T182: 0.895
A183: 2021 | B183: Wales | C183: W92000004 | D183: Wales | E183: W92000004 | F183: Wales, Stage 1-3 | G183: - | H183: - | I183: 2243 | J183: - | K183: 0.8903 | L183: - | M183: 0.9144 | N183: 0.8324 | O183: 0.7824 | P183: - | Q183: 0.7405 | R183: 0.9545 | S183: 0.868 | T183: 0.8613
A184: 2022 | B184: Wales | C184: W92000004 | D184: Wales | E184: W92000004 | F184: Wales, Stage 1-3 | G184: - | H184: - | I184: 2358 | J184: - | K184: 0.9771 | L184: - | M184: 0.8995 | N184: 0.8147 | O184: 0.7863 | P184: - | Q184: 0.7528 | R184: 0.9869 | S184: 0.9419 | T184: 0.9313
A185: 2023 | B185: Wales | C185: W92000004 | D185: Wales | E185: W92000004 | F185: Wales, Stage 1-3 | G185: - | H185: - | I185: 2724 | J185: - | K185: 0.8891 | L185: - | M185: 0.913 | N185: 0.8495 | O185: 0.7772 | P185: - | Q185: 0.7511 | R185: 0.928 | S185: 0.891 | T185: 0.8748

Sheet DataPatientCharacteristics
A1: audit_cohort | B1: year | C1: quarter | D1: year_quarter | E1: trustcode | F1: trustname | G1: CAL24CD | H1: CAL24NM | I1: indicator | J1: indicator_item | K1: number | L1: percent | M1: percent_no_unk | N1: number_ca | O1: percent_ca | P1: percent_no_unk_ca | Q1: number_nat | R1: percent_nat | S1: percent_no_unk_nat | T1: country | U1: Table1 | V1: Trust comes from dashboard page, Cell C10 | W1: Cohort (not used) | X1: TrustName | Y1: Indicator | Z1: Indicator Item | AA1: Front end indicator and indicator item | AB1: Trust | AC1: Trust % | AD1: CA | AE1: CA % | AF1: NAT | AG1: NAT % | AJ1: Trust | AK1: CA | AL1: National
A2: NAoPri_cohort | B2: England | E2: RCF | F2: Airedale NHS Foundation Trust | G2: E56000030 | H2: West Yorkshire and Harrogate | I2: age_decades_80cap | J2: 18-29 yrs | K2: 2 | L2: 0.00392 | N2: 38 | O2: 0.0065299999 | Q2: 657 | R2: 0.0047599999 | T2: England | U2: Table1 | X2: =View_Patient_Characteristics!$C$9 -> Betsi Cadwaladr University Health Board | AD2: =IFERROR(VLOOKUP(X2, F:H, 3,0),0) -> Wales | AI2: =IF(AD2 = "Wales", "This selected NHS organisation is within Wales", "This selected NHS organisation is within the "&AD2 &" Cancer Alliance") -> This selected NHS organisation is within Wales
A3: NAoPri_cohort | B3: England | E3: RCF | F3: Airedale NHS Foundation Trust | G3: E56000030 | H3: West Yorkshire and Harrogate | I3: age_decades_80cap | J3: 30-39 yrs | K3: 30 | L3: 0.058820002 | N3: 264 | O3: 0.045340002 | Q3: 5565 | R3: 0.040320002 | T3: England | U3: Table1 | W3: Is area in Wales? | AA3: YEAR OF DIAGNOSIS | AI3: =AA3 -> YEAR OF DIAGNOSIS | AJ3: ="" | AK3: ="" | AL3: =""
A4: NAoPri_cohort | B4: England | E4: RCF | F4: Airedale NHS Foundation Trust | G4: E56000030 | H4: West Yorkshire and Harrogate | I4: age_decades_80cap | J4: 40-49 yrs | K4: 49 | L4: 0.096079998 | N4: 722 | O4: 0.12399 | Q4: 16082 | R4: 0.11651 | T4: England | U4: Table1 | W4: =IF(OR( $X$2= "Aneurin Bevan University Health Board", $X$2= "Betsi Cadwaladr University Health Board", $X$2= "Cardiff and Vale University Health Board", $X$2= "Cwm Taf Morgannwg University Health Board", $X$2= "Hywel Dda University Health Board", $X$2= "Swansea Bay University Health Board"), "Wales", "England") -> Wales | X4: =View_Patient_Characteristics!$C$9 -> Betsi Cadwaladr University Health Board | Y4: diagnosis_year | Z4: 2021 | AA4: 2021 | AB4: =IFERROR(SUMIFS(K:K, $F:$F,$X4,$I:$I,$Y4,$J:$J,$Z4),0) -> 694 | AC4: =IFERROR(SUMIFS(L:L, $F:$F,$X4,$I:$I,$Y4,$J:$J,$Z4),0) -> 0.33590999 | AD4: =IFERROR(SUMIFS(N:N, $F:$F,$X4,$I:$I,$Y4,$J:$J,$Z4),0) -> 2521 | AE4: =IFERROR(SUMIFS(O:O, $F:$F,$X4,$I:$I,$Y4,$J:$J,$Z4),0) -> 0.31119999 | AF4: =IFERROR(SUMIFS(Q:Q, $F:$F,$X4,$I:$I,$Y4,$J:$J,$Z4),0) -> 2521 | AG4: =IFERROR(SUMIFS(R:R, $F:$F,$X4,$I:$I,$Y4,$J:$J,$Z4),0) -> 0.31119999 | AI4: =AA4 -> 2021 | AJ4: =IF(OR(AB4=1, AB4=2, AB4=3, AB4=4), "<5",TEXT(AB4, "#,##0")) & IF(AB4=0,"", " ("&TEXT(ROUND(AC4*100,1), "#0.0")&"%)") -> 694 (33.6%) | AK4: =IF($W$4 = "Wales", "N/A", IF(OR(AD4=1, AD4=2, AD4=3, AD4=4), "<5", TEXT(AD4, "#,##0")) & IF(AD4=0,"", " ("&TEXT(ROUND(AE4*100,1), "#0.0")&"%)")) -> N/A | AL4: =IF(OR(AF4=1, AF4=2, AF4=3, AF4=4), "<5", TEXT(AF4, "#,##0")) & IF(AF4=0,"", " ("&TEXT(ROUND(AG4*100,1), "#0.0")&"%)") -> 2,521 (31.1%)
A5: NAoPri_cohort | B5: England | E5: RCF | F5: Airedale NHS Foundation Trust | G5: E56000030 | H5: West Yorkshire and Harrogate | I5: age_decades_80cap | J5: 50-59 yrs | K5: 100 | L5: 0.19608 | N5: 1456 | O5: 0.25003999 | Q5: 35098 | R5: 0.25426999 | T5: England | U5: Table1 | X5: =View_Patient_Characteristics!$C$9 -> Betsi Cadwaladr University Health Board | Y5: diagnosis_year | Z5: 2022 | AA5: 2022 | AB5: =IFERROR(SUMIFS(K:K, $F:$F,$X5,$I:$I,$Y5,$J:$J,$Z5),0) -> 674 | AC5: =IFERROR(SUMIFS(L:L, $F:$F,$X5,$I:$I,$Y5,$J:$J,$Z5),0) -> 0.32622999 | AD5: =IFERROR(SUMIFS(N:N, $F:$F,$X5,$I:$I,$Y5,$J:$J,$Z5),0) -> 2665 | AE5: =IFERROR(SUMIFS(O:O, $F:$F,$X5,$I:$I,$Y5,$J:$J,$Z5),0) -> 0.32896999 | AF5: =IFERROR(SUMIFS(Q:Q, $F:$F,$X5,$I:$I,$Y5,$J:$J,$Z5),0) -> 2665 | AG5: =IFERROR(SUMIFS(R:R, $F:$F,$X5,$I:$I,$Y5,$J:$J,$Z5),0) -> 0.32896999 | AI5: =AA5 -> 2022 | AJ5: =IF(OR(AB5=1, AB5=2, AB5=3, AB5=4), "<5",TEXT(AB5, "#,##0")) & IF(AB5=0,"", " ("&TEXT(ROUND(AC5*100,1), "#0.0")&"%)") -> 674 (32.6%) | AK5: =IF($W$4 = "Wales", "N/A", IF(OR(AD5=1, AD5=2, AD5=3, AD5=4), "<5", TEXT(AD5, "#,##0")) & IF(AD5=0,"", " ("&TEXT(ROUND(AE5*100,1), "#0.0")&"%)")) -> N/A | AL5: =IF(OR(AF5=1, AF5=2, AF5=3, AF5=4), "<5", TEXT(AF5, "#,##0")) & IF(AF5=0,"", " ("&TEXT(ROUND(AG5*100,1), "#0.0")&"%)") -> 2,665 (32.9%)
A6: NAoPri_cohort | B6: England | E6: RCF | F6: Airedale NHS Foundation Trust | G6: E56000030 | H6: West Yorkshire and Harrogate | I6: age_decades_80cap | J6: 60-69 yrs | K6: 128 | L6: 0.25097999 | N6: 1469 | O6: 0.25228 | Q6: 36140 | R6: 0.26181999 | T6: England | U6: Table1 | X6: =View_Patient_Characteristics!$C$9 -> Betsi Cadwaladr University Health Board | Y6: diagnosis_year | Z6: 2023 | AA6: 2023 | AB6: =IFERROR(SUMIFS(K:K, $F:$F,$X6,$I:$I,$Y6,$J:$J,$Z6),0) -> 698 | AC6: =IFERROR(SUMIFS(L:L, $F:$F,$X6,$I:$I,$Y6,$J:$J,$Z6),0) -> 0.33785 | AD6: =IFERROR(SUMIFS(N:N, $F:$F,$X6,$I:$I,$Y6,$J:$J,$Z6),0) -> 2915 | AE6: =IFERROR(SUMIFS(O:O, $F:$F,$X6,$I:$I,$Y6,$J:$J,$Z6),0) -> 0.35982999 | AF6: =IFERROR(SUMIFS(Q:Q, $F:$F,$X6,$I:$I,$Y6,$J:$J,$Z6),0) -> 2915 | AG6: =IFERROR(SUMIFS(R:R, $F:$F,$X6,$I:$I,$Y6,$J:$J,$Z6),0) -> 0.35982999 | AI6: =AA6 -> 2023 | AJ6: =IF(OR(AB6=1, AB6=2, AB6=3, AB6=4), "<5",TEXT(AB6, "#,##0")) & IF(AB6=0,"", " ("&TEXT(ROUND(AC6*100,1), "#0.0")&"%)") -> 698 (33.8%) | AK6: =IF($W$4 = "Wales", "N/A", IF(OR(AD6=1, AD6=2, AD6=3, AD6=4), "<5", TEXT(AD6, "#,##0")) & IF(AD6=0,"", " ("&TEXT(ROUND(AE6*100,1), "#0.0")&"%)")) -> N/A | AL6: =IF(OR(AF6=1, AF6=2, AF6=3, AF6=4), "<5", TEXT(AF6, "#,##0")) & IF(AF6=0,"", " ("&TEXT(ROUND(AG6*100,1), "#0.0")&"%)") -> 2,915 (36.0%)
A7: NAoPri_cohort | B7: England | E7: RCF | F7: Airedale NHS Foundation Trust | G7: E56000030 | H7: West Yorkshire and Harrogate | I7: age_decades_80cap | J7: 70-79 yrs | K7: 105 | L7: 0.20588 | N7: 1098 | O7: 0.18855999 | Q7: 25641 | R7: 0.18576001 | T7: England | U7: Table1 | AA7: AGE AT DIAGNOSIS | AI7: =AA7 -> AGE AT DIAGNOSIS | AJ7: ="" | AK7: ="" | AL7: =""
A8: NAoPri_cohort | B8: England | E8: RCF | F8: Airedale NHS Foundation Trust | G8: E56000030 | H8: West Yorkshire and Harrogate | I8: age_decades_80cap | J8: 80+ yrs | K8: 96 | L8: 0.18824001 | N8: 776 | O8: 0.13326 | Q8: 18849 | R8: 0.13655999 | T8: England | U8: Table1 | X8: =View_Patient_Characteristics!$C$9 -> Betsi Cadwaladr University Health Board | Y8: age_decades_80cap | Z8: 18-29 yrs | AA8: 18-29 yrs | AB8: =IFERROR(SUMIFS(K:K, $F:$F,$X8,$I:$I,$Y8,$J:$J,$Z8),0) -> 2 | AC8: =IFERROR(SUMIFS(L:L, $F:$F,$X8,$I:$I,$Y8,$J:$J,$Z8),0) -> 0.00096999999 | AD8: =IFERROR(SUMIFS(N:N, $F:$F,$X8,$I:$I,$Y8,$J:$J,$Z8),0) -> 23 | AE8: =IFERROR(SUMIFS(O:O, $F:$F,$X8,$I:$I,$Y8,$J:$J,$Z8),0) -> 0.00284 | AF8: =IFERROR(SUMIFS(Q:Q, $F:$F,$X8,$I:$I,$Y8,$J:$J,$Z8),0) -> 23 | AG8: =IFERROR(SUMIFS(R:R, $F:$F,$X8,$I:$I,$Y8,$J:$J,$Z8),0) -> 0.00284 | AI8: =AA8 -> 18-29 yrs | AJ8: =IF(OR(AB8=1, AB8=2, AB8=3, AB8=4), "<5",TEXT(AB8, "#,##0")) & IF(AB8=0,"", " ("&TEXT(ROUND(AC8*100,1), "#0.0")&"%)") -> <5 (0.1%) | AK8: =IF($W$4 = "Wales", "N/A", IF(OR(AD8=1, AD8=2, AD8=3, AD8=4), "<5", TEXT(AD8, "#,##0")) & IF(AD8=0,"", " ("&TEXT(ROUND(AE8*100,1), "#0.0")&"%)")) -> N/A | AL8: =IF(OR(AF8=1, AF8=2, AF8=3, AF8=4), "<5", TEXT(AF8, "#,##0")) & IF(AF8=0,"", " ("&TEXT(ROUND(AG8*100,1), "#0.0")&"%)") -> 23 (0.3%)
A9: NAoPri_cohort | B9: England | E9: RCF | F9: Airedale NHS Foundation Trust | G9: E56000030 | H9: West Yorkshire and Harrogate | I9: ch_score_2cap | J9: 0 | K9: 415 | L9: 0.81373 | M9: 0.82178003 | N9: 4685 | O9: 0.80457002 | P9: 0.82862002 | Q9: 111877 | R9: 0.81050998 | S9: 0.84452999 | T9: England | U9: Table1 | X9: =View_Patient_Characteristics!$C$9 -> Betsi Cadwaladr University Health Board | Y9: age_decades_80cap | Z9: 30-39 yrs | AA9: 30-39 yrs | AB9: =IFERROR(SUMIFS(K:K, $F:$F,$X9,$I:$I,$Y9,$J:$J,$Z9),0) -> 63 | AC9: =IFERROR(SUMIFS(L:L, $F:$F,$X9,$I:$I,$Y9,$J:$J,$Z9),0) -> 0.03049 | AD9: =IFERROR(SUMIFS(N:N, $F:$F,$X9,$I:$I,$Y9,$J:$J,$Z9),0) -> 243 | AE9: =IFERROR(SUMIFS(O:O, $F:$F,$X9,$I:$I,$Y9,$J:$J,$Z9),0) -> 0.029999999 | AF9: =IFERROR(SUMIFS(Q:Q, $F:$F,$X9,$I:$I,$Y9,$J:$J,$Z9),0) -> 243 | AG9: =IFERROR(SUMIFS(R:R, $F:$F,$X9,$I:$I,$Y9,$J:$J,$Z9),0) -> 0.029999999 | AI9: =AA9 -> 30-39 yrs | AJ9: =IF(OR(AB9=1, AB9=2, AB9=3, AB9=4), "<5",TEXT(AB9, "#,##0")) & IF(AB9=0,"", " ("&TEXT(ROUND(AC9*100,1), "#0.0")&"%)") -> 63 (3.0%) | AK9: =IF($W$4 = "Wales", "N/A", IF(OR(AD9=1, AD9=2, AD9=3, AD9=4), "<5", TEXT(AD9, "#,##0")) & IF(AD9=0,"", " ("&TEXT(ROUND(AE9*100,1), "#0.0")&"%)")) -> N/A | AL9: =IF(OR(AF9=1, AF9=2, AF9=3, AF9=4), "<5", TEXT(AF9, "#,##0")) & IF(AF9=0,"", " ("&TEXT(ROUND(AG9*100,1), "#0.0")&"%)") -> 243 (3.0%)
A10: NAoPri_cohort | B10: England | E10: RCF | F10: Airedale NHS Foundation Trust | G10: E56000030 | H10: West Yorkshire and Harrogate | I10: ch_score_2cap | J10: 1 | K10: 57 | L10: 0.11176 | M10: 0.11287 | N10: 600 | O10: 0.10304 | P10: 0.10612 | Q10: 12103 | R10: 0.087679997 | S10: 0.091360003 | T10: England | U10: Table1 | X10: =View_Patient_Characteristics!$C$9 -> Betsi Cadwaladr University Health Board | Y10: age_decades_80cap | Z10: 40-49 yrs | AA10: 40-49 yrs | AB10: =IFERROR(SUMIFS(K:K, $F:$F,$X10,$I:$I,$Y10,$J:$J,$Z10),0) -> 165 | AC10: =IFERROR(SUMIFS(L:L, $F:$F,$X10,$I:$I,$Y10,$J:$J,$Z10),0) -> 0.079860002 | AD10: =IFERROR(SUMIFS(N:N, $F:$F,$X10,$I:$I,$Y10,$J:$J,$Z10),0) -> 751 | AE10: =IFERROR(SUMIFS(O:O, $F:$F,$X10,$I:$I,$Y10,$J:$J,$Z10),0) -> 0.092699997 | AF10: =IFERROR(SUMIFS(Q:Q, $F:$F,$X10,$I:$I,$Y10,$J:$J,$Z10),0) -> 751 | AG10: =IFERROR(SUMIFS(R:R, $F:$F,$X10,$I:$I,$Y10,$J:$J,$Z10),0) -> 0.092699997 | AI10: =AA10 -> 40-49 yrs | AJ10: =IF(OR(AB10=1, AB10=2, AB10=3, AB10=4), "<5",TEXT(AB10, "#,##0")) & IF(AB10=0,"", " ("&TEXT(ROUND(AC10*100,1), "#0.0")&"%)") -> 165 (8.0%) | AK10: =IF($W$4 = "Wales", "N/A", IF(OR(AD10=1, AD10=2, AD10=3, AD10=4), "<5", TEXT(AD10, "#,##0")) & IF(AD10=0,"", " ("&TEXT(ROUND(AE10*100,1), "#0.0")&"%)")) -> N/A | AL10: =IF(OR(AF10=1, AF10=2, AF10=3, AF10=4), "<5", TEXT(AF10, "#,##0")) & IF(AF10=0,"", " ("&TEXT(ROUND(AG10*100,1), "#0.0")&"%)") -> 751 (9.3%)
A11: NAoPri_cohort | B11: England | E11: RCF | F11: Airedale NHS Foundation Trust | G11: E56000030 | H11: West Yorkshire and Harrogate | I11: ch_score_2cap | J11: 2+ | K11: 33 | L11: 0.064709999 | M11: 0.065350004 | N11: 369 | O11: 0.063369997 | P11: 0.065260001 | Q11: 8492 | R11: 0.061519999 | S11: 0.064099997 | T11: England | U11: Table1 | X11: =View_Patient_Characteristics!$C$9 -> Betsi Cadwaladr University Health Board | Y11: age_decades_80cap | Z11: 50-59 yrs | AA11: 50-59 yrs | AB11: =IFERROR(SUMIFS(K:K, $F:$F,$X11,$I:$I,$Y11,$J:$J,$Z11),0) -> 473 | AC11: =IFERROR(SUMIFS(L:L, $F:$F,$X11,$I:$I,$Y11,$J:$J,$Z11),0) -> 0.22894 | AD11: =IFERROR(SUMIFS(N:N, $F:$F,$X11,$I:$I,$Y11,$J:$J,$Z11),0) -> 1920 | AE11: =IFERROR(SUMIFS(O:O, $F:$F,$X11,$I:$I,$Y11,$J:$J,$Z11),0) -> 0.23701 | AF11: =IFERROR(SUMIFS(Q:Q, $F:$F,$X11,$I:$I,$Y11,$J:$J,$Z11),0) -> 1920 | AG11: =IFERROR(SUMIFS(R:R, $F:$F,$X11,$I:$I,$Y11,$J:$J,$Z11),0) -> 0.23701 | AI11: =AA11 -> 50-59 yrs | AJ11: =IF(OR(AB11=1, AB11=2, AB11=3, AB11=4), "<5",TEXT(AB11, "#,##0")) & IF(AB11=0,"", " ("&TEXT(ROUND(AC11*100,1), "#0.0")&"%)") -> 473 (22.9%) | AK11: =IF($W$4 = "Wales", "N/A", IF(OR(AD11=1, AD11=2, AD11=3, AD11=4), "<5", TEXT(AD11, "#,##0")) & IF(AD11=0,"", " ("&TEXT(ROUND(AE11*100,1), "#0.0")&"%)")) -> N/A | AL11: =IF(OR(AF11=1, AF11=2, AF11=3, AF11=4), "<5", TEXT(AF11, "#,##0")) & IF(AF11=0,"", " ("&TEXT(ROUND(AG11*100,1), "#0.0")&"%)") -> 1,920 (23.7%)
A12: NAoPri_cohort | B12: England | E12: RCF | F12: Airedale NHS Foundation Trust | G12: E56000030 | H12: West Yorkshire and Harrogate | I12: ch_score_2cap | J12: Unknown | K12: 5 | L12: 0.0098000001 | N12: 169 | O12: 0.02902 | Q12: 5560 | R12: 0.040279999 | T12: England | U12: Table1 | X12: =View_Patient_Characteristics!$C$9 -> Betsi Cadwaladr University Health Board | Y12: age_decades_80cap | Z12: 60-69 yrs | AA12: 60-69 yrs | AB12: =IFERROR(SUMIFS(K:K, $F:$F,$X12,$I:$I,$Y12,$J:$J,$Z12),0) -> 585 | AC12: =IFERROR(SUMIFS(L:L, $F:$F,$X12,$I:$I,$Y12,$J:$J,$Z12),0) -> 0.28316 | AD12: =IFERROR(SUMIFS(N:N, $F:$F,$X12,$I:$I,$Y12,$J:$J,$Z12),0) -> 2212 | AE12: =IFERROR(SUMIFS(O:O, $F:$F,$X12,$I:$I,$Y12,$J:$J,$Z12),0) -> 0.27305001 | AF12: =IFERROR(SUMIFS(Q:Q, $F:$F,$X12,$I:$I,$Y12,$J:$J,$Z12),0) -> 2212 | AG12: =IFERROR(SUMIFS(R:R, $F:$F,$X12,$I:$I,$Y12,$J:$J,$Z12),0) -> 0.27305001 | AI12: =AA12 -> 60-69 yrs | AJ12: =IF(OR(AB12=1, AB12=2, AB12=3, AB12=4), "<5",TEXT(AB12, "#,##0")) & IF(AB12=0,"", " ("&TEXT(ROUND(AC12*100,1), "#0.0")&"%)") -> 585 (28.3%) | AK12: =IF($W$4 = "Wales", "N/A", IF(OR(AD12=1, AD12=2, AD12=3, AD12=4), "<5", TEXT(AD12, "#,##0")) & IF(AD12=0,"", " ("&TEXT(ROUND(AE12*100,1), "#0.0")&"%)")) -> N/A | AL12: =IF(OR(AF12=1, AF12=2, AF12=3, AF12=4), "<5", TEXT(AF12, "#,##0")) & IF(AF12=0,"", " ("&TEXT(ROUND(AG12*100,1), "#0.0")&"%)") -> 2,212 (27.3%)
A13: NAoPri_cohort | B13: England | E13: RCF | F13: Airedale NHS Foundation Trust | G13: E56000030 | H13: West Yorkshire and Harrogate | I13: diagnosis_year | J13: 2021 | K13: 177 | L13: 0.34705999 | N13: 1939 | O13: 0.33298999 | Q13: 45452 | R13: 0.32929 | T13: England | U13: Table1 | X13: =View_Patient_Characteristics!$C$9 -> Betsi Cadwaladr University Health Board | Y13: age_decades_80cap | Z13: 70-79 yrs | AA13: 70-79 yrs | AB13: =IFERROR(SUMIFS(K:K, $F:$F,$X13,$I:$I,$Y13,$J:$J,$Z13),0) -> 467 | AC13: =IFERROR(SUMIFS(L:L, $F:$F,$X13,$I:$I,$Y13,$J:$J,$Z13),0) -> 0.22604001 | AD13: =IFERROR(SUMIFS(N:N, $F:$F,$X13,$I:$I,$Y13,$J:$J,$Z13),0) -> 1759 | AE13: =IFERROR(SUMIFS(O:O, $F:$F,$X13,$I:$I,$Y13,$J:$J,$Z13),0) -> 0.21713001 | AF13: =IFERROR(SUMIFS(Q:Q, $F:$F,$X13,$I:$I,$Y13,$J:$J,$Z13),0) -> 1759 | AG13: =IFERROR(SUMIFS(R:R, $F:$F,$X13,$I:$I,$Y13,$J:$J,$Z13),0) -> 0.21713001 | AI13: =AA13 -> 70-79 yrs | AJ13: =IF(OR(AB13=1, AB13=2, AB13=3, AB13=4), "<5",TEXT(AB13, "#,##0")) & IF(AB13=0,"", " ("&TEXT(ROUND(AC13*100,1), "#0.0")&"%)") -> 467 (22.6%) | AK13: =IF($W$4 = "Wales", "N/A", IF(OR(AD13=1, AD13=2, AD13=3, AD13=4), "<5", TEXT(AD13, "#,##0")) & IF(AD13=0,"", " ("&TEXT(ROUND(AE13*100,1), "#0.0")&"%)")) -> N/A | AL13: =IF(OR(AF13=1, AF13=2, AF13=3, AF13=4), "<5", TEXT(AF13, "#,##0")) & IF(AF13=0,"", " ("&TEXT(ROUND(AG13*100,1), "#0.0")&"%)") -> 1,759 (21.7%)
A14: NAoPri_cohort | B14: England | E14: RCF | F14: Airedale NHS Foundation Trust | G14: E56000030 | H14: West Yorkshire and Harrogate | I14: diagnosis_year | J14: 2022 | K14: 183 | L14: 0.35881999 | N14: 1929 | O14: 0.33127001 | Q14: 46571 | R14: 0.33739001 | T14: England | U14: Table1 | X14: =View_Patient_Characteristics!$C$9 -> Betsi Cadwaladr University Health Board | Y14: age_decades_80cap | Z14: 80+ yrs | AA14: 80+ yrs | AB14: =IFERROR(SUMIFS(K:K, $F:$F,$X14,$I:$I,$Y14,$J:$J,$Z14),0) -> 311 | AC14: =IFERROR(SUMIFS(L:L, $F:$F,$X14,$I:$I,$Y14,$J:$J,$Z14),0) -> 0.15053 | AD14: =IFERROR(SUMIFS(N:N, $F:$F,$X14,$I:$I,$Y14,$J:$J,$Z14),0) -> 1193 | AE14: =IFERROR(SUMIFS(O:O, $F:$F,$X14,$I:$I,$Y14,$J:$J,$Z14),0) -> 0.14726999 | AF14: =IFERROR(SUMIFS(Q:Q, $F:$F,$X14,$I:$I,$Y14,$J:$J,$Z14),0) -> 1193 | AG14: =IFERROR(SUMIFS(R:R, $F:$F,$X14,$I:$I,$Y14,$J:$J,$Z14),0) -> 0.14726999 | AI14: =AA14 -> 80+ yrs | AJ14: =IF(OR(AB14=1, AB14=2, AB14=3, AB14=4), "<5",TEXT(AB14, "#,##0")) & IF(AB14=0,"", " ("&TEXT(ROUND(AC14*100,1), "#0.0")&"%)") -> 311 (15.1%) | AK14: =IF($W$4 = "Wales", "N/A", IF(OR(AD14=1, AD14=2, AD14=3, AD14=4), "<5", TEXT(AD14, "#,##0")) & IF(AD14=0,"", " ("&TEXT(ROUND(AE14*100,1), "#0.0")&"%)")) -> N/A | AL14: =IF(OR(AF14=1, AF14=2, AF14=3, AF14=4), "<5", TEXT(AF14, "#,##0")) & IF(AF14=0,"", " ("&TEXT(ROUND(AG14*100,1), "#0.0")&"%)") -> 1,193 (14.7%)
A15: NAoPri_cohort | B15: England | E15: RCF | F15: Airedale NHS Foundation Trust | G15: E56000030 | H15: West Yorkshire and Harrogate | I15: diagnosis_year | J15: 2023 | K15: 150 | L15: 0.29412001 | N15: 1955 | O15: 0.33574 | Q15: 46009 | R15: 0.33331999 | T15: England | U15: Table1 | AA15: GENDER | AI15: =AA15 -> GENDER | AJ15: ="" | AK15: ="" | AL15: =""
A16: NAoPri_cohort | B16: England | E16: RCF | F16: Airedale NHS Foundation Trust | G16: E56000030 | H16: West Yorkshire and Harrogate | I16: disease_group | J16: Advanced M0 | K16: 19 | L16: 0.037250001 | M16: 0.037700001 | N16: 215 | O16: 0.03692 | P16: 0.039650001 | Q16: 4657 | R16: 0.033739999 | S16: 0.036509998 | T16: England | U16: Table1 | X16: =View_Patient_Characteristics!$C$9 -> Betsi Cadwaladr University Health Board | Y16: gender | Z16: female | AA16: Female | AB16: =IFERROR(SUMIFS(K:K, $F:$F,$X16,$I:$I,$Y16,$J:$J,$Z16),0) -> 2058 | AC16: =IFERROR(SUMIFS(L:L, $F:$F,$X16,$I:$I,$Y16,$J:$J,$Z16),0) -> 0.99612999 | AD16: =IFERROR(SUMIFS(N:N, $F:$F,$X16,$I:$I,$Y16,$J:$J,$Z16),0) -> 8055 | AE16: =IFERROR(SUMIFS(O:O, $F:$F,$X16,$I:$I,$Y16,$J:$J,$Z16),0) -> 0.99431998 | AF16: =IFERROR(SUMIFS(Q:Q, $F:$F,$X16,$I:$I,$Y16,$J:$J,$Z16),0) -> 8055 | AG16: =IFERROR(SUMIFS(R:R, $F:$F,$X16,$I:$I,$Y16,$J:$J,$Z16),0) -> 0.99431998 | AI16: =AA16 -> Female | AJ16: =IF(OR(AB16=1, AB16=2, AB16=3, AB16=4), "<5",TEXT(AB16, "#,##0")) & IF(AB16=0,"", " ("&TEXT(ROUND(AC16*100,1), "#0.0")&"%)") -> 2,058 (99.6%) | AK16: =IF($W$4 = "Wales", "N/A", IF(OR(AD16=1, AD16=2, AD16=3, AD16=4), "<5", TEXT(AD16, "#,##0")) & IF(AD16=0,"", " ("&TEXT(ROUND(AE16*100,1), "#0.0")&"%)")) -> N/A | AL16: =IF(OR(AF16=1, AF16=2, AF16=3, AF16=4), "<5", TEXT(AF16, "#,##0")) & IF(AF16=0,"", " ("&TEXT(ROUND(AG16*100,1), "#0.0")&"%)") -> 8,055 (99.4%)
A17: NAoPri_cohort | B17: England | E17: RCF | F17: Airedale NHS Foundation Trust | G17: E56000030 | H17: West Yorkshire and Harrogate | I17: disease_group | J17: DCIS | K17: 48 | L17: 0.094120003 | M17: 0.095239997 | N17: 679 | O17: 0.11661 | P17: 0.12521 | Q17: 14816 | R17: 0.10734 | S17: 0.11615 | T17: England | U17: Table1 | X17: =View_Patient_Characteristics!$C$9 -> Betsi Cadwaladr University Health Board | Y17: gender | Z17: male | AA17: Male | AB17: =IFERROR(SUMIFS(K:K, $F:$F,$X17,$I:$I,$Y17,$J:$J,$Z17),0) -> 8 | AC17: =IFERROR(SUMIFS(L:L, $F:$F,$X17,$I:$I,$Y17,$J:$J,$Z17),0) -> 0.0038699999 | AD17: =IFERROR(SUMIFS(N:N, $F:$F,$X17,$I:$I,$Y17,$J:$J,$Z17),0) -> 46 | AE17: =IFERROR(SUMIFS(O:O, $F:$F,$X17,$I:$I,$Y17,$J:$J,$Z17),0) -> 0.0056799999 | AF17: =IFERROR(SUMIFS(Q:Q, $F:$F,$X17,$I:$I,$Y17,$J:$J,$Z17),0) -> 46 | AG17: =IFERROR(SUMIFS(R:R, $F:$F,$X17,$I:$I,$Y17,$J:$J,$Z17),0) -> 0.0056799999 | AI17: =AA17 -> Male | AJ17: =IF(OR(AB17=1, AB17=2, AB17=3, AB17=4), "<5",TEXT(AB17, "#,##0")) & IF(AB17=0,"", " ("&TEXT(ROUND(AC17*100,1), "#0.0")&"%)") -> 8 (0.4%) | AK17: =IF($W$4 = "Wales", "N/A", IF(OR(AD17=1, AD17=2, AD17=3, AD17=4), "<5", TEXT(AD17, "#,##0")) & IF(AD17=0,"", " ("&TEXT(ROUND(AE17*100,1), "#0.0")&"%)")) -> N/A | AL17: =IF(OR(AF17=1, AF17=2, AF17=3, AF17=4), "<5", TEXT(AF17, "#,##0")) & IF(AF17=0,"", " ("&TEXT(ROUND(AG17*100,1), "#0.0")&"%)") -> 46 (0.6%)
A18: NAoPri_cohort | B18: England | E18: RCF | F18: Airedale NHS Foundation Trust | G18: E56000030 | H18: West Yorkshire and Harrogate | I18: disease_group | J18: Early invasive | K18: 437 | L18: 0.85685998 | M18: 0.86706001 | N18: 4529 | O18: 0.77778 | P18: 0.83515 | Q18: 108081 | R18: 0.78301001 | S18: 0.84733999 | T18: England | U18: Table1 | AA18: SCREENED | AI18: =AA18 -> SCREENED | AJ18: =IF(OR(AB18=1, AB18=2, AB18=3, AB18=4), "<5",TEXT(AB18, "#,##0")) & IF(AB18=0,"", " ("&TEXT(ROUND(AC18*100,1), "#0.0")&"%)") -> 0 | AK18: =IF($W$4 = "Wales", "N/A", IF(OR(AD18=1, AD18=2, AD18=3, AD18=4), "<5", TEXT(AD18, "#,##0")) & IF(AD18=0,"", " ("&TEXT(ROUND(AE18*100,1), "#0.0")&"%)")) -> N/A | AL18: =IF(OR(AF18=1, AF18=2, AF18=3, AF18=4), "<5", TEXT(AF18, "#,##0")) & IF(AF18=0,"", " ("&TEXT(ROUND(AG18*100,1), "#0.0")&"%)") -> 0
A19: NAoPri_cohort | B19: England | E19: RCF | F19: Airedale NHS Foundation Trust | G19: E56000030 | H19: West Yorkshire and Harrogate | I19: disease_group | J19: Unknown stage | K19: 6 | L19: 0.01176 | N19: 400 | O19: 0.068690002 | Q19: 10478 | R19: 0.075910002 | T19: England | U19: Table1 | X19: =View_Patient_Characteristics!$C$9 -> Betsi Cadwaladr University Health Board | Y19: final_route | Z19: Screening | AA19: Screened | AB19: =IFERROR(SUMIFS(K:K, $F:$F,$X19,$I:$I,$Y19,$J:$J,$Z19),0) -> 867 | AC19: =IFERROR(SUMIFS(L:L, $F:$F,$X19,$I:$I,$Y19,$J:$J,$Z19),0) -> 0.41964999 | AD19: =IFERROR(SUMIFS(N:N, $F:$F,$X19,$I:$I,$Y19,$J:$J,$Z19),0) -> 2983 | AE19: =IFERROR(SUMIFS(O:O, $F:$F,$X19,$I:$I,$Y19,$J:$J,$Z19),0) -> 0.36822999 | AF19: =IFERROR(SUMIFS(Q:Q, $F:$F,$X19,$I:$I,$Y19,$J:$J,$Z19),0) -> 2983 | AG19: =IFERROR(SUMIFS(R:R, $F:$F,$X19,$I:$I,$Y19,$J:$J,$Z19),0) -> 0.36822999 | AI19: =AA19 -> Screened | AJ19: =IF(OR(AB19=1, AB19=2, AB19=3, AB19=4), "<5",TEXT(AB19, "#,##0")) & IF(AB19=0,"", " ("&TEXT(ROUND(AC19*100,1), "#0.0")&"%)") -> 867 (42.0%) | AK19: =IF($W$4 = "Wales", "N/A", IF(OR(AD19=1, AD19=2, AD19=3, AD19=4), "<5", TEXT(AD19, "#,##0")) & IF(AD19=0,"", " ("&TEXT(ROUND(AE19*100,1), "#0.0")&"%)")) -> N/A | AL19: =IF(OR(AF19=1, AF19=2, AF19=3, AF19=4), "<5", TEXT(AF19, "#,##0")) & IF(AF19=0,"", " ("&TEXT(ROUND(AG19*100,1), "#0.0")&"%)") -> 2,983 (36.8%)
A20: NAoPri_cohort | B20: England | E20: RCF | F20: Airedale NHS Foundation Trust | G20: E56000030 | H20: West Yorkshire and Harrogate | I20: ethnicity_grp | J20: Asian or Asian British | K20: 12 | L20: 0.023530001 | M20: 0.024049999 | N20: 356 | O20: 0.061140001 | P20: 0.062169999 | Q20: 6644 | R20: 0.048129998 | S20: 0.05015 | T20: England | U20: Table1 | X20: =View_Patient_Characteristics!$C$9 -> Betsi Cadwaladr University Health Board | Y20: final_route | Z20: Not screened | AA20: Not Screened | AB20: =IFERROR(SUMIFS(K:K, $F:$F,$X20,$I:$I,$Y20,$J:$J,$Z20),0) -> 1199 | AC20: =IFERROR(SUMIFS(L:L, $F:$F,$X20,$I:$I,$Y20,$J:$J,$Z20),0) -> 0.58034998 | AD20: =IFERROR(SUMIFS(N:N, $F:$F,$X20,$I:$I,$Y20,$J:$J,$Z20),0) -> 5118 | AE20: =IFERROR(SUMIFS(O:O, $F:$F,$X20,$I:$I,$Y20,$J:$J,$Z20),0) -> 0.63177001 | AF20: =IFERROR(SUMIFS(Q:Q, $F:$F,$X20,$I:$I,$Y20,$J:$J,$Z20),0) -> 5118 | AG20: =IFERROR(SUMIFS(R:R, $F:$F,$X20,$I:$I,$Y20,$J:$J,$Z20),0) -> 0.63177001 | AI20: =AA20 -> Not Screened | AJ20: =IF(OR(AB20=1, AB20=2, AB20=3, AB20=4), "<5",TEXT(AB20, "#,##0")) & IF(AB20=0,"", " ("&TEXT(ROUND(AC20*100,1), "#0.0")&"%)") -> 1,199 (58.0%) | AK20: =IF($W$4 = "Wales", "N/A", IF(OR(AD20=1, AD20=2, AD20=3, AD20=4), "<5", TEXT(AD20, "#,##0")) & IF(AD20=0,"", " ("&TEXT(ROUND(AE20*100,1), "#0.0")&"%)")) -> N/A | AL20: =IF(OR(AF20=1, AF20=2, AF20=3, AF20=4), "<5", TEXT(AF20, "#,##0")) & IF(AF20=0,"", " ("&TEXT(ROUND(AG20*100,1), "#0.0")&"%)") -> 5,118 (63.2%)
A21: NAoPri_cohort | B21: England | E21: RCF | F21: Airedale NHS Foundation Trust | G21: E56000030 | H21: West Yorkshire and Harrogate | I21: ethnicity_grp | J21: Black or Black British | K21: 2 | L21: 0.00392 | M21: 0.0040099998 | N21: 76 | O21: 0.01305 | P21: 0.01327 | Q21: 4124 | R21: 0.02988 | S21: 0.031129999 | T21: England | U21: Table1 | AA21: ETHNIC GROUP | AI21: =AA21 -> ETHNIC GROUP | AJ21: ="" | AK21: ="" | AL21: =""
A22: NAoPri_cohort | B22: England | E22: RCF | F22: Airedale NHS Foundation Trust | G22: E56000030 | H22: West Yorkshire and Harrogate | I22: ethnicity_grp | J22: Mixed | K22: 2 | L22: 0.00392 | M22: 0.0040099998 | N22: 37 | O22: 0.0063499999 | P22: 0.0064599998 | Q22: 1166 | R22: 0.0084499996 | S22: 0.0088 | T22: England | U22: Table1 | X22: =View_Patient_Characteristics!$C$9 -> Betsi Cadwaladr University Health Board | Y22: ethnicity_grp | Z22: Asian or Asian British | AA22: Asian or Asian British | AB22: =IFERROR(SUMIFS(K:K, $F:$F,$X22,$I:$I,$Y22,$J:$J,$Z22),0) -> 0 | AC22: =IF($W$4 = "Wales", #N/A, IFERROR(SUMIFS(M:M, $F:$F,$X22,$I:$I,$Y22,$J:$J,$Z22),0)) -> #N/A | AD22: =IFERROR(SUMIFS(N:N, $F:$F,$X22,$I:$I,$Y22,$J:$J,$Z22),0) -> 0 | AE22: =IF($W$4 = "Wales", #N/A, IFERROR(SUMIFS(P:P, $F:$F,$X22,$I:$I,$Y22,$J:$J,$Z22),0)) -> #N/A | AF22: =IFERROR(SUMIFS(Q:Q, $F:$F,$X22,$I:$I,$Y22,$J:$J,$Z22),0) -> 0 | AG22: =IF($W$4 = "Wales", #N/A, IFERROR(SUMIFS(S:S, $F:$F,$X22,$I:$I,$Y22,$J:$J,$Z22),0)) -> #N/A | AI22: =AA22 -> Asian or Asian British | AJ22: =IF($W$4 = "Wales", "N/A", IF(OR(AB22=1, AB22=2, AB22=3, AB22=4), "<5",TEXT(AB22, "#,##0")) & IF(AB22=0,"", " ("&TEXT(ROUND(AC22*100,1), "#0.0")&"%)")) -> N/A | AK22: =IF($W$4 = "Wales", "N/A", IF(OR(AD22=1, AD22=2, AD22=3, AD22=4), "<5", TEXT(AD22, "#,##0")) & IF(AD22=0,"", " ("&TEXT(ROUND(AE22*100,1), "#0.0")&"%)")) -> N/A | AL22: =IF($W$4 = "Wales", "N/A", IF(OR(AF22=1, AF22=2, AF22=3, AF22=4), "<5", TEXT(AF22, "#,##0")) & IF(AF22=0,"", " ("&TEXT(ROUND(AG22*100,1), "#0.0")&"%)")) -> N/A
A23: NAoPri_cohort | B23: England | E23: RCF | F23: Airedale NHS Foundation Trust | G23: E56000030 | H23: West Yorkshire and Harrogate | I23: ethnicity_grp | J23: Other Ethnic Group | K23: 26 | L23: 0.050980002 | M23: 0.052099999 | N23: 97 | O23: 0.016659999 | P23: 0.01694 | Q23: 2852 | R23: 0.02066 | S23: 0.02153 | T23: England | U23: Table1 | X23: =View_Patient_Characteristics!$C$9 -> Betsi Cadwaladr University Health Board | Y23: ethnicity_grp | Z23: Black or Black British | AA23: Black or Black British | AB23: =IFERROR(SUMIFS(K:K, $F:$F,$X23,$I:$I,$Y23,$J:$J,$Z23),0) -> 0 | AC23: =IF($W$4 = "Wales", #N/A, IFERROR(SUMIFS(M:M, $F:$F,$X23,$I:$I,$Y23,$J:$J,$Z23),0)) -> #N/A | AD23: =IFERROR(SUMIFS(N:N, $F:$F,$X23,$I:$I,$Y23,$J:$J,$Z23),0) -> 0 | AE23: =IF($W$4 = "Wales", #N/A, IFERROR(SUMIFS(P:P, $F:$F,$X23,$I:$I,$Y23,$J:$J,$Z23),0)) -> #N/A | AF23: =IFERROR(SUMIFS(Q:Q, $F:$F,$X23,$I:$I,$Y23,$J:$J,$Z23),0) -> 0 | AG23: =IF($W$4 = "Wales", #N/A, IFERROR(SUMIFS(S:S, $F:$F,$X23,$I:$I,$Y23,$J:$J,$Z23),0)) -> #N/A | AI23: =AA23 -> Black or Black British | AJ23: =IF($W$4 = "Wales", "N/A", IF(OR(AB23=1, AB23=2, AB23=3, AB23=4), "<5",TEXT(AB23, "#,##0")) & IF(AB23=0,"", " ("&TEXT(ROUND(AC23*100,1), "#0.0")&"%)")) -> N/A | AK23: =IF($W$4 = "Wales", "N/A", IF(OR(AD23=1, AD23=2, AD23=3, AD23=4), "<5", TEXT(AD23, "#,##0")) & IF(AD23=0,"", " ("&TEXT(ROUND(AE23*100,1), "#0.0")&"%)")) -> N/A | AL23: =IF($W$4 = "Wales", "N/A", IF(OR(AF23=1, AF23=2, AF23=3, AF23=4), "<5", TEXT(AF23, "#,##0")) & IF(AF23=0,"", " ("&TEXT(ROUND(AG23*100,1), "#0.0")&"%)")) -> N/A
A24: NAoPri_cohort | B24: England | E24: RCF | F24: Airedale NHS Foundation Trust | G24: E56000030 | H24: West Yorkshire and Harrogate | I24: ethnicity_grp | J24: Unknown | K24: 11 | L24: 0.021570001 | N24: 97 | O24: 0.016659999 | Q24: 5544 | R24: 0.04016 | T24: England | U24: Table1 | X24: =View_Patient_Characteristics!$C$9 -> Betsi Cadwaladr University Health Board | Y24: ethnicity_grp | Z24: Mixed | AA24: Mixed | AB24: =IFERROR(SUMIFS(K:K, $F:$F,$X24,$I:$I,$Y24,$J:$J,$Z24),0) -> 0 | AC24: =IF($W$4 = "Wales", #N/A, IFERROR(SUMIFS(M:M, $F:$F,$X24,$I:$I,$Y24,$J:$J,$Z24),0)) -> #N/A | AD24: =IFERROR(SUMIFS(N:N, $F:$F,$X24,$I:$I,$Y24,$J:$J,$Z24),0) -> 0 | AE24: =IF($W$4 = "Wales", #N/A, IFERROR(SUMIFS(P:P, $F:$F,$X24,$I:$I,$Y24,$J:$J,$Z24),0)) -> #N/A | AF24: =IFERROR(SUMIFS(Q:Q, $F:$F,$X24,$I:$I,$Y24,$J:$J,$Z24),0) -> 0 | AG24: =IF($W$4 = "Wales", #N/A, IFERROR(SUMIFS(S:S, $F:$F,$X24,$I:$I,$Y24,$J:$J,$Z24),0)) -> #N/A | AI24: =AA24 -> Mixed | AJ24: =IF($W$4 = "Wales", "N/A", IF(OR(AB24=1, AB24=2, AB24=3, AB24=4), "<5",TEXT(AB24, "#,##0")) & IF(AB24=0,"", " ("&TEXT(ROUND(AC24*100,1), "#0.0")&"%)")) -> N/A | AK24: =IF($W$4 = "Wales", "N/A", IF(OR(AD24=1, AD24=2, AD24=3, AD24=4), "<5", TEXT(AD24, "#,##0")) & IF(AD24=0,"", " ("&TEXT(ROUND(AE24*100,1), "#0.0")&"%)")) -> N/A | AL24: =IF($W$4 = "Wales", "N/A", IF(OR(AF24=1, AF24=2, AF24=3, AF24=4), "<5", TEXT(AF24, "#,##0")) & IF(AF24=0,"", " ("&TEXT(ROUND(AG24*100,1), "#0.0")&"%)")) -> N/A
A25: NAoPri_cohort | B25: England | E25: RCF | F25: Airedale NHS Foundation Trust | G25: E56000030 | H25: West Yorkshire and Harrogate | I25: ethnicity_grp | J25: White | K25: 457 | L25: 0.89608002 | M25: 0.91583002 | N25: 5160 | O25: 0.88613999 | P25: 0.90114999 | Q25: 117702 | R25: 0.85272002 | S25: 0.88840002 | T25: England | U25: Table1 | X25: =View_Patient_Characteristics!$C$9 -> Betsi Cadwaladr University Health Board | Y25: ethnicity_grp | Z25: Other Ethnic Group | AA25: Other Ethnic Group | AB25: =IFERROR(SUMIFS(K:K, $F:$F,$X25,$I:$I,$Y25,$J:$J,$Z25),0) -> 0 | AC25: =IF($W$4 = "Wales", #N/A, IFERROR(SUMIFS(M:M, $F:$F,$X25,$I:$I,$Y25,$J:$J,$Z25),0)) -> #N/A | AD25: =IFERROR(SUMIFS(N:N, $F:$F,$X25,$I:$I,$Y25,$J:$J,$Z25),0) -> 0 | AE25: =IF($W$4 = "Wales", #N/A, IFERROR(SUMIFS(P:P, $F:$F,$X25,$I:$I,$Y25,$J:$J,$Z25),0)) -> #N/A | AF25: =IFERROR(SUMIFS(Q:Q, $F:$F,$X25,$I:$I,$Y25,$J:$J,$Z25),0) -> 0 | AG25: =IF($W$4 = "Wales", #N/A, IFERROR(SUMIFS(S:S, $F:$F,$X25,$I:$I,$Y25,$J:$J,$Z25),0)) -> #N/A | AI25: =AA25 -> Other Ethnic Group | AJ25: =IF($W$4 = "Wales", "N/A", IF(OR(AB25=1, AB25=2, AB25=3, AB25=4), "<5",TEXT(AB25, "#,##0")) & IF(AB25=0,"", " ("&TEXT(ROUND(AC25*100,1), "#0.0")&"%)")) -> N/A | AK25: =IF($W$4 = "Wales", "N/A", IF(OR(AD25=1, AD25=2, AD25=3, AD25=4), "<5", TEXT(AD25, "#,##0")) & IF(AD25=0,"", " ("&TEXT(ROUND(AE25*100,1), "#0.0")&"%)")) -> N/A | AL25: =IF($W$4 = "Wales", "N/A", IF(OR(AF25=1, AF25=2, AF25=3, AF25=4), "<5", TEXT(AF25, "#,##0")) & IF(AF25=0,"", " ("&TEXT(ROUND(AG25*100,1), "#0.0")&"%)")) -> N/A
A26: NAoPri_cohort | B26: England | E26: RCF | F26: Airedale NHS Foundation Trust | G26: E56000030 | H26: West Yorkshire and Harrogate | I26: final_route | J26: Not screened | K26: 389 | L26: 0.76275003 | N26: 4104 | O26: 0.70479 | Q26: 93245 | R26: 0.67553002 | T26: England | U26: Table1 | X26: =View_Patient_Characteristics!$C$9 -> Betsi Cadwaladr University Health Board | Y26: ethnicity_grp | Z26: White | AA26: White | AB26: =IFERROR(SUMIFS(K:K, $F:$F,$X26,$I:$I,$Y26,$J:$J,$Z26),0) -> 0 | AC26: =IF($W$4 = "Wales", #N/A, IFERROR(SUMIFS(M:M, $F:$F,$X26,$I:$I,$Y26,$J:$J,$Z26),0)) -> #N/A | AD26: =IFERROR(SUMIFS(N:N, $F:$F,$X26,$I:$I,$Y26,$J:$J,$Z26),0) -> 0 | AE26: =IF($W$4 = "Wales", #N/A, IFERROR(SUMIFS(P:P, $F:$F,$X26,$I:$I,$Y26,$J:$J,$Z26),0)) -> #N/A | AF26: =IFERROR(SUMIFS(Q:Q, $F:$F,$X26,$I:$I,$Y26,$J:$J,$Z26),0) -> 0 | AG26: =IF($W$4 = "Wales", #N/A, IFERROR(SUMIFS(S:S, $F:$F,$X26,$I:$I,$Y26,$J:$J,$Z26),0)) -> #N/A | AI26: =AA26 -> White | AJ26: =IF($W$4 = "Wales", "N/A", IF(OR(AB26=1, AB26=2, AB26=3, AB26=4), "<5",TEXT(AB26, "#,##0")) & IF(AB26=0,"", " ("&TEXT(ROUND(AC26*100,1), "#0.0")&"%)")) -> N/A | AK26: =IF($W$4 = "Wales", "N/A", IF(OR(AD26=1, AD26=2, AD26=3, AD26=4), "<5", TEXT(AD26, "#,##0")) & IF(AD26=0,"", " ("&TEXT(ROUND(AE26*100,1), "#0.0")&"%)")) -> N/A | AL26: =IF($W$4 = "Wales", "N/A", IF(OR(AF26=1, AF26=2, AF26=3, AF26=4), "<5", TEXT(AF26, "#,##0")) & IF(AF26=0,"", " ("&TEXT(ROUND(AG26*100,1), "#0.0")&"%)")) -> N/A
A27: NAoPri_cohort | B27: England | E27: RCF | F27: Airedale NHS Foundation Trust | G27: E56000030 | H27: West Yorkshire and Harrogate | I27: final_route | J27: Screening | K27: 121 | L27: 0.23725 | N27: 1719 | O27: 0.29521 | Q27: 44787 | R27: 0.32447001 | T27: England | U27: Table1 | X27: =View_Patient_Characteristics!$C$9 -> Betsi Cadwaladr University Health Board | Y27: ethnicity_grp | Z27: Unknown | AA27: Unknown | AB27: =IFERROR(SUMIFS(K:K, $F:$F,$X27,$I:$I,$Y27,$J:$J,$Z27),0) -> 2066 | AC27: =IF($W$4 = "Wales", #N/A, IFERROR(SUMIFS(M:M, $F:$F,$X27,$I:$I,$Y27,$J:$J,$Z27),0)) -> #N/A | AD27: =IFERROR(SUMIFS(N:N, $F:$F,$X27,$I:$I,$Y27,$J:$J,$Z27),0) -> 8101 | AE27: =IF($W$4 = "Wales", #N/A, IFERROR(SUMIFS(P:P, $F:$F,$X27,$I:$I,$Y27,$J:$J,$Z27),0)) -> #N/A | AF27: =IFERROR(SUMIFS(Q:Q, $F:$F,$X27,$I:$I,$Y27,$J:$J,$Z27),0) -> 8101 | AG27: =IF($W$4 = "Wales", #N/A, IFERROR(SUMIFS(S:S, $F:$F,$X27,$I:$I,$Y27,$J:$J,$Z27),0)) -> #N/A | AI27: =AA27 -> Unknown | AJ27: =IF($W$4 = "Wales", "N/A", TEXT(AB27, "#,##0")) -> N/A | AK27: =IF($W$4 = "Wales", "N/A", TEXT(AD27, "#,##0")) -> N/A | AL27: =IF($W$4 = "Wales", "N/A", TEXT(AF27, "#,##0")) -> N/A
A28: NAoPri_cohort | B28: England | E28: RCF | F28: Airedale NHS Foundation Trust | G28: E56000030 | H28: West Yorkshire and Harrogate | I28: final_stage_tum | J28: Not staged/Unstated | K28: 6 | L28: 0.01176 | N28: 400 | O28: 0.068690002 | Q28: 10478 | R28: 0.075910002 | T28: England | U28: Table1 | AA28: INDEX OF MULTIPLE DEPRIVATION QUINTILE | AI28: =AA28 -> INDEX OF MULTIPLE DEPRIVATION QUINTILE | AJ28: ="" | AK28: ="" | AL28: =""
A29: NAoPri_cohort | B29: England | E29: RCF | F29: Airedale NHS Foundation Trust | G29: E56000030 | H29: West Yorkshire and Harrogate | I29: final_stage_tum | J29: Stage 0 | K29: 48 | L29: 0.094120003 | M29: 0.095239997 | N29: 679 | O29: 0.11661 | P29: 0.12521 | Q29: 14816 | R29: 0.10734 | S29: 0.11615 | T29: England | U29: Table1 | X29: =View_Patient_Characteristics!$C$9 -> Betsi Cadwaladr University Health Board | Y29: imd_2019 | Z29: 1 - most deprived | AA29: 1 - most deprived | AB29: =IFERROR(SUMIFS(K:K, $F:$F,$X29,$I:$I,$Y29,$J:$J,$Z29),0) -> 0 | AC29: =IFERROR(SUMIFS(M:M, $F:$F,$X29,$I:$I,$Y29,$J:$J,$Z29),0) -> 0 | AD29: =IFERROR(SUMIFS(N:N, $F:$F,$X29,$I:$I,$Y29,$J:$J,$Z29),0) -> 0 | AE29: =IF($W$4 = "Wales", #N/A, IFERROR(SUMIFS(P:P, $F:$F,$X29,$I:$I,$Y29,$J:$J,$Z29),0)) -> #N/A | AF29: =IFERROR(SUMIFS(Q:Q, $F:$F,$X29,$I:$I,$Y29,$J:$J,$Z29),0) -> 0 | AG29: =IFERROR(SUMIFS(S:S, $F:$F,$X29,$I:$I,$Y29,$J:$J,$Z29),0) -> 0 | AI29: =AA29 -> 1 - most deprived | AJ29: =IF($W$4 = "Wales", "N/A", IF(OR(AB29=1, AB29=2, AB29=3, AB29=4), "<5",TEXT(AB29, "#,##0")) & IF(AB29=0,"", " ("&TEXT(ROUND(AC29*100,1), "#0.0")&"%)")) -> N/A | AK29: =IF($W$4 = "Wales", "N/A", IF(OR(AD29=1, AD29=2, AD29=3, AD29=4), "<5", TEXT(AD29, "#,##0")) & IF(AD29=0,"", " ("&TEXT(ROUND(AE29*100,1), "#0.0")&"%)")) -> N/A | AL29: =IF($W$4 = "Wales", "N/A", IF(OR(AF29=1, AF29=2, AF29=3, AF29=4), "<5", TEXT(AF29, "#,##0")) & IF(AF29=0,"", " ("&TEXT(ROUND(AG29*100,1), "#0.0")&"%)")) -> N/A
A30: NAoPri_cohort | B30: England | E30: RCF | F30: Airedale NHS Foundation Trust | G30: E56000030 | H30: West Yorkshire and Harrogate | I30: final_stage_tum | J30: Stage 1 | K30: 200 | L30: 0.39216 | M30: 0.39682999 | N30: 2076 | O30: 0.35652 | P30: 0.38281 | Q30: 48856 | R30: 0.35394999 | S30: 0.38302001 | T30: England | U30: Table1 | X30: =View_Patient_Characteristics!$C$9 -> Betsi Cadwaladr University Health Board | Y30: imd_2019 | Z30: 2 | AA30: 2 | AB30: =IFERROR(SUMIFS(K:K, $F:$F,$X30,$I:$I,$Y30,$J:$J,$Z30),0) -> 0 | AC30: =IFERROR(SUMIFS(M:M, $F:$F,$X30,$I:$I,$Y30,$J:$J,$Z30),0) -> 0 | AD30: =IFERROR(SUMIFS(N:N, $F:$F,$X30,$I:$I,$Y30,$J:$J,$Z30),0) -> 0 | AE30: =IF($W$4 = "Wales", #N/A, IFERROR(SUMIFS(P:P, $F:$F,$X30,$I:$I,$Y30,$J:$J,$Z30),0)) -> #N/A | AF30: =IFERROR(SUMIFS(Q:Q, $F:$F,$X30,$I:$I,$Y30,$J:$J,$Z30),0) -> 0 | AG30: =IFERROR(SUMIFS(S:S, $F:$F,$X30,$I:$I,$Y30,$J:$J,$Z30),0) -> 0 | AI30: =AA30 -> 2 | AJ30: =IF($W$4 = "Wales", "N/A", IF(OR(AB30=1, AB30=2, AB30=3, AB30=4), "<5",TEXT(AB30, "#,##0")) & IF(AB30=0,"", " ("&TEXT(ROUND(AC30*100,1), "#0.0")&"%)")) -> N/A | AK30: =IF($W$4 = "Wales", "N/A", IF(OR(AD30=1, AD30=2, AD30=3, AD30=4), "<5", TEXT(AD30, "#,##0")) & IF(AD30=0,"", " ("&TEXT(ROUND(AE30*100,1), "#0.0")&"%)")) -> N/A | AL30: =IF($W$4 = "Wales", "N/A", IF(OR(AF30=1, AF30=2, AF30=3, AF30=4), "<5", TEXT(AF30, "#,##0")) & IF(AF30=0,"", " ("&TEXT(ROUND(AG30*100,1), "#0.0")&"%)")) -> N/A
A31: NAoPri_cohort | B31: England | E31: RCF | F31: Airedale NHS Foundation Trust | G31: E56000030 | H31: West Yorkshire and Harrogate | I31: final_stage_tum | J31: Stage 2 | K31: 212 | L31: 0.41569 | M31: 0.42063001 | N31: 2119 | O31: 0.36390001 | P31: 0.39074001 | Q31: 51729 | R31: 0.37476 | S31: 0.40555 | T31: England | U31: Table1 | X31: =View_Patient_Characteristics!$C$9 -> Betsi Cadwaladr University Health Board | Y31: imd_2019 | Z31: 3 | AA31: 3 | AB31: =IFERROR(SUMIFS(K:K, $F:$F,$X31,$I:$I,$Y31,$J:$J,$Z31),0) -> 0 | AC31: =IFERROR(SUMIFS(M:M, $F:$F,$X31,$I:$I,$Y31,$J:$J,$Z31),0) -> 0 | AD31: =IFERROR(SUMIFS(N:N, $F:$F,$X31,$I:$I,$Y31,$J:$J,$Z31),0) -> 0 | AE31: =IF($W$4 = "Wales", #N/A, IFERROR(SUMIFS(P:P, $F:$F,$X31,$I:$I,$Y31,$J:$J,$Z31),0)) -> #N/A | AF31: =IFERROR(SUMIFS(Q:Q, $F:$F,$X31,$I:$I,$Y31,$J:$J,$Z31),0) -> 0 | AG31: =IFERROR(SUMIFS(S:S, $F:$F,$X31,$I:$I,$Y31,$J:$J,$Z31),0) -> 0 | AI31: =AA31 -> 3 | AJ31: =IF($W$4 = "Wales", "N/A", IF(OR(AB31=1, AB31=2, AB31=3, AB31=4), "<5",TEXT(AB31, "#,##0")) & IF(AB31=0,"", " ("&TEXT(ROUND(AC31*100,1), "#0.0")&"%)")) -> N/A | AK31: =IF($W$4 = "Wales", "N/A", IF(OR(AD31=1, AD31=2, AD31=3, AD31=4), "<5", TEXT(AD31, "#,##0")) & IF(AD31=0,"", " ("&TEXT(ROUND(AE31*100,1), "#0.0")&"%)")) -> N/A | AL31: =IF($W$4 = "Wales", "N/A", IF(OR(AF31=1, AF31=2, AF31=3, AF31=4), "<5", TEXT(AF31, "#,##0")) & IF(AF31=0,"", " ("&TEXT(ROUND(AG31*100,1), "#0.0")&"%)")) -> N/A
A32: NAoPri_cohort | B32: England | E32: RCF | F32: Airedale NHS Foundation Trust | G32: E56000030 | H32: West Yorkshire and Harrogate | I32: final_stage_tum | J32: Stage 3 | K32: 44 | L32: 0.086269997 | M32: 0.087300003 | N32: 549 | O32: 0.094279997 | P32: 0.10124 | Q32: 12153 | R32: 0.088040002 | S32: 0.095279999 | T32: England | U32: Table1 | X32: =View_Patient_Characteristics!$C$9 -> Betsi Cadwaladr University Health Board | Y32: imd_2019 | Z32: 4 | AA32: 4 | AB32: =IFERROR(SUMIFS(K:K, $F:$F,$X32,$I:$I,$Y32,$J:$J,$Z32),0) -> 0 | AC32: =IFERROR(SUMIFS(M:M, $F:$F,$X32,$I:$I,$Y32,$J:$J,$Z32),0) -> 0 | AD32: =IFERROR(SUMIFS(N:N, $F:$F,$X32,$I:$I,$Y32,$J:$J,$Z32),0) -> 0 | AE32: =IF($W$4 = "Wales", #N/A, IFERROR(SUMIFS(P:P, $F:$F,$X32,$I:$I,$Y32,$J:$J,$Z32),0)) -> #N/A | AF32: =IFERROR(SUMIFS(Q:Q, $F:$F,$X32,$I:$I,$Y32,$J:$J,$Z32),0) -> 0 | AG32: =IFERROR(SUMIFS(S:S, $F:$F,$X32,$I:$I,$Y32,$J:$J,$Z32),0) -> 0 | AI32: =AA32 -> 4 | AJ32: =IF($W$4 = "Wales", "N/A", IF(OR(AB32=1, AB32=2, AB32=3, AB32=4), "<5",TEXT(AB32, "#,##0")) & IF(AB32=0,"", " ("&TEXT(ROUND(AC32*100,1), "#0.0")&"%)")) -> N/A | AK32: =IF($W$4 = "Wales", "N/A", IF(OR(AD32=1, AD32=2, AD32=3, AD32=4), "<5", TEXT(AD32, "#,##0")) & IF(AD32=0,"", " ("&TEXT(ROUND(AE32*100,1), "#0.0")&"%)")) -> N/A | AL32: =IF($W$4 = "Wales", "N/A", IF(OR(AF32=1, AF32=2, AF32=3, AF32=4), "<5", TEXT(AF32, "#,##0")) & IF(AF32=0,"", " ("&TEXT(ROUND(AG32*100,1), "#0.0")&"%)")) -> N/A
