Workbook
Name end_date_graph: #REF!
Name end_date_HES: #REF!
Name end_date_pt_char: #REF!
Name start_date_graph: #REF!
Name start_date_pt_char: #REF!
Name TableTrusts: [2]Lists!$K$3:$K$123
Name TableTrusts: Lists!$K$3:$K$123

Sheet Cover sheet
D2: breastcanceraudits@rcseng.ac.uk
D3: https://www.natcan.org.uk/audits/primary-breast/
D4: @naopri-natcan.bsky.social
C8: Programme | D8: National Cancer Audit Collaborating Centre (NATCAN)
C9: Workstream | D9: National Audit of Primary Breast Cancer (NAoPri)
C10: Output title | D10: NAoPri State of the Nation Data tables
C11: Geographical coverage | D11: England and Wales
C12: Patient cohort* | D12: People diagnosed with primary breast cancer in England and Wales between 1st January 2021 and 31st December 2023
C13: Publication date | D13: 46275
C14: Publication type | D14: State of the Nation report
C15: Intended audience | D15: NHS trusts and NHS health boards providing breast cancer care; Multidisciplinary team (MDT)-nominated data lead, responsible for data entry and data quality
C16: Prepared by | D16: NAoPri team
C17: *Please see further information within the ‘Introduction’ tab.

Sheet Introduction
D2: breastcanceraudits@rcseng.ac.uk
D3: https://www.natcan.org.uk/audits/primary-breast/
D4: @naopri-natcan.bsky.social
C8: The purpose of the National Audit of Primary Breast Cancer (NAoPri) is to evaluate the patterns of care and outcomes for people diagnosed with primary breast cancer in England and Wales, and to support services to improve the quality of care for these people.
C10: NAoPri is part of the National Cancer Audit Collaborating Centre (NATCAN), the home of the ten national cancer audits in England and Wales. This national centre of excellence was established to strengthen cancer services by evaluating the process of diagnosis and treatment, and patient outcomes in multiple cancer sites.
C12: This is the third state of the nation published for the NAoPri. Data available to the audit for this quarterly report were based on patient-level records from the England cancer registry and from the NHS Wales Performance and Improvment Team ("Gold standard" data).
C14: For people treated in England, NATCAN receives the data from the National Cancer Registration and Analysis Service (NCRAS), part of the National Disease Registration Service (NDRS) within NHS England (digital.nhs.uk). NDRS collects patient-level data from all NHS organisations on people with cancer using a range of national data-feeds. This includes the Cancer Registration datasets and the Cancer Outcomes and Services Dataset (COSD). COSD data are submitted to the NDRS on a monthly basis via Multidisciplinary Team (MDT) electronic data collection systems. Clinical sign-off of data submitted to NDRS is not mandated in England. The information held in the Cancer Registration dataset is compiled from a number of sources. For people treated in Wales, NATCAN receives the data from the NHS Wales Performance & Improvement Team in Public Health Wales. They provide patient-level data from the Cancer Network Information System Cymru (CaNISC) electronic patient record system and from the Cancer Dataset Form (CDF).
C16: The NAoPri cohort is all people diagnosed with breast cancer from 1st January 2021 to 31st December 2023 with stage recorded as 0-3, or missing, and no metastatic breast cancer recorded in HESAPC data within six months of diagnosis.
B18: Table of contents
C19: Cover sheet
C20: Introduction
C21: =HYPERLINK("#Explanations!A1","Explanations") -> Explanations
C22: =HYPERLINK("#Acknowledgments!A1","Acknowledgments") -> Acknowledgments
C23: View_Completeness | D23: Data viewer for data completeness
C24: View_Indicators | D24: Data viewer for indicators
C25: View_Patient_Characteristics | D25: Data viewer for patient characteristics
C26: Data_completeness | D26: Data completeness data table | F26: See View_ Completeness
C27: Indicator 1: TDA | D27: Percentage of people who underwent triple diagnostic assessment (TDA) in a single hospital visit. | F27: The information found in these tables can be accessed at the Unit/ Alliance level from the View_ Indicators worksheet.
C28: Indicator 2: CNS | D28: Percentage of people who had contact with a Clinical Nurse Specialist (CNS) recorded after diagnosis.
C29: Indicator 3: Surgery | D29: Percentage of people who had i) breast-conserving surgery or ii) mastectomy within 12 months of diagnosis.
C30: Indicator 4: NACT | D30: Percentage of people who received neo-adjuvant chemotherapy.
C31: Indicator 5: RTX | D31: Percentage of people who received adjuvant radiotherapy following i) breast-conserving surgery and ii) mastectomy.
C32: Indicator 6: SACT | D32: Percentage of people who received any chemotherapy.
C33: Indicator 7: Immed Recon | D33: Percentage of women who had an immediate reconstruction following a mastectomy.
C34: Indicator 8: Reoperations | D34: Percentage of people who had re-operation with 12 months of their initial breast conserving surgery.
C35: Indicator 10: Survival | D35: Three year breast cancer specific survival.

Sheet Explanations
D2: breastcanceraudits@rcseng.ac.uk
D3: https://www.natcan.org.uk/audits/primary-breast/
D4: @naopri-natcan.bsky.social
B9: User Guide
C11: This cell is located on each of the "View_Completeness", "View_Indicators" and "Patient Characteristics" worksheets and contains a dropdown menu where the user can select an NHS organisation or indicator
B14: NDRS Data Improvement Leads
C15: For individuals at NHS trusts, the local Data Improvement Lead at NDRS for your geographical region will be able to help you find out information about the Cancer Outcomes and Services Dataset (COSD) submissions for your NHS trust.
C16: Please refer to our FAQ #23 for current NDRS regional contacts - https://www.natcan.org.uk/faqs/#trust-and-he: How do I check the completeness of my cancer data submissions to NDRS?
C17: Please find the list of NAoPri key COSD data items here -https://www.natcan.org.uk/library/naopri-key-data-items/
B19: Acronym | C19: Description
B20: CaNISC | C20: Cancer Network Information System Cymru (Wales)
B21: CDF | C21: Cancer Dataset Forms (Wales)
B22: COSD | C22: Cancer Outcomes and Services Dataset
B23: HESAPC | C23: Hospital Episode Statistics Admitted Patient Care data
B24: IMD | C24: Index of Multiple Deprivation
B25: NHS | C25: National Health Service
B26: NAoPri | C26: National Audit of Primary Breast Cancer
B27: NR | C27: Not reported (data missing)
B28: PEDW | C28: Patient Episode Database for Wales
B29: PS | C29: WHO Performance Status
B30: SCARF | C30: Secondary Care Administrative Records Frailty Index
B33: NAoPri cohort
C34: The NAoPri cohort is all people diagnosed with breast cancer with stage recorded as 0-3, or missing, and no metastatic breast cancer recorded in HESAPC (England) or PEDW (Wales) data within six months of diagnosis.
B36: Cohort exclusions
C37: People are excluded from NAoPri if: place of diagnosis is a non-NHS organisation, the NHS organisation diagnosed less than 30 people with breast cancer annually (primary and metastatic breast cancer combined) or the NHS-organisation is a tertiary treatment centre. Summary level national figures do include people with no place of diagnosis. However, people are excluded from indicators if no place of diagnosis is recorded as it is not clear where they would be placed.
B39: Methods
C40: Please see the State of the Nation Methodology document.

Sheet Acknowledgments
D2: breastcanceraudits@rcseng.ac.uk
D3: https://www.natcan.org.uk/audits/primary-breast/
D4: @naopri-natcan.bsky.social
C9: This report was prepared by members of the NAoPri project team: • Kieran Horgan, Surgical Lead • David Dodwell, Clinical Oncology Lead • Mark Verrill, Medical Oncology Lead Team members in the Clinical Effectiveness Unit, RCS England: • Sarah Blacker, NAoPri Clinical Research Fellow • Jemma Boyle, NAoPri Senior Clinical Research Fellow • Liyang Wang, NAoPri Clinical Research Fellow • Christine Delon, NAoPri Data Scientist • Diana Withrow, NAoPri Methodologist • David Cromwell, NAoPri Senior Methodologist • Robert Douce, NAoPri Project Manager
C11: Citation for this document: National Audit of Primary Breast Cancer: State of the Nation Data Table September 2026. London: Royal College of Surgeons of England, 2026. © 2026 Healthcare Quality Improvement Partnership (HQIP) Copyright All rights reserved. No part of this publication may be reproduced in any form (including photocopying or storing it in any medium by electronic means and whether or not transiently or incidentally to some other use of this publication) without the written permission of the copyright owner. Applications for the copyright owner’s written permission to reproduce any part of this publication should be addressed to the publisher.
C13: The Royal College of Surgeons of England is an independent professional body committed to enabling surgeons to achieve and maintain the highest standards of surgical practice and patient care. As part of this it supports Audit and the evaluation of clinical effectiveness for surgery. Registered Charity no: 212808
C15: The Association of Breast Surgery is a registered charity dedicated to advancing the practice of breast surgery and the management of breast conditions for the benefit of the public. It is a multi-professional membership association which promotes training, education, clinical trials and guideline composition and adoption. For further information, please refer to the website www.associationofbreastsurgery.org.uk. Registered charity no: 1135699 The UK Breast Cancer Group (UKBCG) is a forum for Clinical and Medical Oncologists. The UKBCG acts as a stakeholder to NICE, NHS England and other organisations; and undertakes key pieces of work, at times in collaboration with other bodies, with the overriding endpoint of improving patient care. The Group’s objectives include advancing the education of clinical and medical oncologists in the subject of breast cancer, concerning its identification, diagnosis and treatment; promoting research for the public benefit in all aspects of breast cancer and publishing the results; and assisting in the treatment and care of persons suffering from breast cancer, or in need of rehabilitation, by the provision of education for healthcare professionals. Further information on the work of the UKBCG is communicated via this website on a regular basis https://ukbcg.org/. Registered charity no: 1177296
C17: The National Cancer Audit Collaborating Centre (NATCAN) is commissioned by the Healthcare Quality Improvement Partnership (HQIP) as part of the National Clinical Audit and Patient Outcomes Programme (NCAPOP). NATCAN delivers national cancer audits in non-Hodgkin lymphoma, bowel, breast-primary, breast-metastatic, oesophago-gastric, ovarian, kidney, lung, pancreatic and prostate cancers. HQIP is led by a consortium of the Academy of Medical Royal Colleges, and the Royal College of Nursing. Its aim is to promote quality improvement in patient outcomes, and in particular, to increase the impact that clinical audit, outcome review programmes and registries have on healthcare quality in England and Wales. HQIP holds the contract to commission, manage and develop the National Clinical Audit and Patient Outcomes Programme (NCAPOP), comprising around 40 projects covering care provided to people with a wide range of medical, surgical and mental health conditions. The programme is funded by NHS England, the Welsh Government and, with some individual projects, other devolved administrations and crown dependencies. https://www.hqip.org.uk/national-programmes
C19: Cancer Registration This work uses data that has been provided by patients and collected by the NHS as part of their care and support, including data that is collated, maintained and quality assured by the National Disease Registration Service (NDRS), which is part of NHS England, and the NHS Wales Performance and Improvement Team in Public Health Wales.

Sheet View_Completeness
D1: NAoPri 2026 State of the Nation Annual Report | U1: Material to hide in columns right of here
D2: Data Viewer : data completeness
AB5: England and Wales | AC5: K04000001 | AG5: Offset All trusts | AH5: 1
AB6: England | AC6: E92000001 | AG6: Offset Alliance | AH6: 4
AB7: Wales | AC7: W92000004
B8: Please select a NHS ORGANISATION from the dropdown box below: | F8: Organisation Code
C9: Airedale NHS Foundation Trust | F9: =V10 -> RCF | V9: Trust code | W9: Alliance code | X9: National Code | Y9: National Name | AF9: Rand scatter | AG9: trust_code | AH9: X-value | AI9: Y-value | AJ9: Alliance | AK9: Trust | AL9: Alliance Avg | AM9: =$Z$16 -> England and Wales | AN9: Row
V10: =INDEX(Lists!$A$2:$F$123,MATCH(View_Completeness!$C$9,Lists!$A$2:$A$123,0),2) -> RCF | W10: =INDEX(Lists!$A$2:$F$123,MATCH(View_Completeness!$C$9,Lists!$A$2:$A$123,0),4) -> E56000030 | X10: =INDEX(Lists!$A$2:$F$123,MATCH(View_Completeness!$C$9,Lists!$A$2:$A$123,0),6) -> E92000001 | Y10: =INDEX(Lists!$A$2:$F$123,MATCH(View_Completeness!$C$9,Lists!$A$2:$A$123,0),5) -> England | AF10: 0.71089869 | AG10: 7A1 | AH10: =AH$5+AF10 -> 1.7108987 | AI10: {=IF(ISNA($W$14),NA(), INDEX(Data_completeness!$A$15:$T$158,AN10,AC$44))} -> 0.70474 | AM10: =IF(ISERROR($W$14),NA(),VLOOKUP(AA$16,Data_completeness!$E$15:$T$158,$AC$44-4,FALSE)) -> 0.71183 | AN10: =MATCH(View_Completeness!AG10,Data_completeness!$E$15:$E$158,0) -> 5
C11: =IF(LEFT($V$10,1)="7","This NHS breast unit is in Wales",V11) -> This selected NHS breast unit is within the | D11: =IF(LEFT($V$10,1)="7","",W11) -> West Yorkshire and Harrogate Cancer Alliance | V11: This selected NHS breast unit is within the | W11: =INDEX(Lists!$A$2:$F$123,MATCH(View_Completeness!$C$9,Lists!$A$2:$A$123,0),3)&" Cancer Alliance" -> West Yorkshire and Harrogate Cancer Alliance | AF11: 0.62061212 | AG11: 7A2 | AH11: =AH$5+AF11 -> 1.6206121 | AI11: {=IF(ISNA($W$14),NA(), INDEX(Data_completeness!$A$15:$T$158,AN11,AC$44))} -> 0.79588 | AM11: =IF(ISERROR($W$14),NA(),VLOOKUP(AA$16,Data_completeness!$E$15:$T$158,$AC$44-4,FALSE)) -> 0.71183 | AN11: =MATCH(View_Completeness!AG11,Data_completeness!$E$15:$E$158,0) -> 7
W12: =IF(Y10="Wales",Y10,"the "&W11) -> the West Yorkshire and Harrogate Cancer Alliance | AF12: 0.84638145 | AG12: 7A3 | AH12: =AH$5+AF12 -> 1.8463815 | AI12: {=IF(ISNA($W$14),NA(), INDEX(Data_completeness!$A$15:$T$158,AN12,AC$44))} -> 0.82905 | AM12: =IF(ISERROR($W$14),NA(),VLOOKUP(AA$16,Data_completeness!$E$15:$T$158,$AC$44-4,FALSE)) -> 0.71183 | AN12: =MATCH(View_Completeness!AG12,Data_completeness!$E$15:$E$158,0) -> 8
B13: Please select a DATA QUALITY metric from the dropdown box for further exploration | G13: Target for data completeness: | W13: Short-metric name | AF13: 0.2305287 | AG13: 7A4 | AH13: =AH$5+AF13 -> 1.2305287 | AI13: {=IF(ISNA($W$14),NA(), INDEX(Data_completeness!$A$15:$T$158,AN13,AC$44))} -> 0.60814 | AM13: =IF(ISERROR($W$14),NA(),VLOOKUP(AA$16,Data_completeness!$E$15:$T$158,$AC$44-4,FALSE)) -> 0.71183 | AN13: =MATCH(View_Completeness!AG13,Data_completeness!$E$15:$E$158,0) -> 9
C14: Data completeness for ER status, HER2 status and stage | G14: 0.9 | H14: (90% recommended) | W14: =INDEX(Lists!$A$132:$F$142,MATCH(View_Completeness!$C$14,Lists!$A$132:$A$142,0),5) -> ER status, HER2 status and stage all complete | X14: =IF(ISNA(W14),NA(),X10) -> E92000001 | AF14: 0.88010617 | AG14: 7A5 | AH14: =AH$5+AF14 -> 1.8801062 | AI14: {=IF(ISNA($W$14),NA(), INDEX(Data_completeness!$A$15:$T$158,AN14,AC$44))} -> 0.83001 | AM14: =IF(ISERROR($W$14),NA(),VLOOKUP(AA$16,Data_completeness!$E$15:$T$158,$AC$44-4,FALSE)) -> 0.71183 | AN14: =MATCH(View_Completeness!AG14,Data_completeness!$E$15:$E$158,0) -> 6
B15: Data quality metrics are reported as proportion of records with complete values | Z15: Indicator coverage | AA15: Denom Code | AF15: 0.65120325 | AG15: 7A6 | AH15: =AH$5+AF15 -> 1.6512032 | AI15: {=IF(ISNA($W$14),NA(), INDEX(Data_completeness!$A$15:$T$158,AN15,AC$44))} -> 0.43135 | AM15: =IF(ISERROR($W$14),NA(),VLOOKUP(AA$16,Data_completeness!$E$15:$T$158,$AC$44-4,FALSE)) -> 0.71183 | AN15: =MATCH(View_Completeness!AG15,Data_completeness!$E$15:$E$158,0) -> 4
Z16: =INDEX(Lists!$A$131:$I$141,MATCH(View_Completeness!$C$14,Lists!$A$131:$A$141,0),9) -> England and Wales | AA16: =VLOOKUP(Z16,$AB$5:$AC$7,2,FALSE) -> K04000001 | AF16: 0.1481481 | AG16: RJR | AH16: =AH$5+AF16 -> 1.1481481 | AI16: {=IF(ISNA($W$14),NA(), INDEX(Data_completeness!$A$15:$T$158,AN16,AC$44))} -> 0.27504 | AM16: =IF(ISERROR($W$14),NA(),VLOOKUP(AA$16,Data_completeness!$E$15:$T$158,$AC$44-4,FALSE)) -> 0.71183 | AN16: =MATCH(View_Completeness!AG16,Data_completeness!$E$15:$E$158,0) -> 11
C17: Data items on which data completeness target is met: | D17: =COUNTIF(D$25:D$26,">"&$G$14)+COUNTIF(D$28:D$31,">"&$G$14)+COUNTIF(D$34:D$35,">"&$G$14) -> 5 | E17: out of 8 (excludes TDA and PR status) | AF17: 0.16025546 | AG17: RJN | AH17: =AH$5+AF17 -> 1.1602555 | AI17: {=IF(ISNA($W$14),NA(), INDEX(Data_completeness!$A$15:$T$158,AN17,AC$44))} -> 0.70293 | AM17: =IF(ISERROR($W$14),NA(),VLOOKUP(AA$16,Data_completeness!$E$15:$T$158,$AC$44-4,FALSE)) -> 0.71183 | AN17: =MATCH(View_Completeness!AG17,Data_completeness!$E$15:$E$158,0) -> 12
AF18: 0.59372232 | AG18: REM | AH18: =AH$5+AF18 -> 1.5937223 | AI18: {=IF(ISNA($W$14),NA(), INDEX(Data_completeness!$A$15:$T$158,AN18,AC$44))} -> 0.79789 | AM18: =IF(ISERROR($W$14),NA(),VLOOKUP(AA$16,Data_completeness!$E$15:$T$158,$AC$44-4,FALSE)) -> 0.71183 | AN18: =MATCH(View_Completeness!AG18,Data_completeness!$E$15:$E$158,0) -> 13
B19: ="Table 1: Completeness of data for "&C9 -> Table 1: Completeness of data for Airedale NHS Foundation Trust | AF19: 0.35435889 | AG19: RBN | AH19: =AH$5+AF19 -> 1.3543589 | AI19: {=IF(ISNA($W$14),NA(), INDEX(Data_completeness!$A$15:$T$158,AN19,AC$44))} -> 0.83249 | AM19: =IF(ISERROR($W$14),NA(),VLOOKUP(AA$16,Data_completeness!$E$15:$T$158,$AC$44-4,FALSE)) -> 0.71183 | AN19: =MATCH(View_Completeness!AG19,Data_completeness!$E$15:$E$158,0) -> 14
D20: Breast Unit | E20: Alliance | F20: =Y10 -> England | V20: Col | W20: Breast Unit | X20: Alliance | Y20: Nation | AF20: 0.35517053 | AG20: RBT | AH20: =AH$5+AF20 -> 1.3551705 | AI20: {=IF(ISNA($W$14),NA(), INDEX(Data_completeness!$A$15:$T$158,AN20,AC$44))} -> 0.68056 | AM20: =IF(ISERROR($W$14),NA(),VLOOKUP(AA$16,Data_completeness!$E$15:$T$158,$AC$44-4,FALSE)) -> 0.71183 | AN20: =MATCH(View_Completeness!AG20,Data_completeness!$E$15:$E$158,0) -> 15
B21: No. of people with breast cancer | D21: =IF(ISERROR(W21),"N/A",W21) -> 510 | E21: =IF(ISERROR(X21),"N/A",X21) -> 5823 | F21: =IF(ISERROR(Y21),"N/A",Y21) -> 138032 | V21: 3 | W21: =IFERROR(VLOOKUP(V$10,Data_completeness!$E$15:$T$158,$V21,FALSE),"") -> 510 | X21: =IFERROR(VLOOKUP(W$10,Data_completeness!$E$14:$T$157,$V21,FALSE),"") -> 5823 | Y21: =VLOOKUP(X$10,Data_completeness!$E$14:$T$157,$V21,FALSE) -> 138032 | AF21: 0.28963133 | AG21: RWW | AH21: =AH$5+AF21 -> 1.2896313 | AI21: {=IF(ISNA($W$14),NA(), INDEX(Data_completeness!$A$15:$T$158,AN21,AC$44))} -> 0.76969 | AM21: =IF(ISERROR($W$14),NA(),VLOOKUP(AA$16,Data_completeness!$E$15:$T$158,$AC$44-4,FALSE)) -> 0.71183 | AN21: =MATCH(View_Completeness!AG21,Data_completeness!$E$15:$E$158,0) -> 17
C22: No. of people with non-invasive disease | D22: =IF(ISERROR(W22),"N/A",W22) -> 48 | E22: =IF(ISERROR(X22),"N/A",X22) -> 679 | F22: =IF(ISERROR(Y22),"N/A",Y22) -> 14816 | V22: 4 | W22: =IFERROR(VLOOKUP(V$10,Data_completeness!$E$15:$T$158,$V22,FALSE),"") -> 48 | X22: =IFERROR(VLOOKUP(W$10,Data_completeness!$E$14:$T$157,$V22,FALSE),"") -> 679 | Y22: =VLOOKUP(X$10,Data_completeness!$E$14:$T$157,$V22,FALSE) -> 14816 | AF22: 0.94985245 | AG22: RBL | AH22: =AH$5+AF22 -> 1.9498524 | AI22: {=IF(ISNA($W$14),NA(), INDEX(Data_completeness!$A$15:$T$158,AN22,AC$44))} -> 0.62668 | AM22: =IF(ISERROR($W$14),NA(),VLOOKUP(AA$16,Data_completeness!$E$15:$T$158,$AC$44-4,FALSE)) -> 0.71183 | AN22: =MATCH(View_Completeness!AG22,Data_completeness!$E$15:$E$158,0) -> 16
C23: No. of people with invasive disease | D23: =IF(ISERROR(W23),"N/A",W23) -> 462 | E23: =IF(ISERROR(X23),"N/A",X23) -> 5144 | F23: =IF(ISERROR(Y23),"N/A",Y23) -> 123216 | V23: 5 | W23: =IFERROR(VLOOKUP(V$10,Data_completeness!$E$15:$T$158,$V23,FALSE),"") -> 462 | X23: =IFERROR(VLOOKUP(W$10,Data_completeness!$E$14:$T$157,$V23,FALSE),"") -> 5144 | Y23: =VLOOKUP(X$10,Data_completeness!$E$14:$T$157,$V23,FALSE) -> 123216 | AF23: 0.75729141 | AG23: RFS | AH23: =AH$5+AF23 -> 1.7572914 | AI23: {=IF(ISNA($W$14),NA(), INDEX(Data_completeness!$A$15:$T$158,AN23,AC$44))} -> 0.74972 | AM23: =IF(ISERROR($W$14),NA(),VLOOKUP(AA$16,Data_completeness!$E$15:$T$158,$AC$44-4,FALSE)) -> 0.71183 | AN23: =MATCH(View_Completeness!AG23,Data_completeness!$E$15:$E$158,0) -> 19
B24: Data items covering all people diagnosed with breast cancer | U24: 6 not used this is n with no staging | X24: =IFERROR(VLOOKUP(W$10,Data_completeness!$E$14:$T$157,$V24,FALSE),"") | AF24: 0.54491887 | AG24: RNQ | AH24: =AH$5+AF24 -> 1.5449189 | AI24: {=IF(ISNA($W$14),NA(), INDEX(Data_completeness!$A$15:$T$158,AN24,AC$44))} -> 0.5 | AM24: =IF(ISERROR($W$14),NA(),VLOOKUP(AA$16,Data_completeness!$E$15:$T$158,$AC$44-4,FALSE)) -> 0.71183 | AN24: =MATCH(View_Completeness!AG24,Data_completeness!$E$15:$E$158,0) -> 20
C25: Clinical nurse specialist | D25: =IF(ISERROR(W25),"N/A",W25) -> 0.96078 | E25: =IF(ISERROR(X25),"N/A",X25) -> 0.9131 | F25: =IF(ISERROR(Y25),"N/A",Y25) -> 0.80484 | V25: 7 | W25: =IFERROR(VLOOKUP(V$10,Data_completeness!$E$15:$T$158,$V25,FALSE),"") -> 0.96078 | X25: =IFERROR(VLOOKUP(W$10,Data_completeness!$E$14:$T$157,$V25,FALSE),"") -> 0.9131 | Y25: =VLOOKUP(X$10,Data_completeness!$E$14:$T$157,$V25,FALSE) -> 0.80484 | AF25: 0.55204428 | AG25: RNS | AH25: =AH$5+AF25 -> 1.5520443 | AI25: {=IF(ISNA($W$14),NA(), INDEX(Data_completeness!$A$15:$T$158,AN25,AC$44))} -> 0.80449 | AM25: =IF(ISERROR($W$14),NA(),VLOOKUP(AA$16,Data_completeness!$E$15:$T$158,$AC$44-4,FALSE)) -> 0.71183 | AN25: =MATCH(View_Completeness!AG25,Data_completeness!$E$15:$E$158,0) -> 21
C26: Triple diagnostic assessment (TDA)* | D26: =IF(ISERROR(W26),"N/A",W26) -> 0 | E26: =IF(ISERROR(X26),"N/A",X26) -> 0 | F26: =IF(ISERROR(Y26),"N/A",Y26) -> 0 | V26: 8 | W26: =IFERROR(VLOOKUP(V$10,Data_completeness!$E$15:$T$158,$V26,FALSE),"") -> 0 | X26: =IFERROR(VLOOKUP(W$10,Data_completeness!$E$14:$T$157,$V26,FALSE),"") -> 0 | Y26: =VLOOKUP(X$10,Data_completeness!$E$14:$T$157,$V26,FALSE) -> 0 | AF26: 0.039867194 | AG26: RX1 | AH26: =AH$5+AF26 -> 1.0398672 | AI26: {=IF(ISNA($W$14),NA(), INDEX(Data_completeness!$A$15:$T$158,AN26,AC$44))} -> 0.71215 | AM26: =IF(ISERROR($W$14),NA(),VLOOKUP(AA$16,Data_completeness!$E$15:$T$158,$AC$44-4,FALSE)) -> 0.71183 | AN26: =MATCH(View_Completeness!AG26,Data_completeness!$E$15:$E$158,0) -> 22
C27: Tumour grade | D27: =IF(ISERROR(W27),"N/A",W27) -> 0.96471 | E27: =IF(ISERROR(X27),"N/A",X27) -> 0.94848 | F27: =IF(ISERROR(Y27),"N/A",Y27) -> 0.95808 | V27: 14 | W27: =IFERROR(VLOOKUP(V$10,Data_completeness!$E$15:$T$158,$V27,FALSE),"") -> 0.96471 | X27: =IFERROR(VLOOKUP(W$10,Data_completeness!$E$14:$T$157,$V27,FALSE),"") -> 0.94848 | Y27: =VLOOKUP(X$10,Data_completeness!$E$14:$T$157,$V27,FALSE) -> 0.95808 | AF27: 0.79728731 | AG27: RK5 | AH27: =AH$5+AF27 -> 1.7972873 | AI27: {=IF(ISNA($W$14),NA(), INDEX(Data_completeness!$A$15:$T$158,AN27,AC$44))} -> 0.86312 | AM27: =IF(ISERROR($W$14),NA(),VLOOKUP(AA$16,Data_completeness!$E$15:$T$158,$AC$44-4,FALSE)) -> 0.71183 | AN27: =MATCH(View_Completeness!AG27,Data_completeness!$E$15:$E$158,0) -> 23
C28: Overall stage | D28: =IF(ISERROR(W28),"N/A",W28) -> 0.98824 | E28: =IF(ISERROR(X28),"N/A",X28) -> 0.93131 | F28: =IF(ISERROR(Y28),"N/A",Y28) -> 0.92409 | V28: 12 | W28: =IFERROR(VLOOKUP(V$10,Data_completeness!$E$15:$T$158,$V28,FALSE),"") -> 0.98824 | X28: =IFERROR(VLOOKUP(W$10,Data_completeness!$E$14:$T$157,$V28,FALSE),"") -> 0.93131 | Y28: =VLOOKUP(X$10,Data_completeness!$E$14:$T$157,$V28,FALSE) -> 0.92409 | AF28: 0.18247419 | AG28: RWD | AH28: =AH$5+AF28 -> 1.1824742 | AI28: {=IF(ISNA($W$14),NA(), INDEX(Data_completeness!$A$15:$T$158,AN28,AC$44))} -> 0.85394 | AM28: =IF(ISERROR($W$14),NA(),VLOOKUP(AA$16,Data_completeness!$E$15:$T$158,$AC$44-4,FALSE)) -> 0.71183 | AN28: =MATCH(View_Completeness!AG28,Data_completeness!$E$15:$E$158,0) -> 26
C29: Oestrogen receptor (ER) Status | D29: =IF(ISERROR(W29),"N/A",W29) -> 0.92941 | E29: =IF(ISERROR(X29),"N/A",X29) -> 0.80749 | F29: =IF(ISERROR(Y29),"N/A",Y29) -> 0.85214 | V29: 9 | W29: =IFERROR(VLOOKUP(V$10,Data_completeness!$E$15:$T$158,$V29,FALSE),"") -> 0.92941 | X29: =IFERROR(VLOOKUP(W$10,Data_completeness!$E$14:$T$157,$V29,FALSE),"") -> 0.80749 | Y29: =VLOOKUP(X$10,Data_completeness!$E$14:$T$157,$V29,FALSE) -> 0.85214 | AF29: 0.99272966 | AG29: RTG | AH29: =AH$5+AF29 -> 1.9927297 | AI29: {=IF(ISNA($W$14),NA(), INDEX(Data_completeness!$A$15:$T$158,AN29,AC$44))} -> 0.69404 | AM29: =IF(ISERROR($W$14),NA(),VLOOKUP(AA$16,Data_completeness!$E$15:$T$158,$AC$44-4,FALSE)) -> 0.71183 | AN29: =MATCH(View_Completeness!AG29,Data_completeness!$E$15:$E$158,0) -> 24
C30: HER2 Status | D30: =IF(ISERROR(W30),"N/A",W30) -> 0.81961 | E30: =IF(ISERROR(X30),"N/A",X30) -> 0.73811 | F30: =IF(ISERROR(Y30),"N/A",Y30) -> 0.77156 | V30: 10 | W30: =IFERROR(VLOOKUP(V$10,Data_completeness!$E$15:$T$158,$V30,FALSE),"") -> 0.81961 | X30: =IFERROR(VLOOKUP(W$10,Data_completeness!$E$14:$T$157,$V30,FALSE),"") -> 0.73811 | Y30: =VLOOKUP(X$10,Data_completeness!$E$14:$T$157,$V30,FALSE) -> 0.77156 | AF30: 0.18578942 | AG30: RWE | AH30: =AH$5+AF30 -> 1.1857894 | AI30: {=IF(ISNA($W$14),NA(), INDEX(Data_completeness!$A$15:$T$158,AN30,AC$44))} -> 0.73998 | AM30: =IF(ISERROR($W$14),NA(),VLOOKUP(AA$16,Data_completeness!$E$15:$T$158,$AC$44-4,FALSE)) -> 0.71183 | AN30: =MATCH(View_Completeness!AG30,Data_completeness!$E$15:$E$158,0) -> 25
C31: Progesterone receptor (PR) status | D31: =IF(ISERROR(W31),"N/A",W31) -> 0.84706 | E31: =IF(ISERROR(X31),"N/A",X31) -> 0.75665 | F31: =IF(ISERROR(Y31),"N/A",Y31) -> 0.68824 | V31: 11 | W31: =IFERROR(VLOOKUP(V$10,Data_completeness!$E$15:$T$158,$V31,FALSE),"") -> 0.84706 | X31: =IFERROR(VLOOKUP(W$10,Data_completeness!$E$14:$T$157,$V31,FALSE),"") -> 0.75665 | Y31: =VLOOKUP(X$10,Data_completeness!$E$14:$T$157,$V31,FALSE) -> 0.68824 | AF31: 0.084623897 | AG31: RC9 | AH31: =AH$5+AF31 -> 1.0846239 | AI31: {=IF(ISNA($W$14),NA(), INDEX(Data_completeness!$A$15:$T$158,AN31,AC$44))} -> 0.81805 | AM31: =IF(ISERROR($W$14),NA(),VLOOKUP(AA$16,Data_completeness!$E$15:$T$158,$AC$44-4,FALSE)) -> 0.71183 | AN31: =MATCH(View_Completeness!AG31,Data_completeness!$E$15:$E$158,0) -> 28
C32: ER status, HER2 status and stage all complete | D32: =IF(ISERROR(W32),"N/A",W32) -> 0.81373 | E32: =IF(ISERROR(X32),"N/A",X32) -> 0.6713 | F32: =IF(ISERROR(Y32),"N/A",Y32) -> 0.71328 | V32: 13 | W32: =IFERROR(VLOOKUP(V$10,Data_completeness!$E$15:$T$158,$V32,FALSE),"") -> 0.81373 | X32: =IFERROR(VLOOKUP(W$10,Data_completeness!$E$14:$T$157,$V32,FALSE),"") -> 0.6713 | Y32: =VLOOKUP(X$10,Data_completeness!$E$14:$T$157,$V32,FALSE) -> 0.71328 | AF32: 0.0027406959 | AG32: RGT | AH32: =AH$5+AF32 -> 1.0027407 | AI32: {=IF(ISNA($W$14),NA(), INDEX(Data_completeness!$A$15:$T$158,AN32,AC$44))} -> 0.84064 | AM32: =IF(ISERROR($W$14),NA(),VLOOKUP(AA$16,Data_completeness!$E$15:$T$158,$AC$44-4,FALSE)) -> 0.71183 | AN32: =MATCH(View_Completeness!AG32,Data_completeness!$E$15:$E$158,0) -> 29
B33: Data items covering people with invasive disease | X33: =IFERROR(VLOOKUP(W$10,Data_completeness!$E$14:$T$157,$V33,FALSE),"") | AF33: 0.20066927 | AG33: RWH | AH33: =AH$5+AF33 -> 1.2006693 | AI33: {=IF(ISNA($W$14),NA(), INDEX(Data_completeness!$A$15:$T$158,AN33,AC$44))} -> 0.6405 | AM33: =IF(ISERROR($W$14),NA(),VLOOKUP(AA$16,Data_completeness!$E$15:$T$158,$AC$44-4,FALSE)) -> 0.71183 | AN33: =MATCH(View_Completeness!AG33,Data_completeness!$E$15:$E$158,0) -> 38
C34: T Stage | D34: =IF(ISERROR(W34),"N/A",W34) -> 0.98485 | E34: =IF(ISERROR(X34),"N/A",X34) -> 0.93351 | F34: =IF(ISERROR(Y34),"N/A",Y34) -> 0.90995 | V34: 15 | W34: =IFERROR(VLOOKUP(V$10,Data_completeness!$E$15:$T$158,$V34,FALSE),"") -> 0.98485 | X34: =IFERROR(VLOOKUP(W$10,Data_completeness!$E$14:$T$157,$V34,FALSE),"") -> 0.93351 | Y34: =VLOOKUP(X$10,Data_completeness!$E$14:$T$157,$V34,FALSE) -> 0.90995 | AF34: 0.60455333 | AG34: RDE | AH34: =AH$5+AF34 -> 1.6045533 | AI34: {=IF(ISNA($W$14),NA(), INDEX(Data_completeness!$A$15:$T$158,AN34,AC$44))} -> 0.82896 | AM34: =IF(ISERROR($W$14),NA(),VLOOKUP(AA$16,Data_completeness!$E$15:$T$158,$AC$44-4,FALSE)) -> 0.71183 | AN34: =MATCH(View_Completeness!AG34,Data_completeness!$E$15:$E$158,0) -> 30
C35: N Stage | D35: =IF(ISERROR(W35),"N/A",W35) -> 0.98918 | E35: =IF(ISERROR(X35),"N/A",X35) -> 0.92263 | F35: =IF(ISERROR(Y35),"N/A",Y35) -> 0.89858 | V35: 16 | W35: =IFERROR(VLOOKUP(V$10,Data_completeness!$E$15:$T$158,$V35,FALSE),"") -> 0.98918 | X35: =IFERROR(VLOOKUP(W$10,Data_completeness!$E$14:$T$157,$V35,FALSE),"") -> 0.92263 | Y35: =VLOOKUP(X$10,Data_completeness!$E$14:$T$157,$V35,FALSE) -> 0.89858 | AC35: (used for conditional formating) | AF35: 0.060307848 | AG35: RGP | AH35: =AH$5+AF35 -> 1.0603078 | AI35: {=IF(ISNA($W$14),NA(), INDEX(Data_completeness!$A$15:$T$158,AN35,AC$44))} -> 0.68586 | AM35: =IF(ISERROR($W$14),NA(),VLOOKUP(AA$16,Data_completeness!$E$15:$T$158,$AC$44-4,FALSE)) -> 0.71183 | AN35: =MATCH(View_Completeness!AG35,Data_completeness!$E$15:$E$158,0) -> 31
AF36: 0.62227784 | AG36: RAJ | AH36: =AH$5+AF36 -> 1.6222778 | AI36: {=IF(ISNA($W$14),NA(), INDEX(Data_completeness!$A$15:$T$158,AN36,AC$44))} -> 0.77234 | AM36: =IF(ISERROR($W$14),NA(),VLOOKUP(AA$16,Data_completeness!$E$15:$T$158,$AC$44-4,FALSE)) -> 0.71183 | AN36: =MATCH(View_Completeness!AG36,Data_completeness!$E$15:$E$158,0) -> 32
B37: KEY: | C37: HER2 status = human epidermal growth factor receptor 2 status | AF37: 0.24680091 | AG37: RD8 | AH37: =AH$5+AF37 -> 1.2468009 | AI37: {=IF(ISNA($W$14),NA(), INDEX(Data_completeness!$A$15:$T$158,AN37,AC$44))} -> 0.81486 | AM37: =IF(ISERROR($W$14),NA(),VLOOKUP(AA$16,Data_completeness!$E$15:$T$158,$AC$44-4,FALSE)) -> 0.71183 | AN37: =MATCH(View_Completeness!AG37,Data_completeness!$E$15:$E$158,0) -> 33
C38: * Denominator excludes women referred from breast screening | AF38: 0.97699632 | AG38: RM1 | AH38: =AH$5+AF38 -> 1.9769963 | AI38: {=IF(ISNA($W$14),NA(), INDEX(Data_completeness!$A$15:$T$158,AN38,AC$44))} -> 0.67399 | AM38: =IF(ISERROR($W$14),NA(),VLOOKUP(AA$16,Data_completeness!$E$15:$T$158,$AC$44-4,FALSE)) -> 0.71183 | AN38: =MATCH(View_Completeness!AG38,Data_completeness!$E$15:$E$158,0) -> 34
AF39: 0.98950262 | AG39: RGN | AH39: =AH$5+AF39 -> 1.9895026 | AI39: {=IF(ISNA($W$14),NA(), INDEX(Data_completeness!$A$15:$T$158,AN39,AC$44))} -> 0.77998 | AM39: =IF(ISERROR($W$14),NA(),VLOOKUP(AA$16,Data_completeness!$E$15:$T$158,$AC$44-4,FALSE)) -> 0.71183 | AN39: =MATCH(View_Completeness!AG39,Data_completeness!$E$15:$E$158,0) -> 35
B40: ="Table 2: Completeness of data for NHS breast units within "&W12 -> Table 2: Completeness of data for NHS breast units within the West Yorkshire and Harrogate Cancer Alliance | AD40: Target | AF40: 0.09196575 | AG40: RQW | AH40: =AH$5+AF40 -> 1.0919658 | AI40: {=IF(ISNA($W$14),NA(), INDEX(Data_completeness!$A$15:$T$158,AN40,AC$44))} -> 0.85123 | AM40: =IF(ISERROR($W$14),NA(),VLOOKUP(AA$16,Data_completeness!$E$15:$T$158,$AC$44-4,FALSE)) -> 0.71183 | AN40: =MATCH(View_Completeness!AG40,Data_completeness!$E$15:$E$158,0) -> 39
C41: ="on the metric: "&C14 -> on the metric: Data completeness for ER status, HER2 status and stage | AD41: =$G$14 -> 0.9 | AF41: 0.55983028 | AG41: RCX | AH41: =AH$5+AF41 -> 1.5598303 | AI41: {=IF(ISNA($W$14),NA(), INDEX(Data_completeness!$A$15:$T$158,AN41,AC$44))} -> 0.8796 | AM41: =IF(ISERROR($W$14),NA(),VLOOKUP(AA$16,Data_completeness!$E$15:$T$158,$AC$44-4,FALSE)) -> 0.71183 | AN41: =MATCH(View_Completeness!AG41,Data_completeness!$E$15:$E$158,0) -> 40
B42: Code | C42: NHS organisation | E42: Denominator (N) | F42: Proportion complete (%) | AF42: 0.63810854 | AG42: RWG | AH42: =AH$5+AF42 -> 1.6381085 | AI42: {=IF(ISNA($W$14),NA(), INDEX(Data_completeness!$A$15:$T$158,AN42,AC$44))} -> 0.85688 | AM42: =IF(ISERROR($W$14),NA(),VLOOKUP(AA$16,Data_completeness!$E$15:$T$158,$AC$44-4,FALSE)) -> 0.71183 | AN42: =MATCH(View_Completeness!AG42,Data_completeness!$E$15:$E$158,0) -> 36
...

Sheet View_Indicators
D1: NAoPri 2026 State of the Nation Annual Report | U1: Material to hide in columns right of here
D2: Data Viewer : Performance indicators
AB5: England and Wales | AC5: K04000001 | AG5: Offset All trusts | AH5: 1
AB6: England | AC6: E92000001 | AG6: Offset Alliance | AH6: 4
AB7: Wales | AC7: W92000004 | AP7: notes, if risk adjusted = NA and colum is '5', show N/A
B8: Please select a NHS ORGANISATION from the dropdown box below: | F8: Organisation Code | AP8: notes, if indicator = Survival and colum is '4', show N/A
C9: Airedale NHS Foundation Trust | F9: =V10 -> RCF | V9: Trust code | W9: Alliance code | X9: National Code | Y9: National Name | AF9: Rand scatter | AG9: trust_code | AH9: X-value | AI9: All NHS Breast Units | AJ9: Units within Region | AK9: Selected Breast Unit | AL9: Alliance Average | AM9: =$Z$16 -> England and Wales | AN9: Row | AO9: Y-value (initial) | AP9: Y-value(casmix)
V10: =INDEX(Lists!$A$2:$F$123,MATCH(View_Indicators!$C$9,Lists!$A$2:$A$123,0),2) -> RCF | W10: =INDEX(Lists!$A$2:$F$123,MATCH(View_Indicators!$C$9,Lists!$A$2:$A$123,0),4) -> E56000030 | X10: =INDEX(Lists!$A$2:$F$123,MATCH(View_Indicators!$C$9,Lists!$A$2:$A$123,0),6) -> E92000001 | Y10: =INDEX(Lists!$A$2:$F$123,MATCH(View_Indicators!$C$9,Lists!$A$2:$A$123,0),5) -> England | AF10: 0.71089869 | AG10: 7A1 | AH10: 1.7108987 | AI10: =IF(ISNA(AP10),#N/A,IF(ISNUMBER(AP10),AP10,#N/A)) -> 0.60066 | AM10: =IF(AND($X$16=5,$Y$16="N/A"),#N/A,VLOOKUP($AA$16,INDIRECT($W$16&"!$E$12:$H$155"),4,FALSE)) -> 0.83675 | AO10: =VLOOKUP($AG10,INDIRECT($W$16&"!$E$12:$I$155"),$X$16,FALSE) -> 0.60066 | AP10: =IF(OR(AND($X$16=5,$Y$16="N/A"), AND($W$16= "Ind10_Survival", $X$16=4)),#N/A,AO10) -> 0.60066
C11: This selected NHS breast unit is within | D11: =$W$12 -> the West Yorkshire and Harrogate Cancer Alliance | V11: This selected NHS breast unit is within | W11: =INDEX(Lists!$A$2:$F$123,MATCH(View_Indicators!C9,Lists!$A$2:$A$123,0),3)&" Cancer Alliance" -> West Yorkshire and Harrogate Cancer Alliance | AF11: 0.62061212 | AG11: 7A2 | AH11: 1.6206121 | AI11: =IF(ISNA(AP11),#N/A,IF(ISNUMBER(AP11),AP11,#N/A)) -> 0.46747 | AM11: =IF(AND($X$16=5,$Y$16="N/A"),#N/A,VLOOKUP($AA$16,INDIRECT($W$16&"!$E$12:$H$155"),4,FALSE)) -> 0.83675 | AO11: =VLOOKUP($AG11,INDIRECT($W$16&"!$E$12:$I$155"),$X$16,FALSE) -> 0.46747 | AP11: =IF(OR(AND($X$16=5,$Y$16="N/A"), AND($W$16= "Ind10_Survival", $X$16=4)),#N/A,AO11) -> 0.46747
W12: =IF(Y10="Wales",Y10,"the "&W11) -> the West Yorkshire and Harrogate Cancer Alliance | AF12: 0.84638145 | AG12: 7A3 | AH12: 1.8463815 | AI12: =IF(ISNA(AP12),#N/A,IF(ISNUMBER(AP12),AP12,#N/A)) -> 0.63451 | AM12: =IF(AND($X$16=5,$Y$16="N/A"),#N/A,VLOOKUP($AA$16,INDIRECT($W$16&"!$E$12:$H$155"),4,FALSE)) -> 0.83675 | AO12: =VLOOKUP($AG12,INDIRECT($W$16&"!$E$12:$I$155"),$X$16,FALSE) -> 0.63451 | AP12: =IF(OR(AND($X$16=5,$Y$16="N/A"), AND($W$16= "Ind10_Survival", $X$16=4)),#N/A,AO12) -> 0.63451
B13: Please select a Indicator metric from the dropdown box for further exploration | G13: Figures available for | W13: Short-metric name | AF13: 0.2305287 | AG13: 7A4 | AH13: 1.2305287 | AI13: =IF(ISNA(AP13),#N/A,IF(ISNUMBER(AP13),AP13,#N/A)) -> 0.33638 | AM13: =IF(AND($X$16=5,$Y$16="N/A"),#N/A,VLOOKUP($AA$16,INDIRECT($W$16&"!$E$12:$H$155"),4,FALSE)) -> 0.83675 | AO13: =VLOOKUP($AG13,INDIRECT($W$16&"!$E$12:$I$155"),$X$16,FALSE) -> 0.33638 | AP13: =IF(OR(AND($X$16=5,$Y$16="N/A"), AND($W$16= "Ind10_Survival", $X$16=4)),#N/A,AO13) -> 0.33638
C14: People who received adjuvant radiotherapy following breast surgery | G14: =IF(ISTEXT(Y14),Y14,"No indicator selected") -> England and Wales | W14: =INDEX(Lists!$A$152:$F$161,MATCH(View_Indicators!$C$14,Lists!$A$152:$A$161,0),5) -> Adjuv RX | X14: =IF(ISNA(W14),NA(),X10) -> E92000001 | Y14: =INDEX(Lists!$A$152:$J$161,MATCH(View_Indicators!$C$14,Lists!$A$152:$A$161,0),10) -> England and Wales | AF14: 0.88010617 | AG14: 7A5 | AH14: 1.8801062 | AI14: =IF(ISNA(AP14),#N/A,IF(ISNUMBER(AP14),AP14,#N/A)) -> 0.44934 | AM14: =IF(AND($X$16=5,$Y$16="N/A"),#N/A,VLOOKUP($AA$16,INDIRECT($W$16&"!$E$12:$H$155"),4,FALSE)) -> 0.83675 | AO14: =VLOOKUP($AG14,INDIRECT($W$16&"!$E$12:$I$155"),$X$16,FALSE) -> 0.44934 | AP14: =IF(OR(AND($X$16=5,$Y$16="N/A"), AND($W$16= "Ind10_Survival", $X$16=4)),#N/A,AO14) -> 0.44934
B15: Please select which type of indicator value the graph should display | W15: Sheet Name | X15: Type of indicator value | Y15: Risk adjust | Z15: Indicator coverage | AA15: Denom Code | AF15: 0.65120325 | AG15: 7A6 | AH15: 1.6512032 | AI15: =IF(ISNA(AP15),#N/A,IF(ISNUMBER(AP15),AP15,#N/A)) -> 0.34621 | AM15: =IF(AND($X$16=5,$Y$16="N/A"),#N/A,VLOOKUP($AA$16,INDIRECT($W$16&"!$E$12:$H$155"),4,FALSE)) -> 0.83675 | AO15: =VLOOKUP($AG15,INDIRECT($W$16&"!$E$12:$I$155"),$X$16,FALSE) -> 0.34621 | AP15: =IF(OR(AND($X$16=5,$Y$16="N/A"), AND($W$16= "Ind10_Survival", $X$16=4)),#N/A,AO15) -> 0.34621
C16: Adjusted for case-mix | G16: Target | H16: N/A | W16: =INDEX(Lists!$A$152:$F$161,MATCH(View_Indicators!$C$14,Lists!$A$152:$A$161,0),6) -> Ind5_RTX | X16: =VLOOKUP(View_Indicators!C$16,Lists!$A$166:$B$168,2,FALSE) -> 5 | Y16: =INDEX(Lists!$A$152:$K$161,MATCH(View_Indicators!$C$14,Lists!$A$152:$A$161,0),9) -> Age, ER status, T-stage, N-stage, Grade, Charlson co-morbidity score, SCARF index, Diagnosis year | Z16: =INDEX(Lists!$A$152:$K$161,MATCH(View_Indicators!$C$14,Lists!$A$152:$A$161,0),10) -> England and Wales | AA16: =VLOOKUP(Z16,$AB$5:$AC$7,2,FALSE) -> K04000001 | AF16: 0.1481481 | AG16: RJR | AH16: 1.1481481 | AI16: =IF(ISNA(AP16),#N/A,IF(ISNUMBER(AP16),AP16,#N/A)) -> 0.8956 | AM16: =IF(AND($X$16=5,$Y$16="N/A"),#N/A,VLOOKUP($AA$16,INDIRECT($W$16&"!$E$12:$H$155"),4,FALSE)) -> 0.83675 | AO16: =VLOOKUP($AG16,INDIRECT($W$16&"!$E$12:$I$155"),$X$16,FALSE) -> 0.8956 | AP16: =IF(OR(AND($X$16=5,$Y$16="N/A"), AND($W$16= "Ind10_Survival", $X$16=4)),#N/A,AO16) -> 0.8956
W17: table Name | X17: Short indicator name | Y17: Denominator | AF17: 0.16025546 | AG17: RJN | AH17: 1.1602555 | AI17: =IF(ISNA(AP17),#N/A,IF(ISNUMBER(AP17),AP17,#N/A)) -> 0.84662 | AM17: =IF(AND($X$16=5,$Y$16="N/A"),#N/A,VLOOKUP($AA$16,INDIRECT($W$16&"!$E$12:$H$155"),4,FALSE)) -> 0.83675 | AO17: =VLOOKUP($AG17,INDIRECT($W$16&"!$E$12:$I$155"),$X$16,FALSE) -> 0.84662 | AP17: =IF(OR(AND($X$16=5,$Y$16="N/A"), AND($W$16= "Ind10_Survival", $X$16=4)),#N/A,AO17) -> 0.84662
W18: =INDEX(Lists!$A$152:$F$161,MATCH(View_Indicators!$C$14,Lists!$A$152:$A$161,0),3) -> Women who had adjuvant radiotherapy following breast surgery | X18: =INDEX(Lists!$A$152:$F$161,MATCH(View_Indicators!$C$14,Lists!$A$152:$A$161,0),4) -> Adjuv RX | Y18: =INDEX(Lists!$A$152:$K$161,MATCH(View_Indicators!$C$14,Lists!$A$152:$A$161,0),8) -> Number of women with early breast cancer (stage 0-3A or "unknown") who had surgery (<12 mths after DX) | AF18: 0.59372232 | AG18: REM | AH18: 1.5937223 | AI18: =IF(ISNA(AP18),#N/A,IF(ISNUMBER(AP18),AP18,#N/A)) -> 0.87729 | AM18: =IF(AND($X$16=5,$Y$16="N/A"),#N/A,VLOOKUP($AA$16,INDIRECT($W$16&"!$E$12:$H$155"),4,FALSE)) -> 0.83675 | AO18: =VLOOKUP($AG18,INDIRECT($W$16&"!$E$12:$I$155"),$X$16,FALSE) -> 0.87729 | AP18: =IF(OR(AND($X$16=5,$Y$16="N/A"), AND($W$16= "Ind10_Survival", $X$16=4)),#N/A,AO18) -> 0.87729
B19: ="Table 1: Performance indicator values for "&C9 -> Table 1: Performance indicator values for Airedale NHS Foundation Trust | AF19: 0.35435889 | AG19: RBN | AH19: 1.3543589 | AI19: =IF(ISNA(AP19),#N/A,IF(ISNUMBER(AP19),AP19,#N/A)) -> 0.86911 | AM19: =IF(AND($X$16=5,$Y$16="N/A"),#N/A,VLOOKUP($AA$16,INDIRECT($W$16&"!$E$12:$H$155"),4,FALSE)) -> 0.83675 | AO19: =VLOOKUP($AG19,INDIRECT($W$16&"!$E$12:$I$155"),$X$16,FALSE) -> 0.86911 | AP19: =IF(OR(AND($X$16=5,$Y$16="N/A"), AND($W$16= "Ind10_Survival", $X$16=4)),#N/A,AO19) -> 0.86911
B20: Label | C20: Performance indicator name | D20: People in denominator | E20: Unadjusted | F20: Adjusted | G20: =$Y$10 -> England | Y20: Patients in denominator | Z20: Unadjusted | AA20: Adjusted | AB20: Nation | AF20: 0.35517053 | AG20: RBT | AH20: 1.3551705 | AI20: =IF(ISNA(AP20),#N/A,IF(ISNUMBER(AP20),AP20,#N/A)) -> 0.82834 | AM20: =IF(AND($X$16=5,$Y$16="N/A"),#N/A,VLOOKUP($AA$16,INDIRECT($W$16&"!$E$12:$H$155"),4,FALSE)) -> 0.83675 | AO20: =VLOOKUP($AG20,INDIRECT($W$16&"!$E$12:$I$155"),$X$16,FALSE) -> 0.82834 | AP20: =IF(OR(AND($X$16=5,$Y$16="N/A"), AND($W$16= "Ind10_Survival", $X$16=4)),#N/A,AO20) -> 0.82834
B21: TDA | C21: Triple Diagnostic Assessment in a single visit | D21: =IF(ISERROR(Y21),"N/A",Y21) -> 381 | E21: =IF(ISERROR(Z21),"N/A",Z21) -> 0.71391 | F21: =IF(ISERROR(AA21),"N/A",AA21) -> n/a | G21: =IF(ISERROR(AB21),"N/A",AB21) -> 0.6806 | X21: TDA | Y21: =VLOOKUP($V$10,Ind1_TDA!$E$13:$H$156,3,FALSE) -> 381 | Z21: =VLOOKUP($V$10,Ind1_TDA!$E$13:$H$156,4,FALSE) -> 0.71391 | AA21: n/a | AB21: =VLOOKUP($X$10,Ind1_TDA!$E$13:$H$156,4,FALSE) -> 0.6806 | AF21: 0.28963133 | AG21: RWW | AH21: 1.2896313 | AI21: =IF(ISNA(AP21),#N/A,IF(ISNUMBER(AP21),AP21,#N/A)) -> 0.88343 | AM21: =IF(AND($X$16=5,$Y$16="N/A"),#N/A,VLOOKUP($AA$16,INDIRECT($W$16&"!$E$12:$H$155"),4,FALSE)) -> 0.83675 | AO21: =VLOOKUP($AG21,INDIRECT($W$16&"!$E$12:$I$155"),$X$16,FALSE) -> 0.88343 | AP21: =IF(OR(AND($X$16=5,$Y$16="N/A"), AND($W$16= "Ind10_Survival", $X$16=4)),#N/A,AO21) -> 0.88343
B22: CNS | C22: Contact with a Clinical Nurse Specialist after diagnosis | D22: =IF(ISERROR(Y22),"N/A",Y22) -> 510 | E22: =IF(ISERROR(Z22),"N/A",Z22) -> 0.92941 | F22: =IF(ISERROR(AA22),"N/A",AA22) -> n/a | G22: =IF(ISERROR(AB22),"N/A",AB22) -> 0.75957 | X22: CNS | Y22: =VLOOKUP($V$10,Ind2_CNS!$E$13:$H$156,3,FALSE) -> 510 | Z22: =VLOOKUP($V$10,Ind2_CNS!$E$13:$H$156,4,FALSE) -> 0.92941 | AA22: n/a | AB22: =VLOOKUP($X$10,Ind2_CNS!$E$13:$H$156,4,FALSE) -> 0.75957 | AF22: 0.94985245 | AG22: RBL | AH22: 1.9498524 | AI22: =IF(ISNA(AP22),#N/A,IF(ISNUMBER(AP22),AP22,#N/A)) -> 0.93059 | AM22: =IF(AND($X$16=5,$Y$16="N/A"),#N/A,VLOOKUP($AA$16,INDIRECT($W$16&"!$E$12:$H$155"),4,FALSE)) -> 0.83675 | AO22: =VLOOKUP($AG22,INDIRECT($W$16&"!$E$12:$I$155"),$X$16,FALSE) -> 0.93059 | AP22: =IF(OR(AND($X$16=5,$Y$16="N/A"), AND($W$16= "Ind10_Survival", $X$16=4)),#N/A,AO22) -> 0.93059
B23: Surgery | C23: People who had breast surgery | D23: =IF(ISERROR(Y23),"N/A",Y23) -> 443 | E23: =IF(ISERROR(Z23),"N/A",Z23) -> 0.74944 | F23: =IF(ISERROR(AA23),"N/A",AA23) -> 0.74594 | G23: =IF(ISERROR(AB23),"N/A",AB23) -> 0.74204 | X23: Surgery | Y23: =VLOOKUP($V$10,Ind3_Surgery!$E$13:$I$156,3,FALSE) -> 443 | Z23: =VLOOKUP($V$10,Ind3_Surgery!$E$13:$I$156,4,FALSE) -> 0.74944 | AA23: =VLOOKUP($V$10,Ind3_Surgery!$E$13:$I$156,5,FALSE) -> 0.74594 | AB23: =VLOOKUP($X$10,Ind3_Surgery!$E$13:$I$156,4,FALSE) -> 0.74204 | AF23: 0.75729141 | AG23: RFS | AH23: 1.7572914 | AI23: =IF(ISNA(AP23),#N/A,IF(ISNUMBER(AP23),AP23,#N/A)) -> 0.93702 | AM23: =IF(AND($X$16=5,$Y$16="N/A"),#N/A,VLOOKUP($AA$16,INDIRECT($W$16&"!$E$12:$H$155"),4,FALSE)) -> 0.83675 | AO23: =VLOOKUP($AG23,INDIRECT($W$16&"!$E$12:$I$155"),$X$16,FALSE) -> 0.93702 | AP23: =IF(OR(AND($X$16=5,$Y$16="N/A"), AND($W$16= "Ind10_Survival", $X$16=4)),#N/A,AO23) -> 0.93702
B24: Neoadj CX | C24: People who had neo-adjuvant chemotherapy | D24: =IF(ISERROR(Y24),"N/A",Y24) -> 46 | E24: =IF(ISERROR(Z24),"N/A",Z24) -> 0.86957 | F24: =IF(ISERROR(AA24),"N/A",AA24) -> 0.90884 | G24: =IF(ISERROR(AB24),"N/A",AB24) -> 0.70545 | X24: Neoadj CX | Y24: =VLOOKUP($V$10,'Ind4_NACT Appendix U70'!$E$14:$I$157,3,FALSE) -> 46 | Z24: =VLOOKUP($V$10,'Ind4_NACT Appendix U70'!$E$14:$I$157,4,FALSE) -> 0.86957 | AA24: =VLOOKUP($V$10,'Ind4_NACT Appendix U70'!$E$14:$I$157,5,FALSE) -> 0.90884 | AB24: =VLOOKUP($X$10,'Ind4_NACT Appendix U70'!$E$14:$I$157,4,FALSE) -> 0.70545 | AF24: 0.54491887 | AG24: RNQ | AH24: 1.5449189 | AI24: =IF(ISNA(AP24),#N/A,IF(ISNUMBER(AP24),AP24,#N/A)) -> 0.86927 | AM24: =IF(AND($X$16=5,$Y$16="N/A"),#N/A,VLOOKUP($AA$16,INDIRECT($W$16&"!$E$12:$H$155"),4,FALSE)) -> 0.83675 | AO24: =VLOOKUP($AG24,INDIRECT($W$16&"!$E$12:$I$155"),$X$16,FALSE) -> 0.86927 | AP24: =IF(OR(AND($X$16=5,$Y$16="N/A"), AND($W$16= "Ind10_Survival", $X$16=4)),#N/A,AO24) -> 0.86927
B25: Adjuv RX | C25: People who had adjuvant radiotherapy following breast surgery | D25: =IF(ISERROR(Y25),"N/A",Y25) -> 293 | E25: =IF(ISERROR(Z25),"N/A",Z25) -> 0.83276 | F25: =IF(ISERROR(AA25),"N/A",AA25) -> 0.83625 | G25: =IF(ISERROR(AB25),"N/A",AB25) -> 0.85628 | X25: Adjuv RX | Y25: =VLOOKUP($V$10,Ind5_RTX!$E$14:$L$157,3,FALSE) -> 293 | Z25: =VLOOKUP($V$10,Ind5_RTX!$E$14:$L$157,4,FALSE) -> 0.83276 | AA25: =VLOOKUP($V$10,Ind5_RTX!$E$14:$L$157,5,FALSE) -> 0.83625 | AB25: =VLOOKUP($X$10,Ind5_RTX!$E$14:$L$157,4,FALSE) -> 0.85628 | AF25: 0.55204428 | AG25: RNS | AH25: 1.5520443 | AI25: =IF(ISNA(AP25),#N/A,IF(ISNUMBER(AP25),AP25,#N/A)) -> 0.88552 | AM25: =IF(AND($X$16=5,$Y$16="N/A"),#N/A,VLOOKUP($AA$16,INDIRECT($W$16&"!$E$12:$H$155"),4,FALSE)) -> 0.83675 | AO25: =VLOOKUP($AG25,INDIRECT($W$16&"!$E$12:$I$155"),$X$16,FALSE) -> 0.88552 | AP25: =IF(OR(AND($X$16=5,$Y$16="N/A"), AND($W$16= "Ind10_Survival", $X$16=4)),#N/A,AO25) -> 0.88552
B26: Any CX | C26: People who received any chemotherapy | D26: =IF(ISERROR(Y26),"N/A",Y26) -> 401 | E26: =IF(ISERROR(Z26),"N/A",Z26) -> 0.38155 | F26: =IF(ISERROR(AA26),"N/A",AA26) -> 0.38648 | G26: =IF(ISERROR(AB26),"N/A",AB26) -> 0.33533 | X26: Any CX | Y26: =VLOOKUP($V$10,Ind6_SACT!$E$13:$I$156,3,FALSE) -> 401 | Z26: =VLOOKUP($V$10,Ind6_SACT!$E$13:$I$156,4,FALSE) -> 0.38155 | AA26: =VLOOKUP($V$10,Ind6_SACT!$E$13:$I$156,5,FALSE) -> 0.38648 | AB26: =VLOOKUP($X$10,Ind6_SACT!$E$13:$I$156,4,FALSE) -> 0.33533 | AF26: 0.039867194 | AG26: RX1 | AH26: 1.0398672 | AI26: =IF(ISNA(AP26),#N/A,IF(ISNUMBER(AP26),AP26,#N/A)) -> 0.87034 | AM26: =IF(AND($X$16=5,$Y$16="N/A"),#N/A,VLOOKUP($AA$16,INDIRECT($W$16&"!$E$12:$H$155"),4,FALSE)) -> 0.83675 | AO26: =VLOOKUP($AG26,INDIRECT($W$16&"!$E$12:$I$155"),$X$16,FALSE) -> 0.87034 | AP26: =IF(OR(AND($X$16=5,$Y$16="N/A"), AND($W$16= "Ind10_Survival", $X$16=4)),#N/A,AO26) -> 0.87034
B27: M-IR | C27: Women who had IR after mastectomy | D27: =IF(ISERROR(Y27),"N/A",Y27) -> 135 | E27: =IF(ISERROR(Z27),"N/A",Z27) -> 0.24444 | F27: =IF(ISERROR(AA27),"N/A",AA27) -> 0.3011 | G27: =IF(ISERROR(AB27),"N/A",AB27) -> 0.26744 | X27: M-IR | Y27: =VLOOKUP($V$10,Ind7_Immed_Recon!$E$13:$I$156,3,FALSE) -> 135 | Z27: =VLOOKUP($V$10,Ind7_Immed_Recon!$E$13:$I$156,4,FALSE) -> 0.24444 | AA27: =VLOOKUP($V$10,Ind7_Immed_Recon!$E$13:$I$156,5,FALSE) -> 0.3011 | AB27: =VLOOKUP($X$10,Ind7_Immed_Recon!$E$13:$I$156,4,FALSE) -> 0.26744 | AF27: 0.79728731 | AG27: RK5 | AH27: 1.7972873 | AI27: =IF(ISNA(AP27),#N/A,IF(ISNUMBER(AP27),AP27,#N/A)) -> 0.87613 | AM27: =IF(AND($X$16=5,$Y$16="N/A"),#N/A,VLOOKUP($AA$16,INDIRECT($W$16&"!$E$12:$H$155"),4,FALSE)) -> 0.83675 | AO27: =VLOOKUP($AG27,INDIRECT($W$16&"!$E$12:$I$155"),$X$16,FALSE) -> 0.87613 | AP27: =IF(OR(AND($X$16=5,$Y$16="N/A"), AND($W$16= "Ind10_Survival", $X$16=4)),#N/A,AO27) -> 0.87613
B28: ReOperation | C28: People who had re-operation | D28: =IF(ISERROR(Y28),"N/A",Y28) -> 337 | E28: =IF(ISERROR(Z28),"N/A",Z28) -> 0.26706231 | F28: =IF(ISERROR(AA28),"N/A",AA28) -> 0.27599072 | G28: =IF(ISERROR(AB28),"N/A",AB28) -> 0.16246 | X28: ReOperation | Y28: =VLOOKUP($V$10,Ind8_ReOp!$E$13:$I$156,3,FALSE) -> 337 | Z28: =VLOOKUP($V$10,Ind8_ReOp!$E$13:$I$156,4,FALSE) -> 0.26706231 | AA28: =VLOOKUP($V$10,Ind8_ReOp!$E$13:$I$156,5,FALSE) -> 0.27599072 | AB28: =VLOOKUP($X$10,Ind8_ReOp!$E$13:$I$156,4,FALSE) -> 0.16246 | AF28: 0.18247419 | AG28: RWD | AH28: 1.1824742 | AI28: =IF(ISNA(AP28),#N/A,IF(ISNUMBER(AP28),AP28,#N/A)) -> 0.8747 | AM28: =IF(AND($X$16=5,$Y$16="N/A"),#N/A,VLOOKUP($AA$16,INDIRECT($W$16&"!$E$12:$H$155"),4,FALSE)) -> 0.83675 | AO28: =VLOOKUP($AG28,INDIRECT($W$16&"!$E$12:$I$155"),$X$16,FALSE) -> 0.8747 | AP28: =IF(OR(AND($X$16=5,$Y$16="N/A"), AND($W$16= "Ind10_Survival", $X$16=4)),#N/A,AO28) -> 0.8747
B29: 3YrSurv | C29: Breast cancer specific three year survival | D29: =IF(ISERROR(Y29),"N/A",Y29) -> 286 | E29: =IF(ISERROR(Z29),"N/A",Z29) -> n/a | F29: =IF(ISERROR(AA29),"N/A",AA29) -> 0.9656505 | G29: =IF(ISERROR(AB29),"N/A",AB29) -> 0.97645944 | X29: 3YrSurv | Y29: =VLOOKUP($V$10,Ind10_Survival!$E$13:$I$156,3,FALSE) -> 286 | Z29: n/a | AA29: =VLOOKUP($V$10,Ind10_Survival!$E$13:$I$156,5,FALSE) -> 0.9656505 | AB29: =VLOOKUP($X$10,Ind10_Survival!$E$13:$I$156,4,FALSE) -> 0.97645944 | AF29: 0.99272966 | AG29: RTG | AH29: 1.9927297 | AI29: =IF(ISNA(AP29),#N/A,IF(ISNUMBER(AP29),AP29,#N/A)) -> 0.90008 | AM29: =IF(AND($X$16=5,$Y$16="N/A"),#N/A,VLOOKUP($AA$16,INDIRECT($W$16&"!$E$12:$H$155"),4,FALSE)) -> 0.83675 | AO29: =VLOOKUP($AG29,INDIRECT($W$16&"!$E$12:$I$155"),$X$16,FALSE) -> 0.90008 | AP29: =IF(OR(AND($X$16=5,$Y$16="N/A"), AND($W$16= "Ind10_Survival", $X$16=4)),#N/A,AO29) -> 0.90008
B30: Label | C30: Denominators of indicators | AF30: 0.18578942 | AG30: RWE | AH30: 1.1857894 | AI30: =IF(ISNA(AP30),#N/A,IF(ISNUMBER(AP30),AP30,#N/A)) -> 0.83446 | AM30: =IF(AND($X$16=5,$Y$16="N/A"),#N/A,VLOOKUP($AA$16,INDIRECT($W$16&"!$E$12:$H$155"),4,FALSE)) -> 0.83675 | AO30: =VLOOKUP($AG30,INDIRECT($W$16&"!$E$12:$I$155"),$X$16,FALSE) -> 0.83446 | AP30: =IF(OR(AND($X$16=5,$Y$16="N/A"), AND($W$16= "Ind10_Survival", $X$16=4)),#N/A,AO30) -> 0.83446
B31: TDA | C31: =INDEX(Lists!$A$152:$H$161,MATCH(View_Indicators!$B31,Lists!$D$152:$D$161,0),8) -> Number of people with breast cancer (stage 0-3 or "unknown", excl. screening) | AF31: 0.084623897 | AG31: RC9 | AH31: 1.0846239 | AI31: =IF(ISNA(AP31),#N/A,IF(ISNUMBER(AP31),AP31,#N/A)) -> 0.85282 | AM31: =IF(AND($X$16=5,$Y$16="N/A"),#N/A,VLOOKUP($AA$16,INDIRECT($W$16&"!$E$12:$H$155"),4,FALSE)) -> 0.83675 | AO31: =VLOOKUP($AG31,INDIRECT($W$16&"!$E$12:$I$155"),$X$16,FALSE) -> 0.85282 | AP31: =IF(OR(AND($X$16=5,$Y$16="N/A"), AND($W$16= "Ind10_Survival", $X$16=4)),#N/A,AO31) -> 0.85282
B32: CNS | C32: =INDEX(Lists!$A$152:$H$161,MATCH(View_Indicators!$B32,Lists!$D$152:$D$161,0),8) -> Number of people with breast cancer (stage 0-3 or "unknown") | AF32: 0.0027406959 | AG32: RGT | AH32: 1.0027407 | AI32: =IF(ISNA(AP32),#N/A,IF(ISNUMBER(AP32),AP32,#N/A)) -> 0.87447 | AM32: =IF(AND($X$16=5,$Y$16="N/A"),#N/A,VLOOKUP($AA$16,INDIRECT($W$16&"!$E$12:$H$155"),4,FALSE)) -> 0.83675 | AO32: =VLOOKUP($AG32,INDIRECT($W$16&"!$E$12:$I$155"),$X$16,FALSE) -> 0.87447 | AP32: =IF(OR(AND($X$16=5,$Y$16="N/A"), AND($W$16= "Ind10_Survival", $X$16=4)),#N/A,AO32) -> 0.87447
B33: Surgery | C33: =INDEX(Lists!$A$152:$H$161,MATCH(View_Indicators!$B33,Lists!$D$152:$D$161,0),8) -> Number of people with early breast cancer (stage 0-3A, or "unknown") | AF33: 0.20066927 | AG33: RDE | AH33: 1.2006693 | AI33: =IF(ISNA(AP33),#N/A,IF(ISNUMBER(AP33),AP33,#N/A)) -> 0.93551 | AM33: =IF(AND($X$16=5,$Y$16="N/A"),#N/A,VLOOKUP($AA$16,INDIRECT($W$16&"!$E$12:$H$155"),4,FALSE)) -> 0.83675 | AO33: =VLOOKUP($AG33,INDIRECT($W$16&"!$E$12:$I$155"),$X$16,FALSE) -> 0.93551 | AP33: =IF(OR(AND($X$16=5,$Y$16="N/A"), AND($W$16= "Ind10_Survival", $X$16=4)),#N/A,AO33) -> 0.93551
B34: Neoadj CX | C34: =INDEX(Lists!$A$152:$H$161,MATCH(View_Indicators!$B34,Lists!$D$152:$D$161,0),8) -> Number of people with invasive breast cancer (stage 2-3A) who are triple negative or HER2 positive who had surgery (<12 mths after DX) | AF34: 0.60455333 | AG34: RWH | AH34: 1.6045533 | AI34: =IF(ISNA(AP34),#N/A,IF(ISNUMBER(AP34),AP34,#N/A)) -> 0.806 | AM34: =IF(AND($X$16=5,$Y$16="N/A"),#N/A,VLOOKUP($AA$16,INDIRECT($W$16&"!$E$12:$H$155"),4,FALSE)) -> 0.83675 | AO34: =VLOOKUP($AG34,INDIRECT($W$16&"!$E$12:$I$155"),$X$16,FALSE) -> 0.806 | AP34: =IF(OR(AND($X$16=5,$Y$16="N/A"), AND($W$16= "Ind10_Survival", $X$16=4)),#N/A,AO34) -> 0.806
B35: Adjuv RX | C35: =INDEX(Lists!$A$152:$H$161,MATCH(View_Indicators!$B35,Lists!$D$152:$D$161,0),8) -> Number of women with early breast cancer (stage 0-3A or "unknown") who had surgery (<12 mths after DX) | AF35: 0.060307848 | AG35: RGP | AH35: 1.0603078 | AI35: =IF(ISNA(AP35),#N/A,IF(ISNUMBER(AP35),AP35,#N/A)) -> 0.80148 | AM35: =IF(AND($X$16=5,$Y$16="N/A"),#N/A,VLOOKUP($AA$16,INDIRECT($W$16&"!$E$12:$H$155"),4,FALSE)) -> 0.83675 | AO35: =VLOOKUP($AG35,INDIRECT($W$16&"!$E$12:$I$155"),$X$16,FALSE) -> 0.80148 | AP35: =IF(OR(AND($X$16=5,$Y$16="N/A"), AND($W$16= "Ind10_Survival", $X$16=4)),#N/A,AO35) -> 0.80148
B36: Any CX | C36: =INDEX(Lists!$A$152:$H$161,MATCH(View_Indicators!$B36,Lists!$D$152:$D$161,0),8) -> Number of people with early invasive breast cancer (stage 1-3A or "unknown") who had surgery (<12 mths after DX) | AF36: 0.62227784 | AG36: RAJ | AH36: 1.6222778 | AI36: =IF(ISNA(AP36),#N/A,IF(ISNUMBER(AP36),AP36,#N/A)) -> 0.82128 | AM36: =IF(AND($X$16=5,$Y$16="N/A"),#N/A,VLOOKUP($AA$16,INDIRECT($W$16&"!$E$12:$H$155"),4,FALSE)) -> 0.83675 | AO36: =VLOOKUP($AG36,INDIRECT($W$16&"!$E$12:$I$155"),$X$16,FALSE) -> 0.82128 | AP36: =IF(OR(AND($X$16=5,$Y$16="N/A"), AND($W$16= "Ind10_Survival", $X$16=4)),#N/A,AO36) -> 0.82128
B37: M-IR | C37: =INDEX(Lists!$A$152:$H$161,MATCH(View_Indicators!$B37,Lists!$D$152:$D$161,0),8) -> Number of women with early breast cancer (stage 0-3A or "unknown") who had mastectomy (<12 mths after DX) | AF37: 0.24680091 | AG37: RD8 | AH37: 1.2468009 | AI37: =IF(ISNA(AP37),#N/A,IF(ISNUMBER(AP37),AP37,#N/A)) -> 0.82307 | AM37: =IF(AND($X$16=5,$Y$16="N/A"),#N/A,VLOOKUP($AA$16,INDIRECT($W$16&"!$E$12:$H$155"),4,FALSE)) -> 0.83675 | AO37: =VLOOKUP($AG37,INDIRECT($W$16&"!$E$12:$I$155"),$X$16,FALSE) -> 0.82307 | AP37: =IF(OR(AND($X$16=5,$Y$16="N/A"), AND($W$16= "Ind10_Survival", $X$16=4)),#N/A,AO37) -> 0.82307
B38: ReOperation | C38: =INDEX(Lists!$A$152:$H$161,MATCH(View_Indicators!$B38,Lists!$D$152:$D$161,0),8) -> Number of people with early breast cancer (stage 0-3A or "unknown") who had breast conserving surgery within 12 months of diagnosis. | AF38: 0.97699632 | AG38: RM1 | AH38: 1.9769963 | AI38: =IF(ISNA(AP38),#N/A,IF(ISNUMBER(AP38),AP38,#N/A)) -> 0.85195 | AM38: =IF(AND($X$16=5,$Y$16="N/A"),#N/A,VLOOKUP($AA$16,INDIRECT($W$16&"!$E$12:$H$155"),4,FALSE)) -> 0.83675 | AO38: =VLOOKUP($AG38,INDIRECT($W$16&"!$E$12:$I$155"),$X$16,FALSE) -> 0.85195 | AP38: =IF(OR(AND($X$16=5,$Y$16="N/A"), AND($W$16= "Ind10_Survival", $X$16=4)),#N/A,AO38) -> 0.85195
B39: 3YrSurv | C39: =INDEX(Lists!$A$152:$H$161,MATCH(View_Indicators!$B39,Lists!$D$152:$D$161,0),8) -> Number of people with early invasive breast cancer (stage 1-3A). | AF39: 0.98950262 | AG39: RGN | AH39: 1.9895026 | AI39: =IF(ISNA(AP39),#N/A,IF(ISNUMBER(AP39),AP39,#N/A)) -> 0.90224 | AM39: =IF(AND($X$16=5,$Y$16="N/A"),#N/A,VLOOKUP($AA$16,INDIRECT($W$16&"!$E$12:$H$155"),4,FALSE)) -> 0.83675 | AO39: =VLOOKUP($AG39,INDIRECT($W$16&"!$E$12:$I$155"),$X$16,FALSE) -> 0.90224 | AP39: =IF(OR(AND($X$16=5,$Y$16="N/A"), AND($W$16= "Ind10_Survival", $X$16=4)),#N/A,AO39) -> 0.90224
AF40: 0.09196575 | AG40: RQW | AH40: 1.0919658 | AI40: =IF(ISNA(AP40),#N/A,IF(ISNUMBER(AP40),AP40,#N/A)) -> 0.80969 | AM40: =IF(AND($X$16=5,$Y$16="N/A"),#N/A,VLOOKUP($AA$16,INDIRECT($W$16&"!$E$12:$H$155"),4,FALSE)) -> 0.83675 | AO40: =VLOOKUP($AG40,INDIRECT($W$16&"!$E$12:$I$155"),$X$16,FALSE) -> 0.80969 | AP40: =IF(OR(AND($X$16=5,$Y$16="N/A"), AND($W$16= "Ind10_Survival", $X$16=4)),#N/A,AO40) -> 0.80969
B41: KEY: DX = diagnosis, CX = chemotherapy, IR = immediate reconstruction, RX = radiotherapy | AC41: Target | AD41: 0.9 | AF41: 0.55983028 | AG41: RCX | AH41: 1.5598303 | AI41: =IF(ISNA(AP41),#N/A,IF(ISNUMBER(AP41),AP41,#N/A)) -> 0.87429 | AM41: =IF(AND($X$16=5,$Y$16="N/A"),#N/A,VLOOKUP($AA$16,INDIRECT($W$16&"!$E$12:$H$155"),4,FALSE)) -> 0.83675 | AO41: =VLOOKUP($AG41,INDIRECT($W$16&"!$E$12:$I$155"),$X$16,FALSE) -> 0.87429 | AP41: =IF(OR(AND($X$16=5,$Y$16="N/A"), AND($W$16= "Ind10_Survival", $X$16=4)),#N/A,AO41) -> 0.87429
AF42: 0.63810854 | AG42: RWG | AH42: 1.6381085 | AI42: =IF(ISNA(AP42),#N/A,IF(ISNUMBER(AP42),AP42,#N/A)) -> 0.89556 | AM42: =IF(AND($X$16=5,$Y$16="N/A"),#N/A,VLOOKUP($AA$16,INDIRECT($W$16&"!$E$12:$H$155"),4,FALSE)) -> 0.83675 | AO42: =VLOOKUP($AG42,INDIRECT($W$16&"!$E$12:$I$155"),$X$16,FALSE) -> 0.89556 | AP42: =IF(OR(AND($X$16=5,$Y$16="N/A"), AND($W$16= "Ind10_Survival", $X$16=4)),#N/A,AO42) -> 0.89556
...

Sheet Lists
A2: trust_name | B2: trust_code | C2: alliance_name | D2: alliance_code | E2: Country | F2: country_code | G2: Row_label | H2: Group_label | K2: Dropdown, trusts only, Wales then England
A3: Airedale NHS Foundation Trust | B3: RCF | C3: West Yorkshire and Harrogate | D3: E56000030 | E3: England | F3: E92000001 | G3: 1x030 | H3: =RIGHT(D3,3) -> 030 | K3: Aneurin Bevan University Health Board
A4: Aneurin Bevan University Health Board | B4: 7A6 | D4: W92 | E4: Wales | F4: W92000004 | G4: 6xW92 | H4: W92 | K4: Betsi Cadwaladr University Health Board
A5: Ashford and St Peter's Hospitals NHS Foundation Trust | B5: RTK | C5: Surrey and Sussex | D5: E56000012 | E5: England | F5: E92000001 | G5: 1x012 | H5: =RIGHT(D5,3) -> 012 | K5: Cardiff and Vale University Health Board
A6: Barking, Havering and Redbridge University Hospitals NHS Trust | B6: RF4 | C6: North East London | D6: E56000028 | E6: England | F6: E92000001 | G6: 1x028 | H6: =RIGHT(D6,3) -> 028 | K6: Cwm Taf Morgannwg University Health Board
A7: Barnsley Hospital NHS Foundation Trust | B7: RFF | C7: South Yorkshire and Bassetlaw | D7: E56000025 | E7: England | F7: E92000001 | G7: 1x025 | H7: =RIGHT(D7,3) -> 025 | K7: Hywel Dda University Health Board
A8: Barts Health NHS Trust | B8: R1H | C8: North East London | D8: E56000028 | E8: England | F8: E92000001 | G8: 2x028 | H8: =RIGHT(D8,3) -> 028 | K8: Swansea Bay University Health Board
A9: Bedfordshire Hospitals NHS Foundation Trust | B9: RC9 | C9: East of England | D9: E56000035 | E9: England | F9: E92000001 | G9: 1x035 | H9: =RIGHT(D9,3) -> 035 | K9: Airedale NHS Foundation Trust
A10: Betsi Cadwaladr University Health Board | B10: 7A1 | D10: W92 | E10: Wales | F10: W92000004 | G10: 1xW92 | H10: W92 | K10: Ashford and St Peter's Hospitals NHS Foundation Trust
A11: Blackpool Teaching Hospitals NHS Foundation Trust | B11: RXL | C11: Lancashire and South Cumbria | D11: E56000018 | E11: England | F11: E92000001 | G11: 1x018 | H11: =RIGHT(D11,3) -> 018 | K11: Barking, Havering and Redbridge University Hospitals NHS Trust
A12: Bolton NHS Foundation Trust | B12: RMC | C12: Greater Manchester | D12: E56000032 | E12: England | F12: E92000001 | G12: 1x032 | H12: =RIGHT(D12,3) -> 032 | K12: Barnsley Hospital NHS Foundation Trust
A13: Bradford Teaching Hospitals NHS Foundation Trust | B13: RAE | C13: West Yorkshire and Harrogate | D13: E56000030 | E13: England | F13: E92000001 | G13: 2x030 | H13: =RIGHT(D13,3) -> 030 | K13: Barts Health NHS Trust
A14: Buckinghamshire Healthcare NHS Trust | B14: RXQ | C14: Thames Valley | D14: E56000034 | E14: England | F14: E92000001 | G14: 1x034 | H14: =RIGHT(D14,3) -> 034 | K14: Bedfordshire Hospitals NHS Foundation Trust
A15: Calderdale and Huddersfield NHS Foundation Trust | B15: RWY | C15: West Yorkshire and Harrogate | D15: E56000030 | E15: England | F15: E92000001 | G15: 3x030 | H15: =RIGHT(D15,3) -> 030 | K15: Blackpool Teaching Hospitals NHS Foundation Trust
A16: Cambridge University Hospitals NHS Foundation Trust | B16: RGT | C16: East of England | D16: E56000035 | E16: England | F16: E92000001 | G16: 2x035 | H16: =RIGHT(D16,3) -> 035 | K16: Bolton NHS Foundation Trust
A17: Cardiff and Vale University Health Board | B17: 7A4 | D17: W92 | E17: Wales | F17: W92000004 | G17: 4xW92 | H17: W92 | K17: Bradford Teaching Hospitals NHS Foundation Trust
A18: Chelsea and Westminster Hospital NHS Foundation Trust | B18: RQM | C18: RM Partners | D18: E56000021 | E18: England | F18: E92000001 | G18: 1x021 | H18: =RIGHT(D18,3) -> 021 | K18: Buckinghamshire Healthcare NHS Trust
A19: Chesterfield Royal Hospital NHS Foundation Trust | B19: RFS | C19: East Midlands | D19: E56000031 | E19: England | F19: E92000001 | G19: 1x031 | H19: =RIGHT(D19,3) -> 031 | K19: Calderdale and Huddersfield NHS Foundation Trust
